Workbook

Sheet Мистецьких дисциплін
A1: Кафедра мистецьких дисциплін та методик їх навчання
A2: Кафедра мистецьких дисциплін та методик їх навчання | D2: ← назва кафедри для формул (не змінювати)
A4: Викладач | B4: Кількість анкет | C4: Середній бал
A5: Ільчук Ліна Петрівна | B5: =COUNTIFS('Відповіді форми (1)'!$AL$2:$AL$335,$A5,'Відповіді форми (1)'!$E$2:$E$335,$A$2) -> 19 | C5: =IFERROR(AVERAGEIFS('Відповіді форми (1)'!$AM$2:$AM$335,'Відповіді форми (1)'!$AL$2:$AL$335,$A5,'Відповіді форми (1)'!$E$2:$E$335,$A$2),"") -> 4.9307479
A6: Афанасенко Алла Миколаївна | B6: =COUNTIFS('Відповіді форми (1)'!$AL$2:$AL$335,$A6,'Відповіді форми (1)'!$E$2:$E$335,$A$2) -> 4 | C6: =IFERROR(AVERAGEIFS('Відповіді форми (1)'!$AM$2:$AM$335,'Відповіді форми (1)'!$AL$2:$AL$335,$A6,'Відповіді форми (1)'!$E$2:$E$335,$A$2),"") -> 4.8684211
A7: Балбус Тетяна Анатоліївна | B7: =COUNTIFS('Відповіді форми (1)'!$AL$2:$AL$335,$A7,'Відповіді форми (1)'!$E$2:$E$335,$A$2) -> 7 | C7: =IFERROR(AVERAGEIFS('Відповіді форми (1)'!$AM$2:$AM$335,'Відповіді форми (1)'!$AL$2:$AL$335,$A7,'Відповіді форми (1)'!$E$2:$E$335,$A$2),"") -> 4.4586466
A8: Гуральна Світлана Степанівна | B8: =COUNTIFS('Відповіді форми (1)'!$AL$2:$AL$335,$A8,'Відповіді форми (1)'!$E$2:$E$335,$A$2) -> 4 | C8: =IFERROR(AVERAGEIFS('Відповіді форми (1)'!$AM$2:$AM$335,'Відповіді форми (1)'!$AL$2:$AL$335,$A8,'Відповіді форми (1)'!$E$2:$E$335,$A$2),"") -> 4.75
A9: Козачок Володимир Север'янович | B9: =COUNTIFS('Відповіді форми (1)'!$AL$2:$AL$335,$A9,'Відповіді форми (1)'!$E$2:$E$335,$A$2) -> 1 | C9: =IFERROR(AVERAGEIFS('Відповіді форми (1)'!$AM$2:$AM$335,'Відповіді форми (1)'!$AL$2:$AL$335,$A9,'Відповіді форми (1)'!$E$2:$E$335,$A$2),"") -> 5
A10: Лабунська Вікторія Олегівна | B10: =COUNTIFS('Відповіді форми (1)'!$AL$2:$AL$335,$A10,'Відповіді форми (1)'!$E$2:$E$335,$A$2) -> 1 | C10: =IFERROR(AVERAGEIFS('Відповіді форми (1)'!$AM$2:$AM$335,'Відповіді форми (1)'!$AL$2:$AL$335,$A10,'Відповіді форми (1)'!$E$2:$E$335,$A$2),"") -> 5
A11: Легкун Оксана Гаврилівна | B11: =COUNTIFS('Відповіді форми (1)'!$AL$2:$AL$335,$A11,'Відповіді форми (1)'!$E$2:$E$335,$A$2) -> 5 | C11: =IFERROR(AVERAGEIFS('Відповіді форми (1)'!$AM$2:$AM$335,'Відповіді форми (1)'!$AL$2:$AL$335,$A11,'Відповіді форми (1)'!$E$2:$E$335,$A$2),"") -> 5
A12: Мельник Юлія Ярославівна | B12: =COUNTIFS('Відповіді форми (1)'!$AL$2:$AL$335,$A12,'Відповіді форми (1)'!$E$2:$E$335,$A$2) -> 4 | C12: =IFERROR(AVERAGEIFS('Відповіді форми (1)'!$AM$2:$AM$335,'Відповіді форми (1)'!$AL$2:$AL$335,$A12,'Відповіді форми (1)'!$E$2:$E$335,$A$2),"") -> 4.9473684
A13: Олійник Світлана Олегівна | B13: =COUNTIFS('Відповіді форми (1)'!$AL$2:$AL$335,$A13,'Відповіді форми (1)'!$E$2:$E$335,$A$2) -> 13 | C13: =IFERROR(AVERAGEIFS('Відповіді форми (1)'!$AM$2:$AM$335,'Відповіді форми (1)'!$AL$2:$AL$335,$A13,'Відповіді форми (1)'!$E$2:$E$335,$A$2),"") -> 4.8299595
A14: Панфілова Олександра Георгіївна | B14: =COUNTIFS('Відповіді форми (1)'!$AL$2:$AL$335,$A14,'Відповіді форми (1)'!$E$2:$E$335,$A$2) -> 2 | C14: =IFERROR(AVERAGEIFS('Відповіді форми (1)'!$AM$2:$AM$335,'Відповіді форми (1)'!$AL$2:$AL$335,$A14,'Відповіді форми (1)'!$E$2:$E$335,$A$2),"") -> 5
A15: Погонець Іванна Василівна | B15: =COUNTIFS('Відповіді форми (1)'!$AL$2:$AL$335,$A15,'Відповіді форми (1)'!$E$2:$E$335,$A$2) -> 1 | C15: =IFERROR(AVERAGEIFS('Відповіді форми (1)'!$AM$2:$AM$335,'Відповіді форми (1)'!$AL$2:$AL$335,$A15,'Відповіді форми (1)'!$E$2:$E$335,$A$2),"") -> 4.8421053
A16: Райчук Василь Михайлович | B16: =COUNTIFS('Відповіді форми (1)'!$AL$2:$AL$335,$A16,'Відповіді форми (1)'!$E$2:$E$335,$A$2) -> 4 | C16: =IFERROR(AVERAGEIFS('Відповіді форми (1)'!$AM$2:$AM$335,'Відповіді форми (1)'!$AL$2:$AL$335,$A16,'Відповіді форми (1)'!$E$2:$E$335,$A$2),"") -> 4.8552632
... A25: Яловський Павло Михайлович | B25: =COUNTIFS('Відповіді форми (1)'!$AL$2:$AL$335,$A25,'Відповіді форми (1)'!$E$2:$E$335,$A$2) -> 2 | C25: =IFERROR(AVERAGEIFS('Відповіді форми (1)'!$AM$2:$AM$335,'Відповіді форми (1)'!$AL$2:$AL$335,$A25,'Відповіді форми (1)'!$E$2:$E$335,$A$2),"") -> 4.6578947

Sheet Педагогіки, дошк. і поч. осв.
A1: Кафедра педагогіки, дошкільної та початкової освіти
A2: Кафедра педагогіки, дошкільної та початкової освіти | D2: ← назва кафедри для формул (не змінювати)
A4: Викладач | B4: Кількість анкет | C4: Середній бал
A5: Бенера Валентина Єфремівна | B5: =COUNTIFS('Відповіді форми (1)'!$AL$2:$AL$335,$A5,'Відповіді форми (1)'!$E$2:$E$335,$A$2) -> 5 | C5: =IFERROR(AVERAGEIFS('Відповіді форми (1)'!$AM$2:$AM$335,'Відповіді форми (1)'!$AL$2:$AL$335,$A5,'Відповіді форми (1)'!$E$2:$E$335,$A$2),"") -> 4.1789474
A6: Врочинська Людмила Ігорівна | B6: =COUNTIFS('Відповіді форми (1)'!$AL$2:$AL$335,$A6,'Відповіді форми (1)'!$E$2:$E$335,$A$2) -> 7 | C6: =IFERROR(AVERAGEIFS('Відповіді форми (1)'!$AM$2:$AM$335,'Відповіді форми (1)'!$AL$2:$AL$335,$A6,'Відповіді форми (1)'!$E$2:$E$335,$A$2),"") -> 4.9473684
A7: Доманюк Оксана Михайлівна | B7: =COUNTIFS('Відповіді форми (1)'!$AL$2:$AL$335,$A7,'Відповіді форми (1)'!$E$2:$E$335,$A$2) -> 6 | C7: =IFERROR(AVERAGEIFS('Відповіді форми (1)'!$AM$2:$AM$335,'Відповіді форми (1)'!$AL$2:$AL$335,$A7,'Відповіді форми (1)'!$E$2:$E$335,$A$2),"") -> 5
A8: Кравець Любов Михайлівна | B8: =COUNTIFS('Відповіді форми (1)'!$AL$2:$AL$335,$A8,'Відповіді форми (1)'!$E$2:$E$335,$A$2) -> 3 | C8: =IFERROR(AVERAGEIFS('Відповіді форми (1)'!$AM$2:$AM$335,'Відповіді форми (1)'!$AL$2:$AL$335,$A8,'Відповіді форми (1)'!$E$2:$E$335,$A$2),"") -> 4.9824561
A9: Онищук Ірина Анатоліївна | B9: =COUNTIFS('Відповіді форми (1)'!$AL$2:$AL$335,$A9,'Відповіді форми (1)'!$E$2:$E$335,$A$2) -> 6 | C9: =IFERROR(AVERAGEIFS('Відповіді форми (1)'!$AM$2:$AM$335,'Відповіді форми (1)'!$AL$2:$AL$335,$A9,'Відповіді форми (1)'!$E$2:$E$335,$A$2),"") -> 4.6929825
A10: Павелко Вікторія Вікторівна | B10: =COUNTIFS('Відповіді форми (1)'!$AL$2:$AL$335,$A10,'Відповіді форми (1)'!$E$2:$E$335,$A$2) -> 5 | C10: =IFERROR(AVERAGEIFS('Відповіді форми (1)'!$AM$2:$AM$335,'Відповіді форми (1)'!$AL$2:$AL$335,$A10,'Відповіді форми (1)'!$E$2:$E$335,$A$2),"") -> 4.8631579
A11: Приймас Наталія Володимирівна | B11: =COUNTIFS('Відповіді форми (1)'!$AL$2:$AL$335,$A11,'Відповіді форми (1)'!$E$2:$E$335,$A$2) -> 9 | C11: =IFERROR(AVERAGEIFS('Відповіді форми (1)'!$AM$2:$AM$335,'Відповіді форми (1)'!$AL$2:$AL$335,$A11,'Відповіді форми (1)'!$E$2:$E$335,$A$2),"") -> 4.8479532
A12: Фасолько Тетяна Степанівна | B12: =COUNTIFS('Відповіді форми (1)'!$AL$2:$AL$335,$A12,'Відповіді форми (1)'!$E$2:$E$335,$A$2) -> 4 | C12: =IFERROR(AVERAGEIFS('Відповіді форми (1)'!$AM$2:$AM$335,'Відповіді форми (1)'!$AL$2:$AL$335,$A12,'Відповіді форми (1)'!$E$2:$E$335,$A$2),"") -> 4.9605263
A13: Швець Оксана Вікторівна | B13: =COUNTIFS('Відповіді форми (1)'!$AL$2:$AL$335,$A13,'Відповіді форми (1)'!$E$2:$E$335,$A$2) -> 12 | C13: =IFERROR(AVERAGEIFS('Відповіді форми (1)'!$AM$2:$AM$335,'Відповіді форми (1)'!$AL$2:$AL$335,$A13,'Відповіді форми (1)'!$E$2:$E$335,$A$2),"") -> 4.9868421

Sheet Української мови і літератури
A1: Кафедра української мови і літератури та методик їх навчання
A2: Кафедра української мови і літератури та методик їх навчання | D2: ← назва кафедри для формул (не змінювати)
A4: Викладач | B4: Кількість анкет | C4: Середній бал
A5: Василишин Олег Васильович | B5: =COUNTIFS('Відповіді форми (1)'!$AL$2:$AL$335,$A5,'Відповіді форми (1)'!$E$2:$E$335,$A$2) -> 11 | C5: =IFERROR(AVERAGEIFS('Відповіді форми (1)'!$AM$2:$AM$335,'Відповіді форми (1)'!$AL$2:$AL$335,$A5,'Відповіді форми (1)'!$E$2:$E$335,$A$2),"") -> 4.9712919
A6: Волянюк Інна Оверківна | B6: =COUNTIFS('Відповіді форми (1)'!$AL$2:$AL$335,$A6,'Відповіді форми (1)'!$E$2:$E$335,$A$2) -> 12 | C6: =IFERROR(AVERAGEIFS('Відповіді форми (1)'!$AM$2:$AM$335,'Відповіді форми (1)'!$AL$2:$AL$335,$A6,'Відповіді форми (1)'!$E$2:$E$335,$A$2),"") -> 4.754386
A7: Комінярська Ірина Миколаївна | B7: =COUNTIFS('Відповіді форми (1)'!$AL$2:$AL$335,$A7,'Відповіді форми (1)'!$E$2:$E$335,$A$2) -> 7 | C7: =IFERROR(AVERAGEIFS('Відповіді форми (1)'!$AM$2:$AM$335,'Відповіді форми (1)'!$AL$2:$AL$335,$A7,'Відповіді форми (1)'!$E$2:$E$335,$A$2),"") -> 4.9699248
A8: Назарець Віталій Миколайович | B8: =COUNTIFS('Відповіді форми (1)'!$AL$2:$AL$335,$A8,'Відповіді форми (1)'!$E$2:$E$335,$A$2) -> 6 | C8: =IFERROR(AVERAGEIFS('Відповіді форми (1)'!$AM$2:$AM$335,'Відповіді форми (1)'!$AL$2:$AL$335,$A8,'Відповіді форми (1)'!$E$2:$E$335,$A$2),"") -> 5
A9: Поляк Ірина Павлівна | B9: =COUNTIFS('Відповіді форми (1)'!$AL$2:$AL$335,$A9,'Відповіді форми (1)'!$E$2:$E$335,$A$2) -> 4 | C9: =IFERROR(AVERAGEIFS('Відповіді форми (1)'!$AM$2:$AM$335,'Відповіді форми (1)'!$AL$2:$AL$335,$A9,'Відповіді форми (1)'!$E$2:$E$335,$A$2),"") -> 5

Sheet Психології і соц. роботи
A1: Кафедра психології і соціальної роботи
A2: Кафедра психології і соціальної роботи | D2: ← назва кафедри для формул (не змінювати)
A4: Викладач | B4: Кількість анкет | C4: Середній бал
A5: Боднар Марія Богданівна | B5: =COUNTIFS('Відповіді форми (1)'!$AL$2:$AL$335,$A5,'Відповіді форми (1)'!$E$2:$E$335,$A$2) -> 5 | C5: =IFERROR(AVERAGEIFS('Відповіді форми (1)'!$AM$2:$AM$335,'Відповіді форми (1)'!$AL$2:$AL$335,$A5,'Відповіді форми (1)'!$E$2:$E$335,$A$2),"") -> 4.2842105
A6: Долга Тетяна Олександрійвна | B6: =COUNTIFS('Відповіді форми (1)'!$AL$2:$AL$335,$A6,'Відповіді форми (1)'!$E$2:$E$335,$A$2) -> 1 | C6: =IFERROR(AVERAGEIFS('Відповіді форми (1)'!$AM$2:$AM$335,'Відповіді форми (1)'!$AL$2:$AL$335,$A6,'Відповіді форми (1)'!$E$2:$E$335,$A$2),"") -> 5
A7: Заблоцький Андрій Русланович | B7: =COUNTIFS('Відповіді форми (1)'!$AL$2:$AL$335,$A7,'Відповіді форми (1)'!$E$2:$E$335,$A$2) -> 2 | C7: =IFERROR(AVERAGEIFS('Відповіді форми (1)'!$AM$2:$AM$335,'Відповіді форми (1)'!$AL$2:$AL$335,$A7,'Відповіді форми (1)'!$E$2:$E$335,$A$2),"") -> 5
A8: Новак Тетяна Віталіївна | B8: =COUNTIFS('Відповіді форми (1)'!$AL$2:$AL$335,$A8,'Відповіді форми (1)'!$E$2:$E$335,$A$2) -> 5 | C8: =IFERROR(AVERAGEIFS('Відповіді форми (1)'!$AM$2:$AM$335,'Відповіді форми (1)'!$AL$2:$AL$335,$A8,'Відповіді форми (1)'!$E$2:$E$335,$A$2),"") -> 4.6315789
A9: Терпелюк Володимир Володимирович | B9: =COUNTIFS('Відповіді форми (1)'!$AL$2:$AL$335,$A9,'Відповіді форми (1)'!$E$2:$E$335,$A$2) -> 1 | C9: =IFERROR(AVERAGEIFS('Відповіді форми (1)'!$AM$2:$AM$335,'Відповіді форми (1)'!$AL$2:$AL$335,$A9,'Відповіді форми (1)'!$E$2:$E$335,$A$2),"") -> 4.8421053
A10: Тимош Юлія Володимирівна | B10: =COUNTIFS('Відповіді форми (1)'!$AL$2:$AL$335,$A10,'Відповіді форми (1)'!$E$2:$E$335,$A$2) -> 2 | C10: =IFERROR(AVERAGEIFS('Відповіді форми (1)'!$AM$2:$AM$335,'Відповіді форми (1)'!$AL$2:$AL$335,$A10,'Відповіді форми (1)'!$E$2:$E$335,$A$2),"") -> 5
A11: Ярощук Маріанна Володимирівна | B11: =COUNTIFS('Відповіді форми (1)'!$AL$2:$AL$335,$A11,'Відповіді форми (1)'!$E$2:$E$335,$A$2) -> 14 | C11: =IFERROR(AVERAGEIFS('Відповіді форми (1)'!$AM$2:$AM$335,'Відповіді форми (1)'!$AL$2:$AL$335,$A11,'Відповіді форми (1)'!$E$2:$E$335,$A$2),"") -> 4.9887218

Sheet Біології та екології
A1: Кафедра біології, екології та методики їх навчання
A2: Кафедра біології, екології та методики їх навчання | D2: ← назва кафедри для формул (не змінювати)
A4: Викладач | B4: Кількість анкет | C4: Середній бал
A5: Ільєнко Микола Микитович | B5: =COUNTIFS('Відповіді форми (1)'!$AL$2:$AL$335,$A5,'Відповіді форми (1)'!$E$2:$E$335,$A$2) -> 1 | C5: =IFERROR(AVERAGEIFS('Відповіді форми (1)'!$AM$2:$AM$335,'Відповіді форми (1)'!$AL$2:$AL$335,$A5,'Відповіді форми (1)'!$E$2:$E$335,$A$2),"") -> 1.3684211
A6: Галаган Оксана Костянтинівна | B6: =COUNTIFS('Відповіді форми (1)'!$AL$2:$AL$335,$A6,'Відповіді форми (1)'!$E$2:$E$335,$A$2) -> 4 | C6: =IFERROR(AVERAGEIFS('Відповіді форми (1)'!$AM$2:$AM$335,'Відповіді форми (1)'!$AL$2:$AL$335,$A6,'Відповіді форми (1)'!$E$2:$E$335,$A$2),"") -> 4.9473684
A7: Головатюк Людмила Михайлівна | B7: =COUNTIFS('Відповіді форми (1)'!$AL$2:$AL$335,$A7,'Відповіді форми (1)'!$E$2:$E$335,$A$2) -> 7 | C7: =IFERROR(AVERAGEIFS('Відповіді форми (1)'!$AM$2:$AM$335,'Відповіді форми (1)'!$AL$2:$AL$335,$A7,'Відповіді форми (1)'!$E$2:$E$335,$A$2),"") -> 4.7142857
A8: Гура Антоніна Миколаївна | B8: =COUNTIFS('Відповіді форми (1)'!$AL$2:$AL$335,$A8,'Відповіді форми (1)'!$E$2:$E$335,$A$2) -> 2 | C8: =IFERROR(AVERAGEIFS('Відповіді форми (1)'!$AM$2:$AM$335,'Відповіді форми (1)'!$AL$2:$AL$335,$A8,'Відповіді форми (1)'!$E$2:$E$335,$A$2),"") -> 5
A9: Гурська Оксана Вікторівна | B9: =COUNTIFS('Відповіді форми (1)'!$AL$2:$AL$335,$A9,'Відповіді форми (1)'!$E$2:$E$335,$A$2) -> 1 | C9: =IFERROR(AVERAGEIFS('Відповіді форми (1)'!$AM$2:$AM$335,'Відповіді форми (1)'!$AL$2:$AL$335,$A9,'Відповіді форми (1)'!$E$2:$E$335,$A$2),"") -> 5
A10: Дух Ольга Ігорівна | B10: =COUNTIFS('Відповіді форми (1)'!$AL$2:$AL$335,$A10,'Відповіді форми (1)'!$E$2:$E$335,$A$2) -> 2 | C10: =IFERROR(AVERAGEIFS('Відповіді форми (1)'!$AM$2:$AM$335,'Відповіді форми (1)'!$AL$2:$AL$335,$A10,'Відповіді форми (1)'!$E$2:$E$335,$A$2),"") -> 3.9736842
A11: Кратко Ольга Вікторівна | B11: =COUNTIFS('Відповіді форми (1)'!$AL$2:$AL$335,$A11,'Відповіді форми (1)'!$E$2:$E$335,$A$2) -> 3 | C11: =IFERROR(AVERAGEIFS('Відповіді форми (1)'!$AM$2:$AM$335,'Відповіді форми (1)'!$AL$2:$AL$335,$A11,'Відповіді форми (1)'!$E$2:$E$335,$A$2),"") -> 4.8070175
A12: Михалюк Ілона Михайлівна | B12: =COUNTIFS('Відповіді форми (1)'!$AL$2:$AL$335,$A12,'Відповіді форми (1)'!$E$2:$E$335,$A$2) -> 3 | C12: =IFERROR(AVERAGEIFS('Відповіді форми (1)'!$AM$2:$AM$335,'Відповіді форми (1)'!$AL$2:$AL$335,$A12,'Відповіді форми (1)'!$E$2:$E$335,$A$2),"") -> 5
A13: Тригуба Олена Василівна | B13: =COUNTIFS('Відповіді форми (1)'!$AL$2:$AL$335,$A13,'Відповіді форми (1)'!$E$2:$E$335,$A$2) -> 3 | C13: =IFERROR(AVERAGEIFS('Відповіді форми (1)'!$AM$2:$AM$335,'Відповіді форми (1)'!$AL$2:$AL$335,$A13,'Відповіді форми (1)'!$E$2:$E$335,$A$2),"") -> 4.877193

Sheet Трудового навчання
A1: Кафедра теорії і методики трудового навчання та технологій
A2: Кафедра теорії і методики трудового навчання та технологій | D2: ← назва кафедри для формул (не змінювати)
A4: Викладач | B4: Кількість анкет | C4: Середній бал
A5: Ємець Олександр Павлович | B5: =COUNTIFS('Відповіді форми (1)'!$AL$2:$AL$335,$A5,'Відповіді форми (1)'!$E$2:$E$335,$A$2) -> 1 | C5: =IFERROR(AVERAGEIFS('Відповіді форми (1)'!$AM$2:$AM$335,'Відповіді форми (1)'!$AL$2:$AL$335,$A5,'Відповіді форми (1)'!$E$2:$E$335,$A$2),"") -> 5
A6: Гарматюк Ростислав Тарасович | B6: =COUNTIFS('Відповіді форми (1)'!$AL$2:$AL$335,$A6,'Відповіді форми (1)'!$E$2:$E$335,$A$2) -> 2 | C6: =IFERROR(AVERAGEIFS('Відповіді форми (1)'!$AM$2:$AM$335,'Відповіді форми (1)'!$AL$2:$AL$335,$A6,'Відповіді форми (1)'!$E$2:$E$335,$A$2),"") -> 4.6052632
A7: Курач Микола Станіславович | B7: =COUNTIFS('Відповіді форми (1)'!$AL$2:$AL$335,$A7,'Відповіді форми (1)'!$E$2:$E$335,$A$2) -> 1 | C7: =IFERROR(AVERAGEIFS('Відповіді форми (1)'!$AM$2:$AM$335,'Відповіді форми (1)'!$AL$2:$AL$335,$A7,'Відповіді форми (1)'!$E$2:$E$335,$A$2),"") -> 5
A8: Олексюк Марія Петрівна | B8: =COUNTIFS('Відповіді форми (1)'!$AL$2:$AL$335,$A8,'Відповіді форми (1)'!$E$2:$E$335,$A$2) -> 4 | C8: =IFERROR(AVERAGEIFS('Відповіді форми (1)'!$AM$2:$AM$335,'Відповіді форми (1)'!$AL$2:$AL$335,$A8,'Відповіді форми (1)'!$E$2:$E$335,$A$2),"") -> 4.8552632
A9: Омельчук Олександр Васильович | B9: =COUNTIFS('Відповіді форми (1)'!$AL$2:$AL$335,$A9,'Відповіді форми (1)'!$E$2:$E$335,$A$2) -> 4 | C9: =IFERROR(AVERAGEIFS('Відповіді форми (1)'!$AM$2:$AM$335,'Відповіді форми (1)'!$AL$2:$AL$335,$A9,'Відповіді форми (1)'!$E$2:$E$335,$A$2),"") -> 5
A10: Томашівський Сергій Михайлович | B10: =COUNTIFS('Відповіді форми (1)'!$AL$2:$AL$335,$A10,'Відповіді форми (1)'!$E$2:$E$335,$A$2) -> 1 | C10: =IFERROR(AVERAGEIFS('Відповіді форми (1)'!$AM$2:$AM$335,'Відповіді форми (1)'!$AL$2:$AL$335,$A10,'Відповіді форми (1)'!$E$2:$E$335,$A$2),"") -> 5
A11: Цісарук Ірина Василівна | B11: =COUNTIFS('Відповіді форми (1)'!$AL$2:$AL$335,$A11,'Відповіді форми (1)'!$E$2:$E$335,$A$2) -> 10 | C11: =IFERROR(AVERAGEIFS('Відповіді форми (1)'!$AM$2:$AM$335,'Відповіді форми (1)'!$AL$2:$AL$335,$A11,'Відповіді форми (1)'!$E$2:$E$335,$A$2),"") -> 4.9947368
A12: Шабага Степан Богданович | B12: =COUNTIFS('Відповіді форми (1)'!$AL$2:$AL$335,$A12,'Відповіді форми (1)'!$E$2:$E$335,$A$2) -> 3 | C12: =IFERROR(AVERAGEIFS('Відповіді форми (1)'!$AM$2:$AM$335,'Відповіді форми (1)'!$AL$2:$AL$335,$A12,'Відповіді форми (1)'!$E$2:$E$335,$A$2),"") -> 4.9473684

Sheet Іноземних мов
A1: Кафедра іноземних мов та методик їх навчання
A2: Кафедра іноземних мов та методик їх навчання | D2: ← назва кафедри для формул (не змінювати)
A4: Викладач | B4: Кількість анкет | C4: Середній бал
A5: Долга Тетяна Олександрівна | B5: =COUNTIFS('Відповіді форми (1)'!$AL$2:$AL$335,$A5,'Відповіді форми (1)'!$E$2:$E$335,$A$2) -> 1 | C5: =IFERROR(AVERAGEIFS('Відповіді форми (1)'!$AM$2:$AM$335,'Відповіді форми (1)'!$AL$2:$AL$335,$A5,'Відповіді форми (1)'!$E$2:$E$335,$A$2),"") -> 5
A6: Завадський Юрій Романович | B6: =COUNTIFS('Відповіді форми (1)'!$AL$2:$AL$335,$A6,'Відповіді форми (1)'!$E$2:$E$335,$A$2) -> 3 | C6: =IFERROR(AVERAGEIFS('Відповіді форми (1)'!$AM$2:$AM$335,'Відповіді форми (1)'!$AL$2:$AL$335,$A6,'Відповіді форми (1)'!$E$2:$E$335,$A$2),"") -> 4.9649123
A7: Кучер Василь Васильович | B7: =COUNTIFS('Відповіді форми (1)'!$AL$2:$AL$335,$A7,'Відповіді форми (1)'!$E$2:$E$335,$A$2) -> 2 | C7: =IFERROR(AVERAGEIFS('Відповіді форми (1)'!$AM$2:$AM$335,'Відповіді форми (1)'!$AL$2:$AL$335,$A7,'Відповіді форми (1)'!$E$2:$E$335,$A$2),"") -> 2.8947368
A8: Марунько Орися Адамівна | B8: =COUNTIFS('Відповіді форми (1)'!$AL$2:$AL$335,$A8,'Відповіді форми (1)'!$E$2:$E$335,$A$2) -> 5 | C8: =IFERROR(AVERAGEIFS('Відповіді форми (1)'!$AM$2:$AM$335,'Відповіді форми (1)'!$AL$2:$AL$335,$A8,'Відповіді форми (1)'!$E$2:$E$335,$A$2),"") -> 3.4
A9: Собчук Ольга Богданівна | B9: =COUNTIFS('Відповіді форми (1)'!$AL$2:$AL$335,$A9,'Відповіді форми (1)'!$E$2:$E$335,$A$2) -> 2 | C9: =IFERROR(AVERAGEIFS('Відповіді форми (1)'!$AM$2:$AM$335,'Відповіді форми (1)'!$AL$2:$AL$335,$A9,'Відповіді форми (1)'!$E$2:$E$335,$A$2),"") -> 5
A10: Чик Денис Чабович | B10: =COUNTIFS('Відповіді форми (1)'!$AL$2:$AL$335,$A10,'Відповіді форми (1)'!$E$2:$E$335,$A$2) -> 4 | C10: =IFERROR(AVERAGEIFS('Відповіді форми (1)'!$AM$2:$AM$335,'Відповіді форми (1)'!$AL$2:$AL$335,$A10,'Відповіді форми (1)'!$E$2:$E$335,$A$2),"") -> 4.9736842
A11: Янков Анатолій Вікторович | B11: =COUNTIFS('Відповіді форми (1)'!$AL$2:$AL$335,$A11,'Відповіді форми (1)'!$E$2:$E$335,$A$2) -> 1 | C11: =IFERROR(AVERAGEIFS('Відповіді форми (1)'!$AM$2:$AM$335,'Відповіді форми (1)'!$AL$2:$AL$335,$A11,'Відповіді форми (1)'!$E$2:$E$335,$A$2),"") -> 1.0526316
A12: Янусь Наталя Володимирівна | B12: =COUNTIFS('Відповіді форми (1)'!$AL$2:$AL$335,$A12,'Відповіді форми (1)'!$E$2:$E$335,$A$2) -> 2 | C12: =IFERROR(AVERAGEIFS('Відповіді форми (1)'!$AM$2:$AM$335,'Відповіді форми (1)'!$AL$2:$AL$335,$A12,'Відповіді форми (1)'!$E$2:$E$335,$A$2),"") -> 5
A13: Яценюк Надія Іванівна | B13: =COUNTIFS('Відповіді форми (1)'!$AL$2:$AL$335,$A13,'Відповіді форми (1)'!$E$2:$E$335,$A$2) -> 1 | C13: =IFERROR(AVERAGEIFS('Відповіді форми (1)'!$AM$2:$AM$335,'Відповіді форми (1)'!$AL$2:$AL$335,$A13,'Відповіді форми (1)'!$E$2:$E$335,$A$2),"") -> 5

Sheet Історії та методики навчання
A1: Кафедра історії та методики навчання
A2: Кафедра історії та методики навчання | D2: ← назва кафедри для формул (не змінювати)
A4: Викладач | B4: Кількість анкет | C4: Середній бал
A5: Мороз Олена Василівна | B5: =COUNTIFS('Відповіді форми (1)'!$AL$2:$AL$335,$A5,'Відповіді форми (1)'!$E$2:$E$335,$A$2) -> 1 | C5: =IFERROR(AVERAGEIFS('Відповіді форми (1)'!$AM$2:$AM$335,'Відповіді форми (1)'!$AL$2:$AL$335,$A5,'Відповіді форми (1)'!$E$2:$E$335,$A$2),"") -> 5
A6: Сеньківська Галина Ярославівна | B6: =COUNTIFS('Відповіді форми (1)'!$AL$2:$AL$335,$A6,'Відповіді форми (1)'!$E$2:$E$335,$A$2) -> 2 | C6: =IFERROR(AVERAGEIFS('Відповіді форми (1)'!$AM$2:$AM$335,'Відповіді форми (1)'!$AL$2:$AL$335,$A6,'Відповіді форми (1)'!$E$2:$E$335,$A$2),"") -> 4.9210526
A7: Скакальська Ірина Богданівна | B7: =COUNTIFS('Відповіді форми (1)'!$AL$2:$AL$335,$A7,'Відповіді форми (1)'!$E$2:$E$335,$A$2) -> 5 | C7: =IFERROR(AVERAGEIFS('Відповіді форми (1)'!$AM$2:$AM$335,'Відповіді форми (1)'!$AL$2:$AL$335,$A7,'Відповіді форми (1)'!$E$2:$E$335,$A$2),"") -> 5
A8: Собчук Володимир Дмитрович | B8: =COUNTIFS('Відповіді форми (1)'!$AL$2:$AL$335,$A8,'Відповіді форми (1)'!$E$2:$E$335,$A$2) -> 1 | C8: =IFERROR(AVERAGEIFS('Відповіді форми (1)'!$AM$2:$AM$335,'Відповіді форми (1)'!$AL$2:$AL$335,$A8,'Відповіді форми (1)'!$E$2:$E$335,$A$2),"") -> 5
A9: Стронський Генріх Йосипович | B9: =COUNTIFS('Відповіді форми (1)'!$AL$2:$AL$335,$A9,'Відповіді форми (1)'!$E$2:$E$335,$A$2) -> 1 | C9: =IFERROR(AVERAGEIFS('Відповіді форми (1)'!$AM$2:$AM$335,'Відповіді форми (1)'!$AL$2:$AL$335,$A9,'Відповіді форми (1)'!$E$2:$E$335,$A$2),"") -> 5

Sheet ІТ та методики інформатики
A1: Кафедра інформаційних технологій та методики навчання інформатики
A2: Кафедра інформаційних технологій та методики навчання інформатики | D2: ← назва кафедри для формул (не змінювати)
A4: Викладач | B4: Кількість анкет | C4: Середній бал
A5: Бабій Надія Василівна | B5: =COUNTIFS('Відповіді форми (1)'!$AL$2:$AL$335,$A5,'Відповіді форми (1)'!$E$2:$E$335,$A$2) -> 3 | C5: =IFERROR(AVERAGEIFS('Відповіді форми (1)'!$AM$2:$AM$335,'Відповіді форми (1)'!$AL$2:$AL$335,$A5,'Відповіді форми (1)'!$E$2:$E$335,$A$2),"") -> 4.8070175
A6: Галаган Ігор Миколайович | B6: =COUNTIFS('Відповіді форми (1)'!$AL$2:$AL$335,$A6,'Відповіді форми (1)'!$E$2:$E$335,$A$2) -> 4 | C6: =IFERROR(AVERAGEIFS('Відповіді форми (1)'!$AM$2:$AM$335,'Відповіді форми (1)'!$AL$2:$AL$335,$A6,'Відповіді форми (1)'!$E$2:$E$335,$A$2),"") -> 4.7236842
A7: Клак Дмитро Сергійович | B7: =COUNTIFS('Відповіді форми (1)'!$AL$2:$AL$335,$A7,'Відповіді форми (1)'!$E$2:$E$335,$A$2) -> 1 | C7: =IFERROR(AVERAGEIFS('Відповіді форми (1)'!$AM$2:$AM$335,'Відповіді форми (1)'!$AL$2:$AL$335,$A7,'Відповіді форми (1)'!$E$2:$E$335,$A$2),"") -> 4.8421053
A8: Фурман Олена Андріївна | B8: =COUNTIFS('Відповіді форми (1)'!$AL$2:$AL$335,$A8,'Відповіді форми (1)'!$E$2:$E$335,$A$2) -> 1 | C8: =IFERROR(AVERAGEIFS('Відповіді форми (1)'!$AM$2:$AM$335,'Відповіді форми (1)'!$AL$2:$AL$335,$A8,'Відповіді форми (1)'!$E$2:$E$335,$A$2),"") -> 5

Sheet Теор.-біол. основи фізвиховання
A1: Кафедра теоретико-біологічних основ фізичного виховання
A2: Кафедра теоретико-біологічних основ фізичного виховання | D2: ← назва кафедри для формул (не змінювати)
A4: Викладач | B4: Кількість анкет | C4: Середній бал
A5: Кучер Тетяна Василівна | B5: =COUNTIFS('Відповіді форми (1)'!$AL$2:$AL$335,$A5,'Відповіді форми (1)'!$E$2:$E$335,$A$2) -> 1 | C5: =IFERROR(AVERAGEIFS('Відповіді форми (1)'!$AM$2:$AM$335,'Відповіді форми (1)'!$AL$2:$AL$335,$A5,'Відповіді форми (1)'!$E$2:$E$335,$A$2),"") -> 5
A6: Левандовська Любов Юріївна | B6: =COUNTIFS('Відповіді форми (1)'!$AL$2:$AL$335,$A6,'Відповіді форми (1)'!$E$2:$E$335,$A$2) -> 2 | C6: =IFERROR(AVERAGEIFS('Відповіді форми (1)'!$AM$2:$AM$335,'Відповіді форми (1)'!$AL$2:$AL$335,$A6,'Відповіді форми (1)'!$E$2:$E$335,$A$2),"") -> 4.6052632

Sheet Теорія і методика фізвиховання
A1: Кафедра теорії та методики фізичного виховання
A2: Кафедра теорії та методики фізичного виховання | D2: ← назва кафедри для формул (не змінювати)
A4: Викладач | B4: Кількість анкет | C4: Середній бал
A5: Голуб Віктор Анатолійович | B5: =COUNTIFS('Відповіді форми (1)'!$AL$2:$AL$335,$A5,'Відповіді форми (1)'!$E$2:$E$335,$A$2) -> 2 | C5: =IFERROR(AVERAGEIFS('Відповіді форми (1)'!$AM$2:$AM$335,'Відповіді форми (1)'!$AL$2:$AL$335,$A5,'Відповіді форми (1)'!$E$2:$E$335,$A$2),"") -> 4.9736842

Sheet Відповіді форми (1)
A1: Позначка часу | B1: Оберіть рівень вищої освіти за яким навчаєтесь | C1: Оберіть із переліку освітньо-професійну програму (ОС Бакалавр) | D1: Оберіть із переліку освітньо-професійну програму | E1: Оберіть кафедру | F1: Оберіть з переліку ПІБ викладача | G1: Оберіть з переліку ПІБ викладача | H1: Оберіть з переліку ПІБ викладача | I1: Оберіть з переліку ПІБ викладача | J1: Оберіть з переліку ПІБ викладача | K1: Оберіть з переліку ПІБ викладача | L1: Оберіть з переліку ПІБ викладача | M1: Оберіть з переліку ПІБ викладача | N1: Оберіть з переліку ПІБ викладача | O1: Оберіть з переліку ПІБ викладача | P1: Оберіть з переліку ПІБ викладача | Q1: Вкажіть назву навчальної дисципліни | R1: На початку вивчення навчальної дисципліни чітко презентовано її зміст, структуру та критерії оцінювання | S1: Викладачем забезпечено доступ до робочої програми навчальної дисципліни, текстів лекцій, презентацій, планів семінарських, практичних занять та лабораторних робіт | T1: Змістовна значущість і доступність матеріалу, що викладається | U1: Навчальний матеріал викладається чітко, доступно і цікаво | V1: Методи, способи і форми викладання доцільні та ефективні | W1: Активне використання сучасних інтерактивних та інформаційних технологій | X1: Ерудиція й культура мовлення викладача | Y1: Уміння викликати інтерес до навчальної дисципліни | Z1: Формування у студентів компетентностей, необхідних для професійної діяльності | AA1: Система накопичення балів зрозуміла, доступна та прозора | AB1: Форми контролю різноманітні, зрозумілі, цікаві, нестандартні 1 | AC1: Оцінювання знань, умінь та навичок об’єктивне та адекватне | AD1: Здійснюється аргументація та коментування отриманих програмних результатів навчання | AE1: Механізми та процедури контрольних заходів дозволяють повторне проходження форм контролю | AF1: Викладач стимулює творчість студентів під час самостійної навчальної та науково- дослідної роботи | AG1: Доброзичливість і тактовність по відношенню до студентів | AH1: Організаційна культура викладача | AI1: Культура зовнішнього вигляду викладача | AJ1: Виникає бажання відвідувати навчальні заняття саме цього викладача | AK1: Побажання та пропозиції стосовно викладання навчальної дисципліни | AL1: Викладач (ПІБ) | AM1: Середній бал по анкеті
A2: 46154.679 | B2: Перший (бакалаврський) | C2: Середня освіта (Англійська мова та зарубіжна література) / Середня освіта (Англійська мова та література) | E2: Кафедра іноземних мов та методик їх навчання | F2: Янков Анатолій Вікторович | Q2: Латинська мова | R2: 1 | S2: 1 | T2: 1 | U2: 1 | V2: 1 | W2: 1 | X2: 2 | Y2: 1 | Z2: 1 | AA2: 1 | AB2: 1 | AC2: 1 | AD2: 1 | AE2: 1 | AF2: 1 | AG2: 1 | AH2: 1 | AI2: 1 | AJ2: 1 | AK2: . | AL2: =TRIM(F2&G2&H2&I2&J2&K2&L2&M2&N2&O2&P2) -> Янков Анатолій Вікторович | AM2: =IFERROR(AVERAGE(R2:AJ2),"") -> 1.0526316
A3: 46154.68 | B3: Перший (бакалаврський) | C3: Середня освіта (Англійська мова та зарубіжна література) / Середня освіта (Англійська мова та література) | E3: Кафедра іноземних мов та методик їх навчання | F3: Собчук Ольга Богданівна | Q3: Практичний курс англійської мови | R3: 5 | S3: 5 | T3: 5 | U3: 5 | V3: 5 | W3: 5 | X3: 5 | Y3: 5 | Z3: 5 | AA3: 5 | AB3: 5 | AC3: 5 | AD3: 5 | AE3: 5 | AF3: 5 | AG3: 5 | AH3: 5 | AI3: 5 | AJ3: 5 | AK3: . | AL3: =TRIM(F3&G3&H3&I3&J3&K3&L3&M3&N3&O3&P3) -> Собчук Ольга Богданівна | AM3: =IFERROR(AVERAGE(R3:AJ3),"") -> 5
A4: 46154.778 | B4: Перший (бакалаврський) | C4: Психологія. Інклюзивна освіта / Психологія | E4: Кафедра психології і соціальної роботи | L4: Ярощук Маріанна Володимирівна | Q4: Загальна психологія | R4: 5 | S4: 5 | T4: 5 | U4: 5 | V4: 5 | W4: 5 | X4: 5 | Y4: 5 | Z4: 5 | AA4: 5 | AB4: 5 | AC4: 5 | AD4: 5 | AE4: 5 | AF4: 5 | AG4: 5 | AH4: 5 | AI4: 5 | AJ4: 5 | AK4: Все влаштовує | AL4: =TRIM(F4&G4&H4&I4&J4&K4&L4&M4&N4&O4&P4) -> Ярощук Маріанна Володимирівна | AM4: =IFERROR(AVERAGE(R4:AJ4),"") -> 5
A5: 46154.779 | B5: Перший (бакалаврський) | C5: Психологія. Інклюзивна освіта / Психологія | E5: Кафедра психології і соціальної роботи | L5: Ярощук Маріанна Володимирівна | Q5: Психологія | R5: 5 | S5: 5 | T5: 5 | U5: 5 | V5: 5 | W5: 5 | X5: 5 | Y5: 5 | Z5: 5 | AA5: 5 | AB5: 5 | AC5: 5 | AD5: 5 | AE5: 5 | AF5: 5 | AG5: 5 | AH5: 5 | AI5: 5 | AJ5: 5 | AK5: Немає побажань та пропозицій | AL5: =TRIM(F5&G5&H5&I5&J5&K5&L5&M5&N5&O5&P5) -> Ярощук Маріанна Володимирівна | AM5: =IFERROR(AVERAGE(R5:AJ5),"") -> 5
A6: 46154.78 | B6: Перший (бакалаврський) | C6: Психологія. Інклюзивна освіта / Психологія | E6: Кафедра психології і соціальної роботи | L6: Ярощук Маріанна Володимирівна | Q6: Психологія | R6: 5 | S6: 5 | T6: 5 | U6: 5 | V6: 5 | W6: 5 | X6: 5 | Y6: 5 | Z6: 5 | AA6: 5 | AB6: 5 | AC6: 5 | AD6: 5 | AE6: 5 | AF6: 5 | AG6: 5 | AH6: 5 | AI6: 5 | AJ6: 5 | AK6: Все на вищому рівні | AL6: =TRIM(F6&G6&H6&I6&J6&K6&L6&M6&N6&O6&P6) -> Ярощук Маріанна Володимирівна | AM6: =IFERROR(AVERAGE(R6:AJ6),"") -> 5
A7: 46154.781 | B7: Перший (бакалаврський) | C7: Психологія. Інклюзивна освіта / Психологія | E7: Кафедра психології і соціальної роботи | L7: Ярощук Маріанна Володимирівна | Q7: Диференційна психологія | R7: 5 | S7: 5 | T7: 5 | U7: 5 | V7: 5 | W7: 5 | X7: 5 | Y7: 5 | Z7: 5 | AA7: 5 | AB7: 5 | AC7: 5 | AD7: 5 | AE7: 4 | AF7: 5 | AG7: 5 | AH7: 5 | AI7: 5 | AJ7: 5 | AK7: 👍🏻 | AL7: =TRIM(F7&G7&H7&I7&J7&K7&L7&M7&N7&O7&P7) -> Ярощук Маріанна Володимирівна | AM7: =IFERROR(AVERAGE(R7:AJ7),"") -> 4.9473684
A8: 46154.782 | B8: Перший (бакалаврський) | C8: Психологія. Інклюзивна освіта / Психологія | E8: Кафедра психології і соціальної роботи | L8: Ярощук Маріанна Володимирівна | Q8: Психологічна експертиза | R8: 5 | S8: 5 | T8: 5 | U8: 5 | V8: 5 | W8: 5 | X8: 5 | Y8: 5 | Z8: 5 | AA8: 5 | AB8: 4 | AC8: 5 | AD8: 5 | AE8: 5 | AF8: 5 | AG8: 5 | AH8: 5 | AI8: 5 | AJ8: 5 | AK8: Побажань немає, все чудово) | AL8: =TRIM(F8&G8&H8&I8&J8&K8&L8&M8&N8&O8&P8) -> Ярощук Маріанна Володимирівна | AM8: =IFERROR(AVERAGE(R8:AJ8),"") -> 4.9473684
A9: 46154.784 | B9: Перший (бакалаврський) | C9: Психологія. Інклюзивна освіта / Психологія | E9: Кафедра психології і соціальної роботи | L9: Ярощук Маріанна Володимирівна | Q9: . | R9: 5 | S9: 5 | T9: 5 | U9: 5 | V9: 5 | W9: 5 | X9: 5 | Y9: 5 | Z9: 5 | AA9: 5 | AB9: 5 | AC9: 5 | AD9: 5 | AE9: 5 | AF9: 5 | AG9: 5 | AH9: 5 | AI9: 5 | AJ9: 5 | AK9: . | AL9: =TRIM(F9&G9&H9&I9&J9&K9&L9&M9&N9&O9&P9) -> Ярощук Маріанна Володимирівна | AM9: =IFERROR(AVERAGE(R9:AJ9),"") -> 5
A10: 46154.785 | B10: Перший (бакалаврський) | C10: Соціальна робота. Практична психологія / Соціальна робота | E10: Кафедра психології і соціальної роботи | L10: Новак Тетяна Віталіївна | Q10: Основи психотерапії | R10: 5 | S10: 5 | T10: 5 | U10: 5 | V10: 5 | W10: 5 | X10: 5 | Y10: 5 | Z10: 5 | AA10: 5 | AB10: 5 | AC10: 5 | AD10: 5 | AE10: 5 | AF10: 5 | AG10: 5 | AH10: 5 | AI10: 5 | AJ10: 5 | AK10: Немає | AL10: =TRIM(F10&G10&H10&I10&J10&K10&L10&M10&N10&O10&P10) -> Новак Тетяна Віталіївна | AM10: =IFERROR(AVERAGE(R10:AJ10),"") -> 5
A11: 46154.785 | B11: Перший (бакалаврський) | C11: Середня освіта (Фізична культура). Туристична робота в закладах освіти / Середня освіта (Фізична культура) | E11: Кафедра теорії та методики фізичного виховання | N11: Голуб Віктор Анатолійович | Q11: Спортивні ігри з методикою викладання | R11: 5 | S11: 4 | T11: 5 | U11: 5 | V11: 5 | W11: 5 | X11: 5 | Y11: 5 | Z11: 5 | AA11: 5 | AB11: 5 | AC11: 5 | AD11: 5 | AE11: 5 | AF11: 5 | AG11: 5 | AH11: 5 | AI11: 5 | AJ11: 5 | AK11: Навчальний матеріал викладається доступно та цікаво, побажань щодо змін немає. | AL11: =TRIM(F11&G11&H11&I11&J11&K11&L11&M11&N11&O11&P11) -> Голуб Віктор Анатолійович | AM11: =IFERROR(AVERAGE(R11:AJ11),"") -> 4.9473684
A12: 46154.786 | B12: Перший (бакалаврський) | C12: Соціальна робота. Практична психологія / Соціальна робота | E12: Кафедра психології і соціальної роботи | L12: Заблоцький Андрій Русланович | Q12: Військова психологія | R12: 5 | S12: 5 | T12: 5 | U12: 5 | V12: 5 | W12: 5 | X12: 5 | Y12: 5 | Z12: 5 | AA12: 5 | AB12: 5 | AC12: 5 | AD12: 5 | AE12: 5 | AF12: 5 | AG12: 5 | AH12: 5 | AI12: 5 | AJ12: 5 | AK12: - | AL12: =TRIM(F12&G12&H12&I12&J12&K12&L12&M12&N12&O12&P12) -> Заблоцький Андрій Русланович | AM12: =IFERROR(AVERAGE(R12:AJ12),"") -> 5
A13: 46154.786 | B13: Перший (бакалаврський) | C13: Соціальна робота. Практична психологія / Соціальна робота | E13: Кафедра психології і соціальної роботи | L13: Боднар Марія Богданівна | Q13: Етнопсихологія | R13: 5 | S13: 5 | T13: 5 | U13: 5 | V13: 5 | W13: 5 | X13: 5 | Y13: 5 | Z13: 5 | AA13: 5 | AB13: 5 | AC13: 5 | AD13: 5 | AE13: 5 | AF13: 5 | AG13: 5 | AH13: 5 | AI13: 5 | AJ13: 5 | AK13: - | AL13: =TRIM(F13&G13&H13&I13&J13&K13&L13&M13&N13&O13&P13) -> Боднар Марія Богданівна | AM13: =IFERROR(AVERAGE(R13:AJ13),"") -> 5
A14: 46154.787 | B14: Перший (бакалаврський) | C14: Середня освіта (Образотворче мистецтво) / Середня освіта (Образотворче мистецтво). Дизайн освітнього середовища | E14: Кафедра мистецьких дисциплін та методик їх навчання | K14: Балбус Тетяна Анатоліївна | Q14: Рисунок | R14: 5 | S14: 4 | T14: 5 | U14: 5 | V14: 4 | W14: 1 | X14: 5 | Y14: 5 | Z14: 4 | AA14: 5 | AB14: 5 | AC14: 5 | AD14: 5 | AE14: 4 | AF14: 5 | AG14: 5 | AH14: 5 | AI14: 5 | AJ14: 5 | AK14: Немає | AL14: =TRIM(F14&G14&H14&I14&J14&K14&L14&M14&N14&O14&P14) -> Балбус Тетяна Анатоліївна | AM14: =IFERROR(AVERAGE(R14:AJ14),"") -> 4.5789474
A15: 46154.787 | B15: Перший (бакалаврський) | C15: Соціальна робота. Практична психологія / Соціальна робота | E15: Кафедра психології і соціальної роботи | L15: Тимош Юлія Володимирівна | Q15: Психологія надзвичайних ситуацій | R15: 5 | S15: 5 | T15: 5 | U15: 5 | V15: 5 | W15: 5 | X15: 5 | Y15: 5 | Z15: 5 | AA15: 5 | AB15: 5 | AC15: 5 | AD15: 5 | AE15: 5 | AF15: 5 | AG15: 5 | AH15: 5 | AI15: 5 | AJ15: 5 | AK15: - | AL15: =TRIM(F15&G15&H15&I15&J15&K15&L15&M15&N15&O15&P15) -> Тимош Юлія Володимирівна | AM15: =IFERROR(AVERAGE(R15:AJ15),"") -> 5
A16: 46154.788 | B16: Перший (бакалаврський) | C16: Середня освіта (Трудове навчання та технології. Інформатика) / Середня освіта (Трудове навчання та технології) | E16: Кафедра теорії і методики трудового навчання та технологій | H16: Олексюк Марія Петрівна | Q16: Теорія і методика трудового навчання і технології | R16: 5 | S16: 5 | T16: 5 | U16: 5 | V16: 5 | W16: 5 | X16: 5 | Y16: 5 | Z16: 5 | AA16: 5 | AB16: 5 | AC16: 5 | AD16: 5 | AE16: 5 | AF16: 5 | AG16: 5 | AH16: 5 | AI16: 5 | AJ16: 5 | AK16: Мені все подобається.Дякую | AL16: =TRIM(F16&G16&H16&I16&J16&K16&L16&M16&N16&O16&P16) -> Олексюк Марія Петрівна | AM16: =IFERROR(AVERAGE(R16:AJ16),"") -> 5
A17: 46154.788 | B17: Перший (бакалаврський) | C17: Соціальна робота. Практична психологія / Соціальна робота | E17: Кафедра психології і соціальної роботи | L17: Ярощук Маріанна Володимирівна | Q17: Психологічна експертиза | R17: 5 | S17: 5 | T17: 5 | U17: 5 | V17: 5 | W17: 5 | X17: 5 | Y17: 5 | Z17: 5 | AA17: 5 | AB17: 5 | AC17: 5 | AD17: 5 | AE17: 5 | AF17: 5 | AG17: 5 | AH17: 5 | AI17: 5 | AJ17: 5 | AK17: - | AL17: =TRIM(F17&G17&H17&I17&J17&K17&L17&M17&N17&O17&P17) -> Ярощук Маріанна Володимирівна | AM17: =IFERROR(AVERAGE(R17:AJ17),"") -> 5
A18: 46154.789 | B18: Перший (бакалаврський) | C18: Соціальна робота. Практична психологія / Соціальна робота | E18: Кафедра психології і соціальної роботи | L18: Долга Тетяна Олександрійвна | Q18: Психолінгвістика | R18: 5 | S18: 5 | T18: 5 | U18: 5 | V18: 5 | W18: 5 | X18: 5 | Y18: 5 | Z18: 5 | AA18: 5 | AB18: 5 | AC18: 5 | AD18: 5 | AE18: 5 | AF18: 5 | AG18: 5 | AH18: 5 | AI18: 5 | AJ18: 5 | AK18: - | AL18: =TRIM(F18&G18&H18&I18&J18&K18&L18&M18&N18&O18&P18) -> Долга Тетяна Олександрійвна | AM18: =IFERROR(AVERAGE(R18:AJ18),"") -> 5
A19: 46154.807 | B19: Перший (бакалаврський) | C19: Соціальна робота. Практична психологія / Соціальна робота | E19: Кафедра психології і соціальної роботи | L19: Терпелюк Володимир Володимирович | Q19: Соціальна робота | R19: 5 | S19: 5 | T19: 5 | U19: 5 | V19: 5 | W19: 5 | X19: 5 | Y19: 5 | Z19: 5 | AA19: 5 | AB19: 3 | AC19: 5 | AD19: 5 | AE19: 4 | AF19: 5 | AG19: 5 | AH19: 5 | AI19: 5 | AJ19: 5 | AK19: Пропозицій нема ніяких, викладач дуже чудовий, гарно викладає матеріал предметів | AL19: =TRIM(F19&G19&H19&I19&J19&K19&L19&M19&N19&O19&P19) -> Терпелюк Володимир Володимирович | AM19: =IFERROR(AVERAGE(R19:AJ19),"") -> 4.8421053
A20: 46154.817 | B20: Перший (бакалаврський) | C20: Середня освіта (Трудове навчання та технології. Інформатика) / Середня освіта (Трудове навчання та технології) | E20: Кафедра теорії і методики трудового навчання та технологій | H20: Цісарук Ірина Василівна | Q20: Трудове | R20: 5 | S20: 5 | T20: 5 | U20: 5 | V20: 5 | W20: 5 | X20: 5 | Y20: 5 | Z20: 5 | AA20: 5 | AB20: 5 | AC20: 5 | AD20: 5 | AE20: 5 | AF20: 5 | AG20: 5 | AH20: 5 | AI20: 5 | AJ20: 5 | AK20: Немає пропозицій | AL20: =TRIM(F20&G20&H20&I20&J20&K20&L20&M20&N20&O20&P20) -> Цісарук Ірина Василівна | AM20: =IFERROR(AVERAGE(R20:AJ20),"") -> 5
A21: 46154.822 | B21: Перший (бакалаврський) | C21: Середня освіта (Англійська мова та зарубіжна література) / Середня освіта (Англійська мова та література) | E21: Кафедра іноземних мов та методик їх навчання | F21: Яценюк Надія Іванівна | Q21: РКНМ (Рівень А1) | R21: 5 | S21: 5 | T21: 5 | U21: 5 | V21: 5 | W21: 5 | X21: 5 | Y21: 5 | Z21: 5 | AA21: 5 | AB21: 5 | AC21: 5 | AD21: 5 | AE21: 5 | AF21: 5 | AG21: 5 | AH21: 5 | AI21: 5 | AJ21: 5 | AK21: Все влаштовує | AL21: =TRIM(F21&G21&H21&I21&J21&K21&L21&M21&N21&O21&P21) -> Яценюк Надія Іванівна | AM21: =IFERROR(AVERAGE(R21:AJ21),"") -> 5
A22: 46154.839 | B22: Перший (бакалаврський) | C22: Психологія. Інклюзивна освіта / Психологія | E22: Кафедра психології і соціальної роботи | L22: Новак Тетяна Віталіївна | Q22: Основи психологічного тренінгу | R22: 5 | S22: 5 | T22: 5 | U22: 5 | V22: 5 | W22: 5 | X22: 5 | Y22: 5 | Z22: 5 | AA22: 5 | AB22: 5 | AC22: 5 | AD22: 5 | AE22: 5 | AF22: 5 | AG22: 5 | AH22: 5 | AI22: 5 | AJ22: 5 | AL22: =TRIM(F22&G22&H22&I22&J22&K22&L22&M22&N22&O22&P22) -> Новак Тетяна Віталіївна | AM22: =IFERROR(AVERAGE(R22:AJ22),"") -> 5
A23: 46154.84 | B23: Перший (бакалаврський) | C23: Психологія. Інклюзивна освіта / Психологія | E23: Кафедра психології і соціальної роботи | L23: Ярощук Маріанна Володимирівна | Q23: Психологія | R23: 5 | S23: 5 | T23: 5 | U23: 5 | V23: 5 | W23: 5 | X23: 5 | Y23: 5 | Z23: 5 | AA23: 5 | AB23: 5 | AC23: 5 | AD23: 5 | AE23: 5 | AF23: 5 | AG23: 5 | AH23: 5 | AI23: 5 | AJ23: 5 | AK23: Немає | AL23: =TRIM(F23&G23&H23&I23&J23&K23&L23&M23&N23&O23&P23) -> Ярощук Маріанна Володимирівна | AM23: =IFERROR(AVERAGE(R23:AJ23),"") -> 5
A24: 46154.842 | B24: Перший (бакалаврський) | C24: Психологія. Інклюзивна освіта / Психологія | E24: Кафедра психології і соціальної роботи | L24: Тимош Юлія Володимирівна | Q24: Психологія сім'ї з основами сімейної консультуції | R24: 5 | S24: 5 | T24: 5 | U24: 5 | V24: 5 | W24: 5 | X24: 5 | Y24: 5 | Z24: 5 | AA24: 5 | AB24: 5 | AC24: 5 | AD24: 5 | AE24: 5 | AF24: 5 | AG24: 5 | AH24: 5 | AI24: 5 | AJ24: 5 | AK24: Немає | AL24: =TRIM(F24&G24&H24&I24&J24&K24&L24&M24&N24&O24&P24) -> Тимош Юлія Володимирівна | AM24: =IFERROR(AVERAGE(R24:AJ24),"") -> 5
A25: 46154.843 | B25: Перший (бакалаврський) | C25: Психологія. Інклюзивна освіта / Психологія | E25: Кафедра психології і соціальної роботи | L25: Ярощук Маріанна Володимирівна | Q25: Психологічна діагностика та корекція | R25: 5 | S25: 5 | T25: 5 | U25: 5 | V25: 5 | W25: 5 | X25: 5 | Y25: 5 | Z25: 5 | AA25: 5 | AB25: 5 | AC25: 5 | AD25: 5 | AE25: 5 | AF25: 5 | AG25: 5 | AH25: 5 | AI25: 5 | AJ25: 5 | AK25: Бажано більше предметів з Я пошук . М .В. | AL25: =TRIM(F25&G25&H25&I25&J25&K25&L25&M25&N25&O25&P25) -> Ярощук Маріанна Володимирівна | AM25: =IFERROR(AVERAGE(R25:AJ25),"") -> 5
A26: 46154.845 | B26: Перший (бакалаврський) | C26: Психологія. Інклюзивна освіта / Психологія | E26: Кафедра психології і соціальної роботи | L26: Ярощук Маріанна Володимирівна | Q26: Психологія залежностей, психологія сексуальності, психологія релігії | R26: 5 | S26: 5 | T26: 5 | U26: 5 | V26: 5 | W26: 5 | X26: 5 | Y26: 5 | Z26: 5 | AA26: 5 | AB26: 5 | AC26: 5 | AD26: 5 | AE26: 5 | AF26: 5 | AG26: 5 | AH26: 5 | AI26: 5 | AJ26: 5 | AK26: Так тримати! толерантна, доброзичлива, чесна. дякую! | AL26: =TRIM(F26&G26&H26&I26&J26&K26&L26&M26&N26&O26&P26) -> Ярощук Маріанна Володимирівна | AM26: =IFERROR(AVERAGE(R26:AJ26),"") -> 5
A27: 46154.855 | B27: Перший (бакалаврський) | C27: Середня освіта (Трудове навчання та технології. Інформатика) / Середня освіта (Трудове навчання та технології) | E27: Кафедра теорії і методики трудового навчання та технологій | H27: Олексюк Марія Петрівна | Q27: Навчальна практика з удосконалення умінь і навичок з обробки матеріалів( кулінарія) | R27: 5 | S27: 5 | T27: 5 | U27: 4 | V27: 4 | W27: 4 | X27: 5 | Y27: 5 | Z27: 4 | AA27: 5 | AB27: 5 | AC27: 5 | AD27: 5 | AE27: 4 | AF27: 4 | AG27: 5 | AH27: 5 | AI27: 5 | AJ27: 5 | AK27: Більше практичних занять | AL27: =TRIM(F27&G27&H27&I27&J27&K27&L27&M27&N27&O27&P27) -> Олексюк Марія Петрівна | AM27: =IFERROR(AVERAGE(R27:AJ27),"") -> 4.6842105
A28: 46154.858 | B28: Перший (бакалаврський) | C28: Психологія. Інклюзивна освіта / Психологія | E28: Кафедра психології і соціальної роботи | L28: Ярощук Маріанна Володимирівна | Q28: Диференційна психологія | R28: 5 | S28: 5 | T28: 5 | U28: 5 | V28: 5 | W28: 5 | X28: 5 | Y28: 5 | Z28: 5 | AA28: 5 | AB28: 5 | AC28: 5 | AD28: 5 | AE28: 4 | AF28: 5 | AG28: 5 | AH28: 5 | AI28: 5 | AJ28: 5 | AK28: Немає, все чудово | AL28: =TRIM(F28&G28&H28&I28&J28&K28&L28&M28&N28&O28&P28) -> Ярощук Маріанна Володимирівна | AM28: =IFERROR(AVERAGE(R28:AJ28),"") -> 4.9473684
A29: 46154.875 | B29: Перший (бакалаврський) | C29: Середня освіта (Українська мова і література. Зарубіжна література) / Середня освіта (Українська мова і література) | E29: Кафедра української мови і літератури та методик їх навчання | G29: Назарець Віталій Миколайович | Q29: Теорія літератури | R29: 5 | S29: 5 | T29: 5 | U29: 5 | V29: 5 | W29: 5 | X29: 5 | Y29: 5 | Z29: 5 | AA29: 5 | AB29: 5 | AC29: 5 | AD29: 5 | AE29: 5 | AF29: 5 | AG29: 5 | AH29: 5 | AI29: 5 | AJ29: 5 | AK29: Нічого | AL29: =TRIM(F29&G29&H29&I29&J29&K29&L29&M29&N29&O29&P29) -> Назарець Віталій Миколайович | AM29: =IFERROR(AVERAGE(R29:AJ29),"") -> 5
A30: 46154.877 | B30: Перший (бакалаврський) | C30: Середня освіта (Українська мова і література. Зарубіжна література) / Середня освіта (Українська мова і література) | E30: Кафедра української мови і літератури та методик їх навчання | G30: Назарець Віталій Миколайович | Q30: теорія літератури | R30: 5 | S30: 5 | T30: 5 | U30: 5 | V30: 5 | W30: 5 | X30: 5 | Y30: 5 | Z30: 5 | AA30: 5 | AB30: 5 | AC30: 5 | AD30: 5 | AE30: 5 | AF30: 5 | AG30: 5 | AH30: 5 | AI30: 5 | AJ30: 5 | AK30: немає | AL30: =TRIM(F30&G30&H30&I30&J30&K30&L30&M30&N30&O30&P30) -> Назарець Віталій Миколайович | AM30: =IFERROR(AVERAGE(R30:AJ30),"") -> 5
A31: 46154.878 | B31: Перший (бакалаврський) | C31: Середня освіта (Українська мова і література. Зарубіжна література) / Середня освіта (Українська мова і література) | E31: Кафедра української мови і літератури та методик їх навчання | G31: Василишин Олег Васильович | Q31: культура української мови | R31: 5 | S31: 5 | T31: 5 | U31: 5 | V31: 5 | W31: 5 | X31: 5 | Y31: 5 | Z31: 5 | AA31: 5 | AB31: 5 | AC31: 5 | AD31: 5 | AE31: 5 | AF31: 5 | AG31: 5 | AH31: 5 | AI31: 5 | AJ31: 5 | AK31: немає | AL31: =TRIM(F31&G31&H31&I31&J31&K31&L31&M31&N31&O31&P31) -> Василишин Олег Васильович | AM31: =IFERROR(AVERAGE(R31:AJ31),"") -> 5
A32: 46154.879 | B32: Перший (бакалаврський) | C32: Початкова освіта. Англійська мова / Початкова освіта | E32: Кафедра педагогіки, дошкільної та початкової освіти | J32: Приймас Наталія Володимирівна | Q32: Професійна адаптація до роботи в початковій школі | R32: 5 | S32: 5 | T32: 5 | U32: 5 | V32: 5 | W32: 5 | X32: 5 | Y32: 5 | Z32: 5 | AA32: 5 | AB32: 5 | AC32: 5 | AD32: 5 | AE32: 5 | AF32: 5 | AG32: 5 | AH32: 5 | AI32: 5 | AJ32: 5 | AK32: Немає | AL32: =TRIM(F32&G32&H32&I32&J32&K32&L32&M32&N32&O32&P32) -> Приймас Наталія Володимирівна | AM32: =IFERROR(AVERAGE(R32:AJ32),"") -> 5
A33: 46154.879 | B33: Перший (бакалаврський) | C33: Середня освіта (Фізична культура). Туристична робота в закладах освіти / Середня освіта (Фізична культура) | E33: Кафедра теорії та методики фізичного виховання | N33: Голуб Віктор Анатолійович | Q33: Спортивні ігри з методикою викладання | R33: 5 | S33: 5 | T33: 5 | U33: 5 | V33: 5 | W33: 5 | X33: 5 | Y33: 5 | Z33: 5 | AA33: 5 | AB33: 5 | AC33: 5 | AD33: 5 | AE33: 5 | AF33: 5 | AG33: 5 | AH33: 5 | AI33: 5 | AJ33: 5 | AK33: Побажань і пропозицій немаю | AL33: =TRIM(F33&G33&H33&I33&J33&K33&L33&M33&N33&O33&P33) -> Голуб Віктор Анатолійович | AM33: =IFERROR(AVERAGE(R33:AJ33),"") -> 5
A34: 46154.879 | B34: Перший (бакалаврський) | C34: Середня освіта (Українська мова і література. Зарубіжна література) / Середня освіта (Українська мова і література) | E34: Кафедра української мови і літератури та методик їх навчання | G34: Волянюк Інна Оверківна | Q34: лінгвістичний аналіз тексту | R34: 5 | S34: 5 | T34: 5 | U34: 5 | V34: 5 | W34: 5 | X34: 5 | Y34: 5 | Z34: 5 | AA34: 5 | AB34: 5 | AC34: 5 | AD34: 5 | AE34: 5 | AF34: 5 | AG34: 5 | AH34: 5 | AI34: 5 | AJ34: 5 | AK34: немає | AL34: =TRIM(F34&G34&H34&I34&J34&K34&L34&M34&N34&O34&P34) -> Волянюк Інна Оверківна | AM34: =IFERROR(AVERAGE(R34:AJ34),"") -> 5
A35: 46154.879 | B35: Перший (бакалаврський) | C35: Дошкільна освіта. Спеціальна освіта (Логопедія) / Дошкільна освіта | E35: Кафедра педагогіки, дошкільної та початкової освіти | J35: Доманюк Оксана Михайлівна | Q35: Логопедія | R35: 5 | S35: 5 | T35: 5 | U35: 5 | V35: 5 | W35: 5 | X35: 5 | Y35: 5 | Z35: 5 | AA35: 5 | AB35: 5 | AC35: 5 | AD35: 5 | AE35: 5 | AF35: 5 | AG35: 5 | AH35: 5 | AI35: 5 | AJ35: 5 | AK35: )) | AL35: =TRIM(F35&G35&H35&I35&J35&K35&L35&M35&N35&O35&P35) -> Доманюк Оксана Михайлівна | AM35: =IFERROR(AVERAGE(R35:AJ35),"") -> 5
A36: 46154.88 | B36: Перший (бакалаврський) | C36: Дошкільна освіта. Спеціальна освіта (Логопедія) / Дошкільна освіта | E36: Кафедра педагогіки, дошкільної та початкової освіти | J36: Доманюк Оксана Михайлівна | Q36: Навчально-педагогічна практика в групах раннього та дошкільного віку | R36: 5 | S36: 5 | T36: 5 | U36: 5 | V36: 5 | W36: 5 | X36: 5 | Y36: 5 | Z36: 5 | AA36: 5 | AB36: 5 | AC36: 5 | AD36: 5 | AE36: 5 | AF36: 5 | AG36: 5 | AH36: 5 | AI36: 5 | AJ36: 5 | AK36: Все влаштовує, та все зрозуміло | AL36: =TRIM(F36&G36&H36&I36&J36&K36&L36&M36&N36&O36&P36) -> Доманюк Оксана Михайлівна | AM36: =IFERROR(AVERAGE(R36:AJ36),"") -> 5
A37: 46154.88 | B37: Перший (бакалаврський) | C37: Середня освіта (Музичне мистецтво). Хореографія / Середня освіта (Музичне мистецтво) | E37: Кафедра мистецьких дисциплін та методик їх навчання | K37: Ратинська Інна Василівна | Q37: Хоровий клас та практикум з хором | R37: 5 | S37: 5 | T37: 5 | U37: 5 | V37: 5 | W37: 5 | X37: 5 | Y37: 5 | Z37: 5 | AA37: 5 | AB37: 5 | AC37: 5 | AD37: 5 | AE37: 5 | AF37: 5 | AG37: 5 | AH37: 5 | AI37: 5 | AJ37: 5 | AK37: Дуже хороший викладач, знавець своєї справи | AL37: =TRIM(F37&G37&H37&I37&J37&K37&L37&M37&N37&O37&P37) -> Ратинська Інна Василівна | AM37: =IFERROR(AVERAGE(R37:AJ37),"") -> 5
A38: 46154.88 | B38: Перший (бакалаврський) | C38: Початкова освіта. Англійська мова / Початкова освіта | E38: Кафедра педагогіки, дошкільної та початкової освіти | J38: Онищук Ірина Анатоліївна | Q38: Мет н-ня мист.осв.гал(образот.мист. з мет. н-ня) | R38: 5 | S38: 5 | T38: 5 | U38: 5 | V38: 5 | W38: 5 | X38: 5 | Y38: 5 | Z38: 5 | AA38: 5 | AB38: 5 | AC38: 5 | AD38: 5 | AE38: 5 | AF38: 5 | AG38: 5 | AH38: 5 | AI38: 5 | AJ38: 5 | AK38: Немає | AL38: =TRIM(F38&G38&H38&I38&J38&K38&L38&M38&N38&O38&P38) -> Онищук Ірина Анатоліївна | AM38: =IFERROR(AVERAGE(R38:AJ38),"") -> 5
A39: 46154.882 | B39: Перший (бакалаврський) | C39: Початкова освіта. Англійська мова / Початкова освіта | E39: Кафедра мистецьких дисциплін та методик їх навчання | K39: Томашівська Мар'яна Мирославівна | Q39: Мет н-ня мист.осв.гал(муз.мист. з мет. н-ня) | R39: 5 | S39: 5 | T39: 5 | U39: 5 | V39: 5 | W39: 5 | X39: 5 | Y39: 5 | Z39: 5 | AA39: 5 | AB39: 5 | AC39: 5 | AD39: 5 | AE39: 5 | AF39: 5 | AG39: 5 | AH39: 5 | AI39: 5 | AJ39: 5 | AK39: Немає | AL39: =TRIM(F39&G39&H39&I39&J39&K39&L39&M39&N39&O39&P39) -> Томашівська Мар'яна Мирославівна | AM39: =IFERROR(AVERAGE(R39:AJ39),"") -> 5
A40: 46154.882 | B40: Перший (бакалаврський) | C40: Дошкільна освіта. Спеціальна освіта (Логопедія) / Дошкільна освіта | E40: Кафедра педагогіки, дошкільної та початкової освіти | J40: Швець Оксана Вікторівна | Q40: Практика на 2 курсі | R40: 5 | S40: 5 | T40: 5 | U40: 5 | V40: 5 | W40: 5 | X40: 5 | Y40: 5 | Z40: 5 | AA40: 5 | AB40: 5 | AC40: 5 | AD40: 5 | AE40: 5 | AF40: 5 | AG40: 5 | AH40: 5 | AI40: 5 | AJ40: 5 | AK40: Не має | AL40: =TRIM(F40&G40&H40&I40&J40&K40&L40&M40&N40&O40&P40) -> Швець Оксана Вікторівна | AM40: =IFERROR(AVERAGE(R40:AJ40),"") -> 5
A41: 46154.882 | B41: Перший (бакалаврський) | C41: Середня освіта (Українська мова і література. Зарубіжна література) / Середня освіта (Українська мова і література) | E41: Кафедра української мови і літератури та методик їх навчання | G41: Василишин Олег Васильович | Q41: Історія української літератури другої половини 19 століття | R41: 5 | S41: 5 | T41: 5 | U41: 5 | V41: 5 | W41: 5 | X41: 5 | Y41: 5 | Z41: 5 | AA41: 5 | AB41: 5 | AC41: 5 | AD41: 5 | AE41: 5 | AF41: 5 | AG41: 5 | AH41: 5 | AI41: 5 | AJ41: 5 | AK41: Немає що додати | AL41: =TRIM(F41&G41&H41&I41&J41&K41&L41&M41&N41&O41&P41) -> Василишин Олег Васильович | AM41: =IFERROR(AVERAGE(R41:AJ41),"") -> 5
A42: 46154.883 | B42: Перший (бакалаврський) | C42: Психологія. Інклюзивна освіта / Психологія | E42: Кафедра психології і соціальної роботи | L42: Заблоцький Андрій Русланович | Q42: Психологія праці з основ профорієнтації | R42: 5 | S42: 5 | T42: 5 | U42: 5 | V42: 5 | W42: 5 | X42: 5 | Y42: 5 | Z42: 5 | AA42: 5 | AB42: 5 | AC42: 5 | AD42: 5 | AE42: 5 | AF42: 5 | AG42: 5 | AH42: 5 | AI42: 5 | AJ42: 5 | AK42: — | AL42: =TRIM(F42&G42&H42&I42&J42&K42&L42&M42&N42&O42&P42) -> Заблоцький Андрій Русланович | AM42: =IFERROR(AVERAGE(R42:AJ42),"") -> 5
A43: 46154.883 | B43: Перший (бакалаврський) | C43: Початкова освіта. Англійська мова / Початкова освіта | E43: Кафедра педагогіки, дошкільної та початкової освіти | J43: Павелко Вікторія Вікторівна | Q43: Методика навчання технологічної освітньої галузі | R43: 5 | S43: 5 | T43: 5 | U43: 5 | V43: 5 | W43: 5 | X43: 5 | Y43: 5 | Z43: 5 | AA43: 5 | AB43: 5 | AC43: 5 | AD43: 5 | AE43: 5 | AF43: 5 | AG43: 5 | AH43: 5 | AI43: 5 | AJ43: 5 | AK43: Все дуже гарно та змістовно | AL43: =TRIM(F43&G43&H43&I43&J43&K43&L43&M43&N43&O43&P43) -> Павелко Вікторія Вікторівна | AM43: =IFERROR(AVERAGE(R43:AJ43),"") -> 5
A44: 46154.884 | B44: Перший (бакалаврський) | C44: Початкова освіта. Англійська мова / Початкова освіта | E44: Кафедра педагогіки, дошкільної та початкової освіти | J44: Павелко Вікторія Вікторівна | Q44: Методика навчання технологічної освітньої галузі | R44: 5 | S44: 5 | T44: 5 | U44: 5 | V44: 5 | W44: 4 | X44: 5 | Y44: 5 | Z44: 5 | AA44: 5 | AB44: 5 | AC44: 5 | AD44: 5 | AE44: 4 | AF44: 5 | AG44: 4 | AH44: 5 | AI44: 5 | AJ44: 5 | AK44: Все чудово | AL44: =TRIM(F44&G44&H44&I44&J44&K44&L44&M44&N44&O44&P44) -> Павелко Вікторія Вікторівна | AM44: =IFERROR(AVERAGE(R44:AJ44),"") -> 4.8421053
A45: 46154.885 | B45: Перший (бакалаврський) | C45: Середня освіта (Українська мова і література. Зарубіжна література) / Середня освіта (Українська мова і література) | E45: Кафедра української мови і літератури та методик їх навчання | G45: Комінярська Ірина Миколаївна | Q45: Фольклор | R45: 5 | S45: 5 | T45: 5 | U45: 5 | V45: 5 | W45: 5 | X45: 5 | Y45: 5 | Z45: 5 | AA45: 5 | AB45: 5 | AC45: 5 | AD45: 5 | AE45: 5 | AF45: 5 | AG45: 5 | AH45: 5 | AI45: 5 | AJ45: 5 | AK45: Немає | AL45: =TRIM(F45&G45&H45&I45&J45&K45&L45&M45&N45&O45&P45) -> Комінярська Ірина Миколаївна | AM45: =IFERROR(AVERAGE(R45:AJ45),"") -> 5
A46: 46154.886 | B46: Перший (бакалаврський) | C46: Середня освіта (Історія). Музейна справа / Середня освіта (Історія) | E46: Кафедра історії та методики навчання | O46: Сеньківська Галина Ярославівна | Q46: Нова історія | R46: 5 | S46: 5 | T46: 5 | U46: 5 | V46: 5 | W46: 5 | X46: 5 | Y46: 5 | Z46: 5 | AA46: 5 | AB46: 5 | AC46: 5 | AD46: 5 | AE46: 5 | AF46: 5 | AG46: 5 | AH46: 5 | AI46: 5 | AJ46: 5 | AK46: Без зауважень | AL46: =TRIM(F46&G46&H46&I46&J46&K46&L46&M46&N46&O46&P46) -> Сеньківська Галина Ярославівна | AM46: =IFERROR(AVERAGE(R46:AJ46),"") -> 5
A47: 46154.887 | B47: Перший (бакалаврський) | C47: Середня освіта (Історія). Музейна справа / Середня освіта (Історія) | E47: Кафедра історії та методики навчання | O47: Собчук Володимир Дмитрович | Q47: Джерелознавство | R47: 5 | S47: 5 | T47: 5 | U47: 5 | V47: 5 | W47: 5 | X47: 5 | Y47: 5 | Z47: 5 | AA47: 5 | AB47: 5 | AC47: 5 | AD47: 5 | AE47: 5 | AF47: 5 | AG47: 5 | AH47: 5 | AI47: 5 | AJ47: 5 | AK47: Немає | AL47: =TRIM(F47&G47&H47&I47&J47&K47&L47&M47&N47&O47&P47) -> Собчук Володимир Дмитрович | AM47: =IFERROR(AVERAGE(R47:AJ47),"") -> 5
A48: 46154.887 | B48: Перший (бакалаврський) | C48: Середня освіта (Українська мова і література. Зарубіжна література) / Середня освіта (Українська мова і література) | E48: Кафедра української мови і літератури та методик їх навчання | G48: Комінярська Ірина Миколаївна | Q48: Фольклор | R48: 5 | S48: 5 | T48: 5 | U48: 5 | V48: 5 | W48: 5 | X48: 5 | Y48: 5 | Z48: 5 | AA48: 4 | AB48: 5 | AC48: 5 | AD48: 5 | AE48: 5 | AF48: 5 | AG48: 5 | AH48: 5 | AI48: 5 | AJ48: 5 | AK48: Натхнення та терпіня | AL48: =TRIM(F48&G48&H48&I48&J48&K48&L48&M48&N48&O48&P48) -> Комінярська Ірина Миколаївна | AM48: =IFERROR(AVERAGE(R48:AJ48),"") -> 4.9473684
A49: 46154.887 | B49: Перший (бакалаврський) | C49: Середня освіта (Українська мова і література. Зарубіжна література) / Середня освіта (Українська мова і література) | E49: Кафедра української мови і літератури та методик їх навчання | G49: Комінярська Ірина Миколаївна | Q49: Українська мова за професійним спрямуванням | R49: 5 | S49: 5 | T49: 5 | U49: 5 | V49: 5 | W49: 5 | X49: 5 | Y49: 5 | Z49: 5 | AA49: 5 | AB49: 5 | AC49: 5 | AD49: 5 | AE49: 5 | AF49: 5 | AG49: 5 | AH49: 5 | AI49: 5 | AJ49: 5 | AK49: Все задовільняє | AL49: =TRIM(F49&G49&H49&I49&J49&K49&L49&M49&N49&O49&P49) -> Комінярська Ірина Миколаївна | AM49: =IFERROR(AVERAGE(R49:AJ49),"") -> 5
A50: 46154.89 | B50: Перший (бакалаврський) | C50: Початкова освіта. Англійська мова / Початкова освіта | E50: Кафедра педагогіки, дошкільної та початкової освіти | J50: Швець Оксана Вікторівна | Q50: Методика навчання мовно-літературної освітньої галузі | R50: 5 | S50: 5 | T50: 5 | U50: 5 | V50: 5 | W50: 5 | X50: 5 | Y50: 5 | Z50: 5 | AA50: 4 | AB50: 5 | AC50: 5 | AD50: 5 | AE50: 5 | AF50: 5 | AG50: 5 | AH50: 5 | AI50: 5 | AJ50: 5 | AK50: Щоб не було проблем з мудлом) | AL50: =TRIM(F50&G50&H50&I50&J50&K50&L50&M50&N50&O50&P50) -> Швець Оксана Вікторівна | AM50: =IFERROR(AVERAGE(R50:AJ50),"") -> 4.9473684
A51: 46154.895 | B51: Перший (бакалаврський) | C51: Психологія. Інклюзивна освіта / Психологія | E51: Кафедра психології і соціальної роботи | L51: Новак Тетяна Віталіївна | Q51: Основи психотерапії | R51: 5 | S51: 4 | T51: 5 | U51: 5 | V51: 5 | W51: 4 | X51: 5 | Y51: 5 | Z51: 5 | AA51: 5 | AB51: 4 | AC51: 4 | AD51: 5 | AE51: 5 | AF51: 5 | AG51: 5 | AH51: 5 | AI51: 5 | AJ51: 5 | AK51: Немає | AL51: =TRIM(F51&G51&H51&I51&J51&K51&L51&M51&N51&O51&P51) -> Новак Тетяна Віталіївна | AM51: =IFERROR(AVERAGE(R51:AJ51),"") -> 4.7894737
A52: 46154.898 | B52: Перший (бакалаврський) | C52: Початкова освіта. Англійська мова / Початкова освіта | E52: Кафедра педагогіки, дошкільної та початкової освіти | J52: Швець Оксана Вікторівна | Q52: Організація ДЕД дітей в природі | R52: 5 | S52: 5 | T52: 5 | U52: 5 | V52: 5 | W52: 5 | X52: 5 | Y52: 5 | Z52: 5 | AA52: 5 | AB52: 5 | AC52: 5 | AD52: 5 | AE52: 5 | AF52: 5 | AG52: 5 | AH52: 5 | AI52: 5 | AJ52: 5 | AK52: Немає | AL52: =TRIM(F52&G52&H52&I52&J52&K52&L52&M52&N52&O52&P52) -> Швець Оксана Вікторівна | AM52: =IFERROR(AVERAGE(R52:AJ52),"") -> 5
A53: 46154.901 | B53: Перший (бакалаврський) | C53: Середня освіта (Музичне мистецтво). Хореографія / Середня освіта (Музичне мистецтво) | E53: Кафедра мистецьких дисциплін та методик їх навчання | K53: Олійник Світлана Олегівна | Q53: Музично-теоретичні дисципліни: сольфеджіо | R53: 5 | S53: 5 | T53: 5 | U53: 5 | V53: 5 | W53: 5 | X53: 5 | Y53: 5 | Z53: 5 | AA53: 5 | AB53: 5 | AC53: 5 | AD53: 5 | AE53: 5 | AF53: 5 | AG53: 5 | AI53: 5 | AJ53: 5 | AK53: Продовжуйте у тому ж дусі! | AL53: =TRIM(F53&G53&H53&I53&J53&K53&L53&M53&N53&O53&P53) -> Олійник Світлана Олегівна | AM53: =IFERROR(AVERAGE(R53:AJ53),"") -> 5
A54: 46154.901 | B54: Перший (бакалаврський) | C54: Середня освіта (Історія). Музейна справа / Середня освіта (Історія) | E54: Кафедра історії та методики навчання | O54: Скакальська Ірина Богданівна | Q54: Історія України (XIX-XXI ст.) | R54: 5 | S54: 5 | T54: 5 | U54: 5 | V54: 5 | W54: 5 | X54: 5 | Y54: 5 | Z54: 5 | AA54: 5 | AB54: 5 | AC54: 5 | AD54: 5 | AE54: 5 | AF54: 5 | AG54: 5 | AH54: 5 | AI54: 5 | AJ54: 5 | AK54: Побільше б якихось цікавих відеороликів по темі | AL54: =TRIM(F54&G54&H54&I54&J54&K54&L54&M54&N54&O54&P54) -> Скакальська Ірина Богданівна | AM54: =IFERROR(AVERAGE(R54:AJ54),"") -> 5
A55: 46154.902 | B55: Перший (бакалаврський) | C55: Середня освіта (Історія). Музейна справа / Середня освіта (Історія) | E55: Кафедра історії та методики навчання | O55: Скакальська Ірина Богданівна | Q55: Історія України 19 21 ст | R55: 5 | S55: 5 | T55: 5 | U55: 5 | V55: 5 | W55: 5 | X55: 5 | Y55: 5 | Z55: 5 | AA55: 5 | AB55: 5 | AC55: 5 | AD55: 5 | AE55: 5 | AF55: 5 | AG55: 5 | AH55: 5 | AI55: 5 | AJ55: 5 | AK55: Все влаштовує | AL55: =TRIM(F55&G55&H55&I55&J55&K55&L55&M55&N55&O55&P55) -> Скакальська Ірина Богданівна | AM55: =IFERROR(AVERAGE(R55:AJ55),"") -> 5
A56: 46154.905 | B56: Перший (бакалаврський) | C56: Середня освіта (Історія). Музейна справа / Середня освіта (Історія) | E56: Кафедра історії та методики навчання | O56: Скакальська Ірина Богданівна | Q56: Вступ до спеціальності. | R56: 5 | S56: 5 | T56: 5 | U56: 5 | V56: 5 | W56: 5 | X56: 5 | Y56: 5 | Z56: 5 | AA56: 5 | AB56: 5 | AC56: 5 | AD56: 5 | AE56: 5 | AF56: 5 | AG56: 5 | AH56: 5 | AI56: 5 | AJ56: 5 | AK56: Загалом все влаштовує | AL56: =TRIM(F56&G56&H56&I56&J56&K56&L56&M56&N56&O56&P56) -> Скакальська Ірина Богданівна | AM56: =IFERROR(AVERAGE(R56:AJ56),"") -> 5
A57: 46154.914 | B57: Перший (бакалаврський) | C57: Середня освіта (Музичне мистецтво). Хореографія / Середня освіта (Музичне мистецтво) | E57: Кафедра мистецьких дисциплін та методик їх навчання | K57: Ільчук Ліна Петрівна | Q57: Теорія і методика навчання освітньої галузі «Мистецтво» у школі | R57: 5 | S57: 5 | T57: 5 | U57: 5 | V57: 5 | W57: 5 | X57: 5 | Y57: 5 | Z57: 5 | AA57: 5 | AB57: 5 | AC57: 5 | AD57: 5 | AE57: 5 | AF57: 5 | AG57: 5 | AH57: 5 | AI57: 5 | AJ57: 5 | AK57: Стосовно дисципліни усе влаштовує,хочеться щоб усе було лише на краще | AL57: =TRIM(F57&G57&H57&I57&J57&K57&L57&M57&N57&O57&P57) -> Ільчук Ліна Петрівна | AM57: =IFERROR(AVERAGE(R57:AJ57),"") -> 5
A58: 46154.917 | B58: Перший (бакалаврський) | C58: Середня освіта (Українська мова і література. Зарубіжна література) / Середня освіта (Українська мова і література) | E58: Кафедра української мови і літератури та методик їх навчання | G58: Назарець Віталій Миколайович | Q58: Українська література | R58: 5 | S58: 5 | T58: 5 | U58: 5 | V58: 5 | W58: 5 | X58: 5 | Y58: 5 | Z58: 5 | AA58: 5 | AB58: 5 | AC58: 5 | AD58: 5 | AE58: 5 | AF58: 5 | AG58: 5 | AH58: 5 | AI58: 5 | AJ58: 5 | AK58: - | AL58: =TRIM(F58&G58&H58&I58&J58&K58&L58&M58&N58&O58&P58) -> Назарець Віталій Миколайович | AM58: =IFERROR(AVERAGE(R58:AJ58),"") -> 5
A59: 46154.92 | B59: Перший (бакалаврський) | C59: Середня освіта (Музичне мистецтво). Хореографія / Середня освіта (Музичне мистецтво) | E59: Кафедра мистецьких дисциплін та методик їх навчання | K59: Соляр Лариса Віталіївна | Q59: Музичний інструмент | R59: 5 | S59: 5 | T59: 5 | U59: 5 | V59: 5 | W59: 5 | X59: 5 | Y59: 5 | Z59: 5 | AA59: 5 | AB59: 5 | AC59: 5 | AD59: 5 | AE59: 5 | AF59: 5 | AG59: 5 | AH59: 5 | AI59: 5 | AJ59: 5 | AK59: Все класно | AL59: =TRIM(F59&G59&H59&I59&J59&K59&L59&M59&N59&O59&P59) -> Соляр Лариса Віталіївна | AM59: =IFERROR(AVERAGE(R59:AJ59),"") -> 5
A60: 46154.929 | B60: Перший (бакалаврський) | C60: Психологія. Інклюзивна освіта / Психологія | E60: Кафедра психології і соціальної роботи | L60: Ярощук Маріанна Володимирівна | Q60: Психологія | R60: 5 | S60: 5 | T60: 5 | U60: 5 | V60: 5 | W60: 5 | X60: 5 | Y60: 5 | Z60: 5 | AA60: 5 | AB60: 5 | AC60: 5 | AD60: 5 | AE60: 5 | AF60: 5 | AG60: 5 | AH60: 5 | AI60: 5 | AJ60: 5 | AK60: . | AL60: =TRIM(F60&G60&H60&I60&J60&K60&L60&M60&N60&O60&P60) -> Ярощук Маріанна Володимирівна | AM60: =IFERROR(AVERAGE(R60:AJ60),"") -> 5
A61: 46154.937 | B61: Перший (бакалаврський) | C61: Середня освіта (Історія). Музейна справа / Середня освіта (Історія) | E61: Кафедра історії та методики навчання | O61: Сеньківська Галина Ярославівна | Q61: Історія | R61: 5 | S61: 5 | T61: 5 | U61: 5 | V61: 5 | W61: 5 | X61: 5 | Y61: 5 | Z61: 5 | AA61: 5 | AB61: 5 | AC61: 4 | AD61: 5 | AE61: 4 | AF61: 5 | AG61: 5 | AH61: 4 | AI61: 5 | AJ61: 5 | AK61: Дуже класна | AL61: =TRIM(F61&G61&H61&I61&J61&K61&L61&M61&N61&O61&P61) -> Сеньківська Галина Ярославівна | AM61: =IFERROR(AVERAGE(R61:AJ61),"") -> 4.8421053
A62: 46154.944 | B62: Перший (бакалаврський) | C62: Середня освіта (Музичне мистецтво). Хореографія / Середня освіта (Музичне мистецтво) | E62: Кафедра мистецьких дисциплін та методик їх навчання | K62: Ратинська Інна Василівна | Q62: Диригування | R62: 5 | S62: 5 | T62: 4 | U62: 5 | V62: 5 | W62: 5 | X62: 5 | Y62: 5 | Z62: 5 | AA62: 5 | AB62: 4 | AC62: 4 | AD62: 3 | AE62: 4 | AF62: 4 | AG62: 1 | AH62: 4 | AI62: 3 | AJ62: 1 | AK62: Нічого | AL62: =TRIM(F62&G62&H62&I62&J62&K62&L62&M62&N62&O62&P62) -> Ратинська Інна Василівна | AM62: =IFERROR(AVERAGE(R62:AJ62),"") -> 4.0526316
A63: 46154.95 | B63: Перший (бакалаврський) | C63: Середня освіта (Музичне мистецтво). Хореографія / Середня освіта (Музичне мистецтво) | E63: Кафедра мистецьких дисциплін та методик їх навчання | K63: Ільчук Ліна Петрівна | Q63: Теорія і м-ка н-ня освітньої галузі «Мистецтво» у школі | R63: 5 | S63: 5 | T63: 5 | U63: 5 | V63: 5 | W63: 5 | X63: 5 | Y63: 5 | Z63: 5 | AA63: 5 | AB63: 4 | AC63: 5 | AD63: 5 | AE63: 5 | AF63: 5 | AG63: 5 | AH63: 5 | AI63: 5 | AJ63: 5 | AK63: Все супер | AL63: =TRIM(F63&G63&H63&I63&J63&K63&L63&M63&N63&O63&P63) -> Ільчук Ліна Петрівна | AM63: =IFERROR(AVERAGE(R63:AJ63),"") -> 4.9473684
A64: 46154.956 | B64: Перший (бакалаврський) | C64: Середня освіта (Образотворче мистецтво) / Середня освіта (Образотворче мистецтво). Дизайн освітнього середовища | E64: Кафедра мистецьких дисциплін та методик їх навчання | K64: Погонець Іванна Василівна | Q64: Мистецтво. Образотворче мистецтво | R64: 5 | S64: 4 | T64: 4 | U64: 5 | V64: 5 | W64: 5 | X64: 4 | Y64: 5 | Z64: 5 | AA64: 5 | AB64: 5 | AC64: 5 | AD64: 5 | AE64: 5 | AF64: 5 | AG64: 5 | AH64: 5 | AI64: 5 | AJ64: 5 | AK64: ... | AL64: =TRIM(F64&G64&H64&I64&J64&K64&L64&M64&N64&O64&P64) -> Погонець Іванна Василівна | AM64: =IFERROR(AVERAGE(R64:AJ64),"") -> 4.8421053
A65: 46154.96 | B65: Перший (бакалаврський) | C65: Дошкільна освіта. Спеціальна освіта (Логопедія) / Дошкільна освіта | E65: Кафедра педагогіки, дошкільної та початкової освіти | J65: Врочинська Людмила Ігорівна | Q65: Педагогіка раннього дитинства | R65: 5 | S65: 5 | T65: 5 | U65: 5 | V65: 5 | W65: 4 | X65: 5 | Y65: 5 | Z65: 5 | AA65: 5 | AB65: 5 | AC65: 5 | AD65: 5 | AE65: 5 | AF65: 5 | AG65: 5 | AH65: 5 | AI65: 5 | AJ65: 5 | AK65: Більше гарних балів,і складання екзамену на ура🥰 | AL65: =TRIM(F65&G65&H65&I65&J65&K65&L65&M65&N65&O65&P65) -> Врочинська Людмила Ігорівна | AM65: =IFERROR(AVERAGE(R65:AJ65),"") -> 4.9473684
A66: 46154.961 | B66: Перший (бакалаврський) | C66: Дошкільна освіта. Спеціальна освіта (Логопедія) / Дошкільна освіта | E66: Кафедра педагогіки, дошкільної та початкової освіти | J66: Приймас Наталія Володимирівна | Q66: Дошкільна освіта | R66: 4 | S66: 3 | T66: 4 | U66: 4 | V66: 3 | W66: 4 | X66: 4 | Y66: 4 | Z66: 5 | AA66: 4 | AB66: 3 | AC66: 3 | AD66: 4 | AE66: 4 | AF66: 4 | AG66: 4 | AH66: 4 | AI66: 5 | AJ66: 4 | AK66: !!!! | AL66: =TRIM(F66&G66&H66&I66&J66&K66&L66&M66&N66&O66&P66) -> Приймас Наталія Володимирівна | AM66: =IFERROR(AVERAGE(R66:AJ66),"") -> 3.8947368
A67: 46154.97 | B67: Перший (бакалаврський) | C67: Початкова освіта. Англійська мова / Початкова освіта | E67: Кафедра педагогіки, дошкільної та початкової освіти | J67: Швець Оксана Вікторівна | Q67: .. | R67: 5 | S67: 5 | T67: 5 | U67: 5 | V67: 5 | W67: 5 | X67: 5 | Y67: 5 | Z67: 5 | AA67: 5 | AB67: 5 | AC67: 5 | AD67: 5 | AE67: 5 | AF67: 5 | AG67: 5 | AH67: 5 | AI67: 5 | AJ67: 5 | AK67: .. | AL67: =TRIM(F67&G67&H67&I67&J67&K67&L67&M67&N67&O67&P67) -> Швець Оксана Вікторівна | AM67: =IFERROR(AVERAGE(R67:AJ67),"") -> 5
A68: 46154.976 | B68: Перший (бакалаврський) | C68: Початкова освіта. Англійська мова / Початкова освіта | E68: Кафедра педагогіки, дошкільної та початкової освіти | J68: Швець Оксана Вікторівна | Q68: Методика мовно-літературної освітньої галузі | R68: 5 | S68: 5 | T68: 5 | U68: 5 | V68: 5 | W68: 5 | X68: 5 | Y68: 5 | Z68: 5 | AA68: 5 | AB68: 5 | AC68: 5 | AD68: 5 | AE68: 5 | AF68: 5 | AG68: 5 | AH68: 5 | AI68: 5 | AJ68: 5 | AK68: Покращення програми мудл | AL68: =TRIM(F68&G68&H68&I68&J68&K68&L68&M68&N68&O68&P68) -> Швець Оксана Вікторівна | AM68: =IFERROR(AVERAGE(R68:AJ68),"") -> 5
A69: 46154.986 | B69: Перший (бакалаврський) | C69: Середня освіта (Історія). Музейна справа / Середня освіта (Історія) | E69: Кафедра історії та методики навчання | O69: Скакальська Ірина Богданівна | Q69: Історія України ( XIX-XXI ст.), Елітознавство | R69: 5 | S69: 5 | T69: 5 | U69: 5 | V69: 5 | W69: 5 | X69: 5 | Y69: 5 | Z69: 5 | AA69: 5 | AB69: 5 | AC69: 5 | AD69: 5 | AE69: 5 | AF69: 5 | AG69: 5 | AH69: 5 | AI69: 5 | AJ69: 5 | AK69: - | AL69: =TRIM(F69&G69&H69&I69&J69&K69&L69&M69&N69&O69&P69) -> Скакальська Ірина Богданівна | AM69: =IFERROR(AVERAGE(R69:AJ69),"") -> 5
A70: 46154.994 | B70: Перший (бакалаврський) | C70: Початкова освіта. Англійська мова / Початкова освіта | E70: Кафедра педагогіки, дошкільної та початкової освіти | J70: Швець Оксана Вікторівна | Q70: Методика навчання природничої освітньої галузі | R70: 5 | S70: 5 | T70: 5 | U70: 5 | V70: 5 | W70: 5 | X70: 5 | Y70: 5 | Z70: 5 | AA70: 5 | AB70: 5 | AC70: 5 | AD70: 5 | AE70: 5 | AF70: 5 | AG70: 5 | AH70: 5 | AI70: 5 | AJ70: 5 | AK70: Частіше використовувати різні функції мудлу | AL70: =TRIM(F70&G70&H70&I70&J70&K70&L70&M70&N70&O70&P70) -> Швець Оксана Вікторівна | AM70: =IFERROR(AVERAGE(R70:AJ70),"") -> 5
A71: 46155.003 | B71: Перший (бакалаврський) | C71: Середня освіта (Українська мова і література. Зарубіжна література) / Середня освіта (Українська мова і література) | E71: Кафедра української мови і літератури та методик їх навчання | G71: Василишин Олег Васильович | Q71: Культура української мови | R71: 5 | S71: 5 | T71: 5 | U71: 5 | V71: 5 | W71: 5 | X71: 5 | Y71: 5 | Z71: 5 | AA71: 5 | AB71: 5 | AC71: 5 | AD71: 5 | AE71: 5 | AF71: 5 | AG71: 5 | AH71: 5 | AI71: 5 | AJ71: 5 | AK71: Немає | AL71: =TRIM(F71&G71&H71&I71&J71&K71&L71&M71&N71&O71&P71) -> Василишин Олег Васильович | AM71: =IFERROR(AVERAGE(R71:AJ71),"") -> 5
A72: 46155.004 | B72: Перший (бакалаврський) | C72: Середня освіта (Українська мова і література. Зарубіжна література) / Середня освіта (Українська мова і література) | E72: Кафедра української мови і літератури та методик їх навчання | G72: Волянюк Інна Оверківна | Q72: Лінгвістичний аналіз тексту | R72: 5 | S72: 5 | T72: 5 | U72: 5 | V72: 5 | W72: 5 | X72: 5 | Y72: 5 | Z72: 5 | AA72: 5 | AB72: 5 | AC72: 5 | AD72: 5 | AE72: 5 | AF72: 5 | AG72: 5 | AH72: 5 | AI72: 5 | AJ72: 5 | AK72: Немає | AL72: =TRIM(F72&G72&H72&I72&J72&K72&L72&M72&N72&O72&P72) -> Волянюк Інна Оверківна | AM72: =IFERROR(AVERAGE(R72:AJ72),"") -> 5
A73: 46155.147 | B73: Перший (бакалаврський) | C73: Дошкільна освіта. Спеціальна освіта (Логопедія) / Дошкільна освіта | E73: Кафедра педагогіки, дошкільної та початкової освіти | J73: Кравець Любов Михайлівна | Q73: Інтегроване навчання дітей дошкільного віку | R73: 5 | S73: 5 | T73: 5 | U73: 5 | V73: 5 | W73: 5 | X73: 5 | Y73: 5 | Z73: 5 | AA73: 5 | AB73: 5 | AC73: 5 | AD73: 5 | AE73: 5 | AF73: 5 | AG73: 5 | AH73: 5 | AI73: 5 | AJ73: 5 | AK73: Немає | AL73: =TRIM(F73&G73&H73&I73&J73&K73&L73&M73&N73&O73&P73) -> Кравець Любов Михайлівна | AM73: =IFERROR(AVERAGE(R73:AJ73),"") -> 5
A74: 46155.334 | B74: Перший (бакалаврський) | C74: Дошкільна освіта. Спеціальна освіта (Логопедія) / Дошкільна освіта | E74: Кафедра педагогіки, дошкільної та початкової освіти | J74: Врочинська Людмила Ігорівна | Q74: Педагогіка раннього віку | R74: 5 | S74: 5 | T74: 5 | U74: 5 | V74: 5 | W74: 5 | X74: 5 | Y74: 5 | Z74: 5 | AA74: 5 | AB74: 5 | AC74: 5 | AD74: 5 | AE74: 4 | AF74: 5 | AG74: 5 | AH74: 4 | AI74: 5 | AJ74: 5 | AK74: Людмила Ігорівна найкраща!! | AL74: =TRIM(F74&G74&H74&I74&J74&K74&L74&M74&N74&O74&P74) -> Врочинська Людмила Ігорівна | AM74: =IFERROR(AVERAGE(R74:AJ74),"") -> 4.8947368
A75: 46155.349 | B75: Перший (бакалаврський) | C75: Дошкільна освіта. Спеціальна освіта (Логопедія) / Дошкільна освіта | E75: Кафедра педагогіки, дошкільної та початкової освіти | J75: Кравець Любов Михайлівна | Q75: Педагогіка | R75: 5 | S75: 5 | T75: 5 | U75: 5 | V75: 5 | W75: 5 | X75: 5 | Y75: 5 | Z75: 5 | AA75: 5 | AB75: 5 | AC75: 4 | AD75: 5 | AE75: 5 | AF75: 5 | AG75: 5 | AH75: 5 | AI75: 5 | AJ75: 5 | AK75: Немає | AL75: =TRIM(F75&G75&H75&I75&J75&K75&L75&M75&N75&O75&P75) -> Кравець Любов Михайлівна | AM75: =IFERROR(AVERAGE(R75:AJ75),"") -> 4.9473684
A76: 46155.368 | B76: Перший (бакалаврський) | C76: Середня освіта (Музичне мистецтво). Хореографія / Середня освіта (Музичне мистецтво) | E76: Кафедра мистецьких дисциплін та методик їх навчання | K76: Ратинська Інна Василівна | Q76: Хоровий Клас | R76: 5 | S76: 5 | T76: 5 | U76: 5 | V76: 5 | W76: 5 | X76: 5 | Y76: 5 | Z76: 5 | AA76: 5 | AB76: 5 | AC76: 5 | AD76: 5 | AE76: 5 | AF76: 5 | AG76: 5 | AH76: 5 | AI76: 5 | AJ76: 5 | AK76: Немає | AL76: =TRIM(F76&G76&H76&I76&J76&K76&L76&M76&N76&O76&P76) -> Ратинська Інна Василівна | AM76: =IFERROR(AVERAGE(R76:AJ76),"") -> 5
A77: 46155.378 | B77: Перший (бакалаврський) | C77: Соціальна робота. Практична психологія / Соціальна робота | E77: Кафедра психології і соціальної роботи | L77: Ярощук Маріанна Володимирівна | Q77: Психологія | R77: 5 | S77: 5 | T77: 5 | U77: 5 | V77: 5 | W77: 5 | X77: 5 | Y77: 5 | Z77: 5 | AA77: 5 | AB77: 5 | AC77: 5 | AD77: 5 | AE77: 5 | AF77: 5 | AG77: 5 | AH77: 5 | AI77: 5 | AJ77: 5 | AK77: Все влаштовує | AL77: =TRIM(F77&G77&H77&I77&J77&K77&L77&M77&N77&O77&P77) -> Ярощук Маріанна Володимирівна | AM77: =IFERROR(AVERAGE(R77:AJ77),"") -> 5
A78: 46155.38 | B78: Перший (бакалаврський) | C78: Середня освіта (Образотворче мистецтво) / Середня освіта (Образотворче мистецтво). Дизайн освітнього середовища | E78: Кафедра мистецьких дисциплін та методик їх навчання | K78: Балбус Тетяна Анатоліївна | Q78: Рисунок | R78: 5 | S78: 5 | T78: 5 | U78: 5 | V78: 5 | W78: 5 | X78: 5 | Y78: 5 | Z78: 5 | AA78: 5 | AB78: 5 | AC78: 5 | AD78: 5 | AE78: 5 | AF78: 5 | AG78: 5 | AH78: 5 | AI78: 5 | AJ78: 5 | AK78: . | AL78: =TRIM(F78&G78&H78&I78&J78&K78&L78&M78&N78&O78&P78) -> Балбус Тетяна Анатоліївна | AM78: =IFERROR(AVERAGE(R78:AJ78),"") -> 5
A79: 46155.384 | B79: Перший (бакалаврський) | C79: Середня освіта (Історія). Музейна справа / Середня освіта (Історія) | E79: Кафедра історії та методики навчання | O79: Стронський Генріх Йосипович | Q79: Новітня історія | R79: 5 | S79: 5 | T79: 5 | U79: 5 | V79: 5 | W79: 5 | X79: 5 | Y79: 5 | Z79: 5 | AA79: 5 | AB79: 5 | AC79: 5 | AD79: 5 | AE79: 5 | AF79: 5 | AG79: 5 | AH79: 5 | AI79: 5 | AJ79: 5 | AK79: . | AL79: =TRIM(F79&G79&H79&I79&J79&K79&L79&M79&N79&O79&P79) -> Стронський Генріх Йосипович | AM79: =IFERROR(AVERAGE(R79:AJ79),"") -> 5
A80: 46155.399 | B80: Перший (бакалаврський) | C80: Середня освіта (Трудове навчання та технології. Інформатика) / Середня освіта (Трудове навчання та технології) | E80: Кафедра теорії і методики трудового навчання та технологій | H80: Цісарук Ірина Василівна | Q80: Основи підприємницької діяльності | R80: 5 | S80: 5 | T80: 5 | U80: 5 | V80: 5 | W80: 5 | X80: 5 | Y80: 5 | Z80: 5 | AA80: 5 | AB80: 5 | AC80: 5 | AD80: 5 | AE80: 5 | AF80: 5 | AG80: 5 | AH80: 5 | AI80: 5 | AJ80: 5 | AL80: =TRIM(F80&G80&H80&I80&J80&K80&L80&M80&N80&O80&P80) -> Цісарук Ірина Василівна | AM80: =IFERROR(AVERAGE(R80:AJ80),"") -> 5
A81: 46155.402 | B81: Перший (бакалаврський) | C81: Середня освіта (Трудове навчання та технології. Інформатика) / Середня освіта (Трудове навчання та технології) | E81: Кафедра теорії і методики трудового навчання та технологій | H81: Гарматюк Ростислав Тарасович | Q81: Основи стандартизації, метрологія та технічних вимірювань | R81: 5 | S81: 5 | T81: 5 | U81: 5 | V81: 5 | W81: 5 | X81: 5 | Y81: 5 | Z81: 5 | AA81: 5 | AB81: 5 | AC81: 5 | AD81: 5 | AE81: 5 | AF81: 5 | AG81: 5 | AI81: 5 | AJ81: 5 | AL81: =TRIM(F81&G81&H81&I81&J81&K81&L81&M81&N81&O81&P81) -> Гарматюк Ростислав Тарасович | AM81: =IFERROR(AVERAGE(R81:AJ81),"") -> 5
A82: 46155.403 | B82: Перший (бакалаврський) | C82: Середня освіта (Трудове навчання та технології. Інформатика) / Середня освіта (Трудове навчання та технології) | E82: Кафедра теорії і методики трудового навчання та технологій | H82: Ємець Олександр Павлович | Q82: Практикум з технічної творчості | R82: 5 | S82: 5 | T82: 5 | U82: 5 | V82: 5 | W82: 5 | X82: 5 | Y82: 5 | Z82: 5 | AA82: 5 | AB82: 5 | AC82: 5 | AD82: 5 | AE82: 5 | AF82: 5 | AG82: 5 | AH82: 5 | AI82: 5 | AJ82: 5 | AL82: =TRIM(F82&G82&H82&I82&J82&K82&L82&M82&N82&O82&P82) -> Ємець Олександр Павлович | AM82: =IFERROR(AVERAGE(R82:AJ82),"") -> 5
A83: 46155.404 | B83: Перший (бакалаврський) | C83: Середня освіта (Англійська мова та зарубіжна література) / Середня освіта (Англійська мова та література) | E83: Кафедра іноземних мов та методик їх навчання | F83: Долга Тетяна Олександрівна | Q83: Компенсаторний курс з іноземної мови для підготовки до ЄВІ | R83: 5 | S83: 5 | T83: 5 | U83: 5 | V83: 5 | W83: 5 | X83: 5 | Y83: 5 | Z83: 5 | AA83: 5 | AB83: 5 | AC83: 5 | AD83: 5 | AE83: 5 | AF83: 5 | AG83: 5 | AH83: 5 | AI83: 5 | AJ83: 5 | AL83: =TRIM(F83&G83&H83&I83&J83&K83&L83&M83&N83&O83&P83) -> Долга Тетяна Олександрівна | AM83: =IFERROR(AVERAGE(R83:AJ83),"") -> 5
A84: 46155.405 | B84: Перший (бакалаврський) | C84: Середня освіта (Трудове навчання та технології. Інформатика) / Середня освіта (Трудове навчання та технології) | E84: Кафедра теорії і методики трудового навчання та технологій | H84: Томашівський Сергій Михайлович | Q84: Практикум з художньої обробки матеріалів | R84: 5 | S84: 5 | T84: 5 | U84: 5 | V84: 5 | W84: 5 | X84: 5 | Y84: 5 | Z84: 5 | AA84: 5 | AB84: 5 | AC84: 5 | AD84: 5 | AE84: 5 | AF84: 5 | AG84: 5 | AH84: 5 | AI84: 5 | AJ84: 5 | AL84: =TRIM(F84&G84&H84&I84&J84&K84&L84&M84&N84&O84&P84) -> Томашівський Сергій Михайлович | AM84: =IFERROR(AVERAGE(R84:AJ84),"") -> 5
A85: 46155.405 | B85: Перший (бакалаврський) | C85: Середня освіта (Трудове навчання та технології. Інформатика) / Середня освіта (Трудове навчання та технології) | E85: Кафедра теорії і методики трудового навчання та технологій | H85: Шабага Степан Богданович | Q85: Технології виготовлення виробів з металу | R85: 5 | S85: 5 | T85: 5 | U85: 5 | V85: 5 | W85: 5 | X85: 5 | Y85: 5 | Z85: 5 | AA85: 5 | AB85: 5 | AC85: 5 | AD85: 5 | AE85: 5 | AF85: 5 | AG85: 5 | AH85: 5 | AI85: 5 | AJ85: 5 | AL85: =TRIM(F85&G85&H85&I85&J85&K85&L85&M85&N85&O85&P85) -> Шабага Степан Богданович | AM85: =IFERROR(AVERAGE(R85:AJ85),"") -> 5
A86: 46155.406 | B86: Перший (бакалаврський) | C86: Середня освіта (Трудове навчання та технології. Інформатика) / Середня освіта (Трудове навчання та технології) | E86: Кафедра теорії і методики трудового навчання та технологій | H86: Омельчук Олександр Васильович | Q86: Ландшафтний дизайн | R86: 5 | S86: 5 | T86: 5 | U86: 5 | V86: 5 | W86: 5 | X86: 5 | Y86: 5 | Z86: 5 | AA86: 5 | AB86: 5 | AC86: 5 | AD86: 5 | AE86: 5 | AF86: 5 | AG86: 5 | AH86: 5 | AI86: 5 | AJ86: 5 | AL86: =TRIM(F86&G86&H86&I86&J86&K86&L86&M86&N86&O86&P86) -> Омельчук Олександр Васильович | AM86: =IFERROR(AVERAGE(R86:AJ86),"") -> 5
A87: 46155.417 | B87: Перший (бакалаврський) | C87: Середня освіта (Трудове навчання та технології. Інформатика) / Середня освіта (Трудове навчання та технології) | E87: Кафедра теорії і методики трудового навчання та технологій | H87: Омельчук Олександр Васильович | Q87: Теорія і методика профорієнтаційної роботи та позашкільної освіти | R87: 5 | S87: 5 | T87: 5 | U87: 5 | V87: 5 | W87: 5 | X87: 5 | Y87: 5 | Z87: 5 | AA87: 5 | AB87: 5 | AC87: 5 | AD87: 5 | AE87: 5 | AF87: 5 | AG87: 5 | AH87: 5 | AI87: 5 | AJ87: 5 | AK87: . | AL87: =TRIM(F87&G87&H87&I87&J87&K87&L87&M87&N87&O87&P87) -> Омельчук Олександр Васильович | AM87: =IFERROR(AVERAGE(R87:AJ87),"") -> 5
A88: 46155.418 | B88: Перший (бакалаврський) | C88: Середня освіта (Польська, англійська мови та зарубіжна література) / Середня освіта (Польська мова і література) | E88: Кафедра іноземних мов та методик їх навчання | F88: Завадський Юрій Романович | Q88: 5 | R88: 5 | S88: 5 | T88: 5 | U88: 5 | V88: 5 | W88: 5 | X88: 4 | Y88: 5 | Z88: 5 | AA88: 5 | AB88: 5 | AC88: 4 | AD88: 5 | AE88: 5 | AF88: 5 | AG88: 5 | AH88: 5 | AI88: 5 | AJ88: 5 | AK88: . | AL88: =TRIM(F88&G88&H88&I88&J88&K88&L88&M88&N88&O88&P88) -> Завадський Юрій Романович | AM88: =IFERROR(AVERAGE(R88:AJ88),"") -> 4.8947368
A89: 46155.419 | B89: Другий (магістерський) | D89: Середня освіта (Трудове навчання та технології. Інформатика) | E89: Кафедра теорії і методики трудового навчання та технологій | H89: Омельчук Олександр Васильович | Q89: Методика профільного навчання | R89: 5 | S89: 5 | T89: 5 | U89: 5 | V89: 5 | W89: 5 | X89: 5 | Y89: 5 | Z89: 5 | AA89: 5 | AB89: 5 | AC89: 5 | AD89: 5 | AE89: 5 | AF89: 5 | AG89: 5 | AH89: 5 | AI89: 5 | AJ89: 5 | AK89: . | AL89: =TRIM(F89&G89&H89&I89&J89&K89&L89&M89&N89&O89&P89) -> Омельчук Олександр Васильович | AM89: =IFERROR(AVERAGE(R89:AJ89),"") -> 5
A90: 46155.422 | B90: Перший (бакалаврський) | C90: Середня освіта (Німецька, англійська мови та зарубіжна література) / Середня освіта (Німецька мова і література) | E90: Кафедра іноземних мов та методик їх навчання | F90: Марунько Орися Адамівна | Q90: Практичний курс німецької мови | R90: 5 | S90: 5 | T90: 5 | U90: 5 | V90: 5 | W90: 5 | X90: 5 | Y90: 5 | Z90: 5 | AA90: 5 | AB90: 5 | AC90: 5 | AD90: 5 | AE90: 5 | AF90: 5 | AG90: 5 | AH90: 5 | AI90: 5 | AJ90: 5 | AK90: Все супер | AL90: =TRIM(F90&G90&H90&I90&J90&K90&L90&M90&N90&O90&P90) -> Марунько Орися Адамівна | AM90: =IFERROR(AVERAGE(R90:AJ90),"") -> 5
A91: 46155.435 | B91: Перший (бакалаврський) | C91: Початкова освіта. Англійська мова / Початкова освіта | E91: Кафедра теорії і методики трудового навчання та технологій | H91: Цісарук Ірина Василівна | Q91: теорія та методика трудового навчання та технологій | R91: 5 | S91: 5 | T91: 5 | U91: 5 | V91: 5 | W91: 5 | X91: 5 | Y91: 5 | Z91: 5 | AA91: 5 | AB91: 5 | AC91: 5 | AD91: 5 | AE91: 5 | AF91: 5 | AG91: 5 | AH91: 5 | AI91: 5 | AJ91: 5 | AK91: мені подобається ця дисципліна | AL91: =TRIM(F91&G91&H91&I91&J91&K91&L91&M91&N91&O91&P91) -> Цісарук Ірина Василівна | AM91: =IFERROR(AVERAGE(R91:AJ91),"") -> 5
A92: 46155.452 | B92: Перший (бакалаврський) | C92: Психологія. Інклюзивна освіта / Психологія | E92: Кафедра психології і соціальної роботи | L92: Новак Тетяна Віталіївна | Q92: Основи психотерапії | R92: 5 | S92: 5 | T92: 5 | U92: 4 | V92: 4 | W92: 3 | X92: 5 | Y92: 4 | Z92: 4 | AA92: 5 | AB92: 4 | AC92: 5 | AD92: 3 | AE92: 3 | AF92: 3 | AG92: 5 | AH92: 5 | AI92: 5 | AJ92: 4 | AK92: Немає | AL92: =TRIM(F92&G92&H92&I92&J92&K92&L92&M92&N92&O92&P92) -> Новак Тетяна Віталіївна | AM92: =IFERROR(AVERAGE(R92:AJ92),"") -> 4.2631579
A93: 46155.461 | B93: Перший (бакалаврський) | C93: Середня освіта (Англійська мова та зарубіжна література) / Середня освіта (Англійська мова та література) | E93: Кафедра іноземних мов та методик їх навчання | F93: Янусь Наталя Володимирівна | Q93: Практичний курс англійської мови | R93: 5 | S93: 5 | T93: 5 | U93: 5 | V93: 5 | W93: 5 | X93: 5 | Y93: 5 | Z93: 5 | AA93: 5 | AB93: 5 | AC93: 5 | AD93: 5 | AE93: 5 | AF93: 5 | AG93: 5 | AH93: 5 | AI93: 5 | AJ93: 5 | AK93: Немає, все добре | AL93: =TRIM(F93&G93&H93&I93&J93&K93&L93&M93&N93&O93&P93) -> Янусь Наталя Володимирівна | AM93: =IFERROR(AVERAGE(R93:AJ93),"") -> 5
A94: 46155.483 | B94: Перший (бакалаврський) | C94: Дошкільна освіта. Спеціальна освіта (Логопедія) / Дошкільна освіта | E94: Кафедра педагогіки, дошкільної та початкової освіти | J94: Доманюк Оксана Михайлівна | Q94: Навчально педагогічна практика в групах раннього та дошкільного віку | R94: 5 | S94: 5 | T94: 5 | U94: 5 | V94: 5 | W94: 5 | X94: 5 | Y94: 5 | Z94: 5 | AA94: 5 | AB94: 5 | AC94: 5 | AD94: 5 | AE94: 5 | AF94: 5 | AG94: 5 | AH94: 5 | AI94: 5 | AJ94: 5 | AK94: Все супер, жодних питань | AL94: =TRIM(F94&G94&H94&I94&J94&K94&L94&M94&N94&O94&P94) -> Доманюк Оксана Михайлівна | AM94: =IFERROR(AVERAGE(R94:AJ94),"") -> 5
A95: 46155.489 | B95: Перший (бакалаврський) | C95: Середня освіта (Трудове навчання та технології. Інформатика) / Середня освіта (Трудове навчання та технології) | E95: Кафедра теорії і методики трудового навчання та технологій | H95: Цісарук Ірина Василівна | Q95: Теорія і методика трудового навчання та технологій | R95: 5 | S95: 5 | T95: 5 | U95: 5 | V95: 5 | W95: 5 | X95: 5 | Y95: 5 | Z95: 5 | AA95: 5 | AB95: 5 | AC95: 5 | AD95: 5 | AE95: 5 | AF95: 5 | AG95: 5 | AH95: 5 | AI95: 5 | AJ95: 5 | AK95: . | AL95: =TRIM(F95&G95&H95&I95&J95&K95&L95&M95&N95&O95&P95) -> Цісарук Ірина Василівна | AM95: =IFERROR(AVERAGE(R95:AJ95),"") -> 5
A96: 46155.492 | B96: Перший (бакалаврський) | C96: Середня освіта (Інформатика). Англійська мова для інформатики / Середня освіта (Інформатика) | E96: Кафедра інформаційних технологій та методики навчання інформатики | I96: Галаган Ігор Миколайович | Q96: Інформатика | R96: 5 | S96: 5 | T96: 5 | U96: 5 | V96: 5 | W96: 5 | X96: 5 | Y96: 5 | Z96: 5 | AA96: 5 | AB96: 5 | AC96: 5 | AD96: 5 | AE96: 5 | AF96: 5 | AG96: 5 | AH96: 5 | AI96: 5 | AJ96: 5 | AK96: Побажанням є збільшення кількості практичних занять та матеріалів для самостійного опрацювання. Загалом викладання дисципліни є доступним і зрозумілим. | AL96: =TRIM(F96&G96&H96&I96&J96&K96&L96&M96&N96&O96&P96) -> Галаган Ігор Миколайович | AM96: =IFERROR(AVERAGE(R96:AJ96),"") -> 5
A97: 46155.492 | B97: Перший (бакалаврський) | C97: Середня освіта (Інформатика). Англійська мова для інформатики / Середня освіта (Інформатика) | E97: Кафедра інформаційних технологій та методики навчання інформатики | I97: Галаган Ігор Миколайович | Q97: Інформатика | R97: 5 | S97: 5 | T97: 5 | U97: 5 | V97: 5 | W97: 5 | X97: 5 | Y97: 5 | Z97: 5 | AA97: 5 | AB97: 5 | AC97: 5 | AD97: 5 | AE97: 5 | AF97: 5 | AG97: 5 | AH97: 5 | AI97: 5 | AJ97: 5 | AK97: Більше практики | AL97: =TRIM(F97&G97&H97&I97&J97&K97&L97&M97&N97&O97&P97) -> Галаган Ігор Миколайович | AM97: =IFERROR(AVERAGE(R97:AJ97),"") -> 5
A98: 46155.51 | B98: Перший (бакалаврський) | C98: Дошкільна освіта. Спеціальна освіта (Логопедія) / Дошкільна освіта | E98: Кафедра педагогіки, дошкільної та початкової освіти | J98: Швець Оксана Вікторівна | Q98: Дошкільна освіта | R98: 5 | S98: 5 | T98: 5 | U98: 5 | V98: 5 | W98: 5 | X98: 5 | Y98: 5 | Z98: 5 | AA98: 5 | AB98: 5 | AC98: 5 | AD98: 5 | AE98: 5 | AF98: 5 | AG98: 5 | AH98: 5 | AI98: 5 | AJ98: 5 | AK98: немає😊 | AL98: =TRIM(F98&G98&H98&I98&J98&K98&L98&M98&N98&O98&P98) -> Швець Оксана Вікторівна | AM98: =IFERROR(AVERAGE(R98:AJ98),"") -> 5
A99: 46155.553 | B99: Перший (бакалаврський) | C99: Середня освіта (Трудове навчання та технології. Інформатика) / Середня освіта (Трудове навчання та технології) | E99: Кафедра теорії і методики трудового навчання та технологій | H99: Цісарук Ірина Василівна | Q99: Теорія і методика трудового навчання | R99: 5 | S99: 5 | T99: 5 | U99: 5 | V99: 5 | W99: 5 | X99: 5 | Y99: 5 | Z99: 5 | AA99: 5 | AB99: 5 | AC99: 5 | AD99: 5 | AE99: 5 | AF99: 5 | AG99: 5 | AH99: 5 | AI99: 5 | AJ99: 5 | AK99: Більше включати у заняття інтерактивні технології | AL99: =TRIM(F99&G99&H99&I99&J99&K99&L99&M99&N99&O99&P99) -> Цісарук Ірина Василівна | AM99: =IFERROR(AVERAGE(R99:AJ99),"") -> 5
A100: 46155.576 | B100: Перший (бакалаврський) | C100: Початкова освіта. Англійська мова / Початкова освіта | E100: Кафедра педагогіки, дошкільної та початкової освіти | J100: Швець Оксана Вікторівна | Q100: Методика навчання природничої освітньої галузі | R100: 5 | S100: 5 | T100: 5 | U100: 5 | V100: 5 | W100: 5 | X100: 5 | Y100: 5 | Z100: 5 | AA100: 5 | AB100: 5 | AC100: 5 | AD100: 5 | AE100: 5 | AF100: 5 | AG100: 5 | AH100: 5 | AI100: 5 | AJ100: 5 | AK100: Немає | AL100: =TRIM(F100&G100&H100&I100&J100&K100&L100&M100&N100&O100&P100) -> Швець Оксана Вікторівна | AM100: =IFERROR(AVERAGE(R100:AJ100),"") -> 5
...
