Workbook

Sheet Мистецьких дисциплін
A1: Кафедра мистецьких дисциплін та методик їх навчання
A2: Кафедра мистецьких дисциплін та методик їх навчання | D2: ← назва кафедри для формул (не змінювати)
A4: Викладач | B4: Кількість анкет | C4: Середній бал
A5: Ільчук Ліна Петрівна | B5: =COUNTIFS('Відповіді форми (1)'!$AL$2:$AL$335,$A5,'Відповіді форми (1)'!$E$2:$E$335,$A$2) -> 19 | C5: =IFERROR(AVERAGEIFS('Відповіді форми (1)'!$AM$2:$AM$335,'Відповіді форми (1)'!$AL$2:$AL$335,$A5,'Відповіді форми (1)'!$E$2:$E$335,$A$2),"") -> 4.9307479
A6: Афанасенко Алла Миколаївна | B6: =COUNTIFS('Відповіді форми (1)'!$AL$2:$AL$335,$A6,'Відповіді форми (1)'!$E$2:$E$335,$A$2) -> 4 | C6: =IFERROR(AVERAGEIFS('Відповіді форми (1)'!$AM$2:$AM$335,'Відповіді форми (1)'!$AL$2:$AL$335,$A6,'Відповіді форми (1)'!$E$2:$E$335,$A$2),"") -> 4.8684211
A7: Балбус Тетяна Анатоліївна | B7: =COUNTIFS('Відповіді форми (1)'!$AL$2:$AL$335,$A7,'Відповіді форми (1)'!$E$2:$E$335,$A$2) -> 7 | C7: =IFERROR(AVERAGEIFS('Відповіді форми (1)'!$AM$2:$AM$335,'Відповіді форми (1)'!$AL$2:$AL$335,$A7,'Відповіді форми (1)'!$E$2:$E$335,$A$2),"") -> 4.4586466
A8: Гуральна Світлана Степанівна | B8: =COUNTIFS('Відповіді форми (1)'!$AL$2:$AL$335,$A8,'Відповіді форми (1)'!$E$2:$E$335,$A$2) -> 4 | C8: =IFERROR(AVERAGEIFS('Відповіді форми (1)'!$AM$2:$AM$335,'Відповіді форми (1)'!$AL$2:$AL$335,$A8,'Відповіді форми (1)'!$E$2:$E$335,$A$2),"") -> 4.75
A9: Козачок Володимир Север'янович | B9: =COUNTIFS('Відповіді форми (1)'!$AL$2:$AL$335,$A9,'Відповіді форми (1)'!$E$2:$E$335,$A$2) -> 1 | C9: =IFERROR(AVERAGEIFS('Відповіді форми (1)'!$AM$2:$AM$335,'Відповіді форми (1)'!$AL$2:$AL$335,$A9,'Відповіді форми (1)'!$E$2:$E$335,$A$2),"") -> 5
A10: Лабунська Вікторія Олегівна | B10: =COUNTIFS('Відповіді форми (1)'!$AL$2:$AL$335,$A10,'Відповіді форми (1)'!$E$2:$E$335,$A$2) -> 1 | C10: =IFERROR(AVERAGEIFS('Відповіді форми (1)'!$AM$2:$AM$335,'Відповіді форми (1)'!$AL$2:$AL$335,$A10,'Відповіді форми (1)'!$E$2:$E$335,$A$2),"") -> 5
A11: Легкун Оксана Гаврилівна | B11: =COUNTIFS('Відповіді форми (1)'!$AL$2:$AL$335,$A11,'Відповіді форми (1)'!$E$2:$E$335,$A$2) -> 5 | C11: =IFERROR(AVERAGEIFS('Відповіді форми (1)'!$AM$2:$AM$335,'Відповіді форми (1)'!$AL$2:$AL$335,$A11,'Відповіді форми (1)'!$E$2:$E$335,$A$2),"") -> 5
A12: Мельник Юлія Ярославівна | B12: =COUNTIFS('Відповіді форми (1)'!$AL$2:$AL$335,$A12,'Відповіді форми (1)'!$E$2:$E$335,$A$2) -> 4 | C12: =IFERROR(AVERAGEIFS('Відповіді форми (1)'!$AM$2:$AM$335,'Відповіді форми (1)'!$AL$2:$AL$335,$A12,'Відповіді форми (1)'!$E$2:$E$335,$A$2),"") -> 4.9473684
A13: Олійник Світлана Олегівна | B13: =COUNTIFS('Відповіді форми (1)'!$AL$2:$AL$335,$A13,'Відповіді форми (1)'!$E$2:$E$335,$A$2) -> 13 | C13: =IFERROR(AVERAGEIFS('Відповіді форми (1)'!$AM$2:$AM$335,'Відповіді форми (1)'!$AL$2:$AL$335,$A13,'Відповіді форми (1)'!$E$2:$E$335,$A$2),"") -> 4.8299595
A14: Панфілова Олександра Георгіївна | B14: =COUNTIFS('Відповіді форми (1)'!$AL$2:$AL$335,$A14,'Відповіді форми (1)'!$E$2:$E$335,$A$2) -> 2 | C14: =IFERROR(AVERAGEIFS('Відповіді форми (1)'!$AM$2:$AM$335,'Відповіді форми (1)'!$AL$2:$AL$335,$A14,'Відповіді форми (1)'!$E$2:$E$335,$A$2),"") -> 5
A15: Погонець Іванна Василівна | B15: =COUNTIFS('Відповіді форми (1)'!$AL$2:$AL$335,$A15,'Відповіді форми (1)'!$E$2:$E$335,$A$2) -> 1 | C15: =IFERROR(AVERAGEIFS('Відповіді форми (1)'!$AM$2:$AM$335,'Відповіді форми (1)'!$AL$2:$AL$335,$A15,'Відповіді форми (1)'!$E$2:$E$335,$A$2),"") -> 4.8421053
A16: Райчук Василь Михайлович | B16: =COUNTIFS('Відповіді форми (1)'!$AL$2:$AL$335,$A16,'Відповіді форми (1)'!$E$2:$E$335,$A$2) -> 4 | C16: =IFERROR(AVERAGEIFS('Відповіді форми (1)'!$AM$2:$AM$335,'Відповіді форми (1)'!$AL$2:$AL$335,$A16,'Відповіді форми (1)'!$E$2:$E$335,$A$2),"") -> 4.8552632
... A25: Яловський Павло Михайлович | B25: =COUNTIFS('Відповіді форми (1)'!$AL$2:$AL$335,$A25,'Відповіді форми (1)'!$E$2:$E$335,$A$2) -> 2 | C25: =IFERROR(AVERAGEIFS('Відповіді форми (1)'!$AM$2:$AM$335,'Відповіді форми (1)'!$AL$2:$AL$335,$A25,'Відповіді форми (1)'!$E$2:$E$335,$A$2),"") -> 4.6578947

Sheet Педагогіки, дошк. і поч. осв.
A1: Кафедра педагогіки, дошкільної та початкової освіти
A2: Кафедра педагогіки, дошкільної та початкової освіти | D2: ← назва кафедри для формул (не змінювати)
A4: Викладач | B4: Кількість анкет | C4: Середній бал
A5: Бенера Валентина Єфремівна | B5: =COUNTIFS('Відповіді форми (1)'!$AL$2:$AL$335,$A5,'Відповіді форми (1)'!$E$2:$E$335,$A$2) -> 5 | C5: =IFERROR(AVERAGEIFS('Відповіді форми (1)'!$AM$2:$AM$335,'Відповіді форми (1)'!$AL$2:$AL$335,$A5,'Відповіді форми (1)'!$E$2:$E$335,$A$2),"") -> 4.1789474
A6: Врочинська Людмила Ігорівна | B6: =COUNTIFS('Відповіді форми (1)'!$AL$2:$AL$335,$A6,'Відповіді форми (1)'!$E$2:$E$335,$A$2) -> 7 | C6: =IFERROR(AVERAGEIFS('Відповіді форми (1)'!$AM$2:$AM$335,'Відповіді форми (1)'!$AL$2:$AL$335,$A6,'Відповіді форми (1)'!$E$2:$E$335,$A$2),"") -> 4.9473684
A7: Доманюк Оксана Михайлівна | B7: =COUNTIFS('Відповіді форми (1)'!$AL$2:$AL$335,$A7,'Відповіді форми (1)'!$E$2:$E$335,$A$2) -> 6 | C7: =IFERROR(AVERAGEIFS('Відповіді форми (1)'!$AM$2:$AM$335,'Відповіді форми (1)'!$AL$2:$AL$335,$A7,'Відповіді форми (1)'!$E$2:$E$335,$A$2),"") -> 5
A8: Кравець Любов Михайлівна | B8: =COUNTIFS('Відповіді форми (1)'!$AL$2:$AL$335,$A8,'Відповіді форми (1)'!$E$2:$E$335,$A$2) -> 3 | C8: =IFERROR(AVERAGEIFS('Відповіді форми (1)'!$AM$2:$AM$335,'Відповіді форми (1)'!$AL$2:$AL$335,$A8,'Відповіді форми (1)'!$E$2:$E$335,$A$2),"") -> 4.9824561
A9: Онищук Ірина Анатоліївна | B9: =COUNTIFS('Відповіді форми (1)'!$AL$2:$AL$335,$A9,'Відповіді форми (1)'!$E$2:$E$335,$A$2) -> 6 | C9: =IFERROR(AVERAGEIFS('Відповіді форми (1)'!$AM$2:$AM$335,'Відповіді форми (1)'!$AL$2:$AL$335,$A9,'Відповіді форми (1)'!$E$2:$E$335,$A$2),"") -> 4.6929825
A10: Павелко Вікторія Вікторівна | B10: =COUNTIFS('Відповіді форми (1)'!$AL$2:$AL$335,$A10,'Відповіді форми (1)'!$E$2:$E$335,$A$2) -> 5 | C10: =IFERROR(AVERAGEIFS('Відповіді форми (1)'!$AM$2:$AM$335,'Відповіді форми (1)'!$AL$2:$AL$335,$A10,'Відповіді форми (1)'!$E$2:$E$335,$A$2),"") -> 4.8631579
A11: Приймас Наталія Володимирівна | B11: =COUNTIFS('Відповіді форми (1)'!$AL$2:$AL$335,$A11,'Відповіді форми (1)'!$E$2:$E$335,$A$2) -> 9 | C11: =IFERROR(AVERAGEIFS('Відповіді форми (1)'!$AM$2:$AM$335,'Відповіді форми (1)'!$AL$2:$AL$335,$A11,'Відповіді форми (1)'!$E$2:$E$335,$A$2),"") -> 4.8479532
A12: Фасолько Тетяна Степанівна | B12: =COUNTIFS('Відповіді форми (1)'!$AL$2:$AL$335,$A12,'Відповіді форми (1)'!$E$2:$E$335,$A$2) -> 4 | C12: =IFERROR(AVERAGEIFS('Відповіді форми (1)'!$AM$2:$AM$335,'Відповіді форми (1)'!$AL$2:$AL$335,$A12,'Відповіді форми (1)'!$E$2:$E$335,$A$2),"") -> 4.9605263
A13: Швець Оксана Вікторівна | B13: =COUNTIFS('Відповіді форми (1)'!$AL$2:$AL$335,$A13,'Відповіді форми (1)'!$E$2:$E$335,$A$2) -> 12 | C13: =IFERROR(AVERAGEIFS('Відповіді форми (1)'!$AM$2:$AM$335,'Відповіді форми (1)'!$AL$2:$AL$335,$A13,'Відповіді форми (1)'!$E$2:$E$335,$A$2),"") -> 4.9868421

Sheet Української мови і літератури
A1: Кафедра української мови і літератури та методик їх навчання
A2: Кафедра української мови і літератури та методик їх навчання | D2: ← назва кафедри для формул (не змінювати)
A4: Викладач | B4: Кількість анкет | C4: Середній бал
A5: Василишин Олег Васильович | B5: =COUNTIFS('Відповіді форми (1)'!$AL$2:$AL$335,$A5,'Відповіді форми (1)'!$E$2:$E$335,$A$2) -> 11 | C5: =IFERROR(AVERAGEIFS('Відповіді форми (1)'!$AM$2:$AM$335,'Відповіді форми (1)'!$AL$2:$AL$335,$A5,'Відповіді форми (1)'!$E$2:$E$335,$A$2),"") -> 4.9712919
A6: Волянюк Інна Оверківна | B6: =COUNTIFS('Відповіді форми (1)'!$AL$2:$AL$335,$A6,'Відповіді форми (1)'!$E$2:$E$335,$A$2) -> 12 | C6: =IFERROR(AVERAGEIFS('Відповіді форми (1)'!$AM$2:$AM$335,'Відповіді форми (1)'!$AL$2:$AL$335,$A6,'Відповіді форми (1)'!$E$2:$E$335,$A$2),"") -> 4.754386
A7: Комінярська Ірина Миколаївна | B7: =COUNTIFS('Відповіді форми (1)'!$AL$2:$AL$335,$A7,'Відповіді форми (1)'!$E$2:$E$335,$A$2) -> 7 | C7: =IFERROR(AVERAGEIFS('Відповіді форми (1)'!$AM$2:$AM$335,'Відповіді форми (1)'!$AL$2:$AL$335,$A7,'Відповіді форми (1)'!$E$2:$E$335,$A$2),"") -> 4.9699248
A8: Назарець Віталій Миколайович | B8: =COUNTIFS('Відповіді форми (1)'!$AL$2:$AL$335,$A8,'Відповіді форми (1)'!$E$2:$E$335,$A$2) -> 6 | C8: =IFERROR(AVERAGEIFS('Відповіді форми (1)'!$AM$2:$AM$335,'Відповіді форми (1)'!$AL$2:$AL$335,$A8,'Відповіді форми (1)'!$E$2:$E$335,$A$2),"") -> 5
A9: Поляк Ірина Павлівна | B9: =COUNTIFS('Відповіді форми (1)'!$AL$2:$AL$335,$A9,'Відповіді форми (1)'!$E$2:$E$335,$A$2) -> 4 | C9: =IFERROR(AVERAGEIFS('Відповіді форми (1)'!$AM$2:$AM$335,'Відповіді форми (1)'!$AL$2:$AL$335,$A9,'Відповіді форми (1)'!$E$2:$E$335,$A$2),"") -> 5

Sheet Психології і соц. роботи
A1: Кафедра психології і соціальної роботи
A2: Кафедра психології і соціальної роботи | D2: ← назва кафедри для формул (не змінювати)
A4: Викладач | B4: Кількість анкет | C4: Середній бал
A5: Боднар Марія Богданівна | B5: =COUNTIFS('Відповіді форми (1)'!$AL$2:$AL$335,$A5,'Відповіді форми (1)'!$E$2:$E$335,$A$2) -> 5 | C5: =IFERROR(AVERAGEIFS('Відповіді форми (1)'!$AM$2:$AM$335,'Відповіді форми (1)'!$AL$2:$AL$335,$A5,'Відповіді форми (1)'!$E$2:$E$335,$A$2),"") -> 4.2842105
A6: Долга Тетяна Олександрійвна | B6: =COUNTIFS('Відповіді форми (1)'!$AL$2:$AL$335,$A6,'Відповіді форми (1)'!$E$2:$E$335,$A$2) -> 1 | C6: =IFERROR(AVERAGEIFS('Відповіді форми (1)'!$AM$2:$AM$335,'Відповіді форми (1)'!$AL$2:$AL$335,$A6,'Відповіді форми (1)'!$E$2:$E$335,$A$2),"") -> 5
A7: Заблоцький Андрій Русланович | B7: =COUNTIFS('Відповіді форми (1)'!$AL$2:$AL$335,$A7,'Відповіді форми (1)'!$E$2:$E$335,$A$2) -> 2 | C7: =IFERROR(AVERAGEIFS('Відповіді форми (1)'!$AM$2:$AM$335,'Відповіді форми (1)'!$AL$2:$AL$335,$A7,'Відповіді форми (1)'!$E$2:$E$335,$A$2),"") -> 5
A8: Новак Тетяна Віталіївна | B8: =COUNTIFS('Відповіді форми (1)'!$AL$2:$AL$335,$A8,'Відповіді форми (1)'!$E$2:$E$335,$A$2) -> 5 | C8: =IFERROR(AVERAGEIFS('Відповіді форми (1)'!$AM$2:$AM$335,'Відповіді форми (1)'!$AL$2:$AL$335,$A8,'Відповіді форми (1)'!$E$2:$E$335,$A$2),"") -> 4.6315789
A9: Терпелюк Володимир Володимирович | B9: =COUNTIFS('Відповіді форми (1)'!$AL$2:$AL$335,$A9,'Відповіді форми (1)'!$E$2:$E$335,$A$2) -> 1 | C9: =IFERROR(AVERAGEIFS('Відповіді форми (1)'!$AM$2:$AM$335,'Відповіді форми (1)'!$AL$2:$AL$335,$A9,'Відповіді форми (1)'!$E$2:$E$335,$A$2),"") -> 4.8421053
A10: Тимош Юлія Володимирівна | B10: =COUNTIFS('Відповіді форми (1)'!$AL$2:$AL$335,$A10,'Відповіді форми (1)'!$E$2:$E$335,$A$2) -> 2 | C10: =IFERROR(AVERAGEIFS('Відповіді форми (1)'!$AM$2:$AM$335,'Відповіді форми (1)'!$AL$2:$AL$335,$A10,'Відповіді форми (1)'!$E$2:$E$335,$A$2),"") -> 5
A11: Ярощук Маріанна Володимирівна | B11: =COUNTIFS('Відповіді форми (1)'!$AL$2:$AL$335,$A11,'Відповіді форми (1)'!$E$2:$E$335,$A$2) -> 14 | C11: =IFERROR(AVERAGEIFS('Відповіді форми (1)'!$AM$2:$AM$335,'Відповіді форми (1)'!$AL$2:$AL$335,$A11,'Відповіді форми (1)'!$E$2:$E$335,$A$2),"") -> 4.9887218

Sheet Біології та екології
A1: Кафедра біології, екології та методики їх навчання
A2: Кафедра біології, екології та методики їх навчання | D2: ← назва кафедри для формул (не змінювати)
A4: Викладач | B4: Кількість анкет | C4: Середній бал
A5: Ільєнко Микола Микитович | B5: =COUNTIFS('Відповіді форми (1)'!$AL$2:$AL$335,$A5,'Відповіді форми (1)'!$E$2:$E$335,$A$2) -> 1 | C5: =IFERROR(AVERAGEIFS('Відповіді форми (1)'!$AM$2:$AM$335,'Відповіді форми (1)'!$AL$2:$AL$335,$A5,'Відповіді форми (1)'!$E$2:$E$335,$A$2),"") -> 1.3684211
A6: Галаган Оксана Костянтинівна | B6: =COUNTIFS('Відповіді форми (1)'!$AL$2:$AL$335,$A6,'Відповіді форми (1)'!$E$2:$E$335,$A$2) -> 4 | C6: =IFERROR(AVERAGEIFS('Відповіді форми (1)'!$AM$2:$AM$335,'Відповіді форми (1)'!$AL$2:$AL$335,$A6,'Відповіді форми (1)'!$E$2:$E$335,$A$2),"") -> 4.9473684
A7: Головатюк Людмила Михайлівна | B7: =COUNTIFS('Відповіді форми (1)'!$AL$2:$AL$335,$A7,'Відповіді форми (1)'!$E$2:$E$335,$A$2) -> 7 | C7: =IFERROR(AVERAGEIFS('Відповіді форми (1)'!$AM$2:$AM$335,'Відповіді форми (1)'!$AL$2:$AL$335,$A7,'Відповіді форми (1)'!$E$2:$E$335,$A$2),"") -> 4.7142857
A8: Гура Антоніна Миколаївна | B8: =COUNTIFS('Відповіді форми (1)'!$AL$2:$AL$335,$A8,'Відповіді форми (1)'!$E$2:$E$335,$A$2) -> 2 | C8: =IFERROR(AVERAGEIFS('Відповіді форми (1)'!$AM$2:$AM$335,'Відповіді форми (1)'!$AL$2:$AL$335,$A8,'Відповіді форми (1)'!$E$2:$E$335,$A$2),"") -> 5
A9: Гурська Оксана Вікторівна | B9: =COUNTIFS('Відповіді форми (1)'!$AL$2:$AL$335,$A9,'Відповіді форми (1)'!$E$2:$E$335,$A$2) -> 1 | C9: =IFERROR(AVERAGEIFS('Відповіді форми (1)'!$AM$2:$AM$335,'Відповіді форми (1)'!$AL$2:$AL$335,$A9,'Відповіді форми (1)'!$E$2:$E$335,$A$2),"") -> 5
A10: Дух Ольга Ігорівна | B10: =COUNTIFS('Відповіді форми (1)'!$AL$2:$AL$335,$A10,'Відповіді форми (1)'!$E$2:$E$335,$A$2) -> 2 | C10: =IFERROR(AVERAGEIFS('Відповіді форми (1)'!$AM$2:$AM$335,'Відповіді форми (1)'!$AL$2:$AL$335,$A10,'Відповіді форми (1)'!$E$2:$E$335,$A$2),"") -> 3.9736842
A11: Кратко Ольга Вікторівна | B11: =COUNTIFS('Відповіді форми (1)'!$AL$2:$AL$335,$A11,'Відповіді форми (1)'!$E$2:$E$335,$A$2) -> 3 | C11: =IFERROR(AVERAGEIFS('Відповіді форми (1)'!$AM$2:$AM$335,'Відповіді форми (1)'!$AL$2:$AL$335,$A11,'Відповіді форми (1)'!$E$2:$E$335,$A$2),"") -> 4.8070175
A12: Михалюк Ілона Михайлівна | B12: =COUNTIFS('Відповіді форми (1)'!$AL$2:$AL$335,$A12,'Відповіді форми (1)'!$E$2:$E$335,$A$2) -> 3 | C12: =IFERROR(AVERAGEIFS('Відповіді форми (1)'!$AM$2:$AM$335,'Відповіді форми (1)'!$AL$2:$AL$335,$A12,'Відповіді форми (1)'!$E$2:$E$335,$A$2),"") -> 5
A13: Тригуба Олена Василівна | B13: =COUNTIFS('Відповіді форми (1)'!$AL$2:$AL$335,$A13,'Відповіді форми (1)'!$E$2:$E$335,$A$2) -> 3 | C13: =IFERROR(AVERAGEIFS('Відповіді форми (1)'!$AM$2:$AM$335,'Відповіді форми (1)'!$AL$2:$AL$335,$A13,'Відповіді форми (1)'!$E$2:$E$335,$A$2),"") -> 4.877193

Sheet Трудового навчання
A1: Кафедра теорії і методики трудового навчання та технологій
A2: Кафедра теорії і методики трудового навчання та технологій | D2: ← назва кафедри для формул (не змінювати)
A4: Викладач | B4: Кількість анкет | C4: Середній бал
A5: Ємець Олександр Павлович | B5: =COUNTIFS('Відповіді форми (1)'!$AL$2:$AL$335,$A5,'Відповіді форми (1)'!$E$2:$E$335,$A$2) -> 1 | C5: =IFERROR(AVERAGEIFS('Відповіді форми (1)'!$AM$2:$AM$335,'Відповіді форми (1)'!$AL$2:$AL$335,$A5,'Відповіді форми (1)'!$E$2:$E$335,$A$2),"") -> 5
A6: Гарматюк Ростислав Тарасович | B6: =COUNTIFS('Відповіді форми (1)'!$AL$2:$AL$335,$A6,'Відповіді форми (1)'!$E$2:$E$335,$A$2) -> 2 | C6: =IFERROR(AVERAGEIFS('Відповіді форми (1)'!$AM$2:$AM$335,'Відповіді форми (1)'!$AL$2:$AL$335,$A6,'Відповіді форми (1)'!$E$2:$E$335,$A$2),"") -> 4.6052632
A7: Курач Микола Станіславович | B7: =COUNTIFS('Відповіді форми (1)'!$AL$2:$AL$335,$A7,'Відповіді форми (1)'!$E$2:$E$335,$A$2) -> 1 | C7: =IFERROR(AVERAGEIFS('Відповіді форми (1)'!$AM$2:$AM$335,'Відповіді форми (1)'!$AL$2:$AL$335,$A7,'Відповіді форми (1)'!$E$2:$E$335,$A$2),"") -> 5
A8: Олексюк Марія Петрівна | B8: =COUNTIFS('Відповіді форми (1)'!$AL$2:$AL$335,$A8,'Відповіді форми (1)'!$E$2:$E$335,$A$2) -> 4 | C8: =IFERROR(AVERAGEIFS('Відповіді форми (1)'!$AM$2:$AM$335,'Відповіді форми (1)'!$AL$2:$AL$335,$A8,'Відповіді форми (1)'!$E$2:$E$335,$A$2),"") -> 4.8552632
A9: Омельчук Олександр Васильович | B9: =COUNTIFS('Відповіді форми (1)'!$AL$2:$AL$335,$A9,'Відповіді форми (1)'!$E$2:$E$335,$A$2) -> 4 | C9: =IFERROR(AVERAGEIFS('Відповіді форми (1)'!$AM$2:$AM$335,'Відповіді форми (1)'!$AL$2:$AL$335,$A9,'Відповіді форми (1)'!$E$2:$E$335,$A$2),"") -> 5
A10: Томашівський Сергій Михайлович | B10: =COUNTIFS('Відповіді форми (1)'!$AL$2:$AL$335,$A10,'Відповіді форми (1)'!$E$2:$E$335,$A$2) -> 1 | C10: =IFERROR(AVERAGEIFS('Відповіді форми (1)'!$AM$2:$AM$335,'Відповіді форми (1)'!$AL$2:$AL$335,$A10,'Відповіді форми (1)'!$E$2:$E$335,$A$2),"") -> 5
A11: Цісарук Ірина Василівна | B11: =COUNTIFS('Відповіді форми (1)'!$AL$2:$AL$335,$A11,'Відповіді форми (1)'!$E$2:$E$335,$A$2) -> 10 | C11: =IFERROR(AVERAGEIFS('Відповіді форми (1)'!$AM$2:$AM$335,'Відповіді форми (1)'!$AL$2:$AL$335,$A11,'Відповіді форми (1)'!$E$2:$E$335,$A$2),"") -> 4.9947368
A12: Шабага Степан Богданович | B12: =COUNTIFS('Відповіді форми (1)'!$AL$2:$AL$335,$A12,'Відповіді форми (1)'!$E$2:$E$335,$A$2) -> 3 | C12: =IFERROR(AVERAGEIFS('Відповіді форми (1)'!$AM$2:$AM$335,'Відповіді форми (1)'!$AL$2:$AL$335,$A12,'Відповіді форми (1)'!$E$2:$E$335,$A$2),"") -> 4.9473684

Sheet Іноземних мов
A1: Кафедра іноземних мов та методик їх навчання
A2: Кафедра іноземних мов та методик їх навчання | D2: ← назва кафедри для формул (не змінювати)
A4: Викладач | B4: Кількість анкет | C4: Середній бал
A5: Долга Тетяна Олександрівна | B5: =COUNTIFS('Відповіді форми (1)'!$AL$2:$AL$335,$A5,'Відповіді форми (1)'!$E$2:$E$335,$A$2) -> 1 | C5: =IFERROR(AVERAGEIFS('Відповіді форми (1)'!$AM$2:$AM$335,'Відповіді форми (1)'!$AL$2:$AL$335,$A5,'Відповіді форми (1)'!$E$2:$E$335,$A$2),"") -> 5
A6: Завадський Юрій Романович | B6: =COUNTIFS('Відповіді форми (1)'!$AL$2:$AL$335,$A6,'Відповіді форми (1)'!$E$2:$E$335,$A$2) -> 3 | C6: =IFERROR(AVERAGEIFS('Відповіді форми (1)'!$AM$2:$AM$335,'Відповіді форми (1)'!$AL$2:$AL$335,$A6,'Відповіді форми (1)'!$E$2:$E$335,$A$2),"") -> 4.9649123
A7: Кучер Василь Васильович | B7: =COUNTIFS('Відповіді форми (1)'!$AL$2:$AL$335,$A7,'Відповіді форми (1)'!$E$2:$E$335,$A$2) -> 2 | C7: =IFERROR(AVERAGEIFS('Відповіді форми (1)'!$AM$2:$AM$335,'Відповіді форми (1)'!$AL$2:$AL$335,$A7,'Відповіді форми (1)'!$E$2:$E$335,$A$2),"") -> 2.8947368
A8: Марунько Орися Адамівна | B8: =COUNTIFS('Відповіді форми (1)'!$AL$2:$AL$335,$A8,'Відповіді форми (1)'!$E$2:$E$335,$A$2) -> 5 | C8: =IFERROR(AVERAGEIFS('Відповіді форми (1)'!$AM$2:$AM$335,'Відповіді форми (1)'!$AL$2:$AL$335,$A8,'Відповіді форми (1)'!$E$2:$E$335,$A$2),"") -> 3.4
A9: Собчук Ольга Богданівна | B9: =COUNTIFS('Відповіді форми (1)'!$AL$2:$AL$335,$A9,'Відповіді форми (1)'!$E$2:$E$335,$A$2) -> 2 | C9: =IFERROR(AVERAGEIFS('Відповіді форми (1)'!$AM$2:$AM$335,'Відповіді форми (1)'!$AL$2:$AL$335,$A9,'Відповіді форми (1)'!$E$2:$E$335,$A$2),"") -> 5
A10: Чик Денис Чабович | B10: =COUNTIFS('Відповіді форми (1)'!$AL$2:$AL$335,$A10,'Відповіді форми (1)'!$E$2:$E$335,$A$2) -> 4 | C10: =IFERROR(AVERAGEIFS('Відповіді форми (1)'!$AM$2:$AM$335,'Відповіді форми (1)'!$AL$2:$AL$335,$A10,'Відповіді форми (1)'!$E$2:$E$335,$A$2),"") -> 4.9736842
A11: Янков Анатолій Вікторович | B11: =COUNTIFS('Відповіді форми (1)'!$AL$2:$AL$335,$A11,'Відповіді форми (1)'!$E$2:$E$335,$A$2) -> 1 | C11: =IFERROR(AVERAGEIFS('Відповіді форми (1)'!$AM$2:$AM$335,'Відповіді форми (1)'!$AL$2:$AL$335,$A11,'Відповіді форми (1)'!$E$2:$E$335,$A$2),"") -> 1.0526316
A12: Янусь Наталя Володимирівна | B12: =COUNTIFS('Відповіді форми (1)'!$AL$2:$AL$335,$A12,'Відповіді форми (1)'!$E$2:$E$335,$A$2) -> 2 | C12: =IFERROR(AVERAGEIFS('Відповіді форми (1)'!$AM$2:$AM$335,'Відповіді форми (1)'!$AL$2:$AL$335,$A12,'Відповіді форми (1)'!$E$2:$E$335,$A$2),"") -> 5
A13: Яценюк Надія Іванівна | B13: =COUNTIFS('Відповіді форми (1)'!$AL$2:$AL$335,$A13,'Відповіді форми (1)'!$E$2:$E$335,$A$2) -> 1 | C13: =IFERROR(AVERAGEIFS('Відповіді форми (1)'!$AM$2:$AM$335,'Відповіді форми (1)'!$AL$2:$AL$335,$A13,'Відповіді форми (1)'!$E$2:$E$335,$A$2),"") -> 5

Sheet Історії та методики навчання
A1: Кафедра історії та методики навчання
A2: Кафедра історії та методики навчання | D2: ← назва кафедри для формул (не змінювати)
A4: Викладач | B4: Кількість анкет | C4: Середній бал
A5: Мороз Олена Василівна | B5: =COUNTIFS('Відповіді форми (1)'!$AL$2:$AL$335,$A5,'Відповіді форми (1)'!$E$2:$E$335,$A$2) -> 1 | C5: =IFERROR(AVERAGEIFS('Відповіді форми (1)'!$AM$2:$AM$335,'Відповіді форми (1)'!$AL$2:$AL$335,$A5,'Відповіді форми (1)'!$E$2:$E$335,$A$2),"") -> 5
A6: Сеньківська Галина Ярославівна | B6: =COUNTIFS('Відповіді форми (1)'!$AL$2:$AL$335,$A6,'Відповіді форми (1)'!$E$2:$E$335,$A$2) -> 2 | C6: =IFERROR(AVERAGEIFS('Відповіді форми (1)'!$AM$2:$AM$335,'Відповіді форми (1)'!$AL$2:$AL$335,$A6,'Відповіді форми (1)'!$E$2:$E$335,$A$2),"") -> 4.9210526
A7: Скакальська Ірина Богданівна | B7: =COUNTIFS('Відповіді форми (1)'!$AL$2:$AL$335,$A7,'Відповіді форми (1)'!$E$2:$E$335,$A$2) -> 5 | C7: =IFERROR(AVERAGEIFS('Відповіді форми (1)'!$AM$2:$AM$335,'Відповіді форми (1)'!$AL$2:$AL$335,$A7,'Відповіді форми (1)'!$E$2:$E$335,$A$2),"") -> 5
A8: Собчук Володимир Дмитрович | B8: =COUNTIFS('Відповіді форми (1)'!$AL$2:$AL$335,$A8,'Відповіді форми (1)'!$E$2:$E$335,$A$2) -> 1 | C8: =IFERROR(AVERAGEIFS('Відповіді форми (1)'!$AM$2:$AM$335,'Відповіді форми (1)'!$AL$2:$AL$335,$A8,'Відповіді форми (1)'!$E$2:$E$335,$A$2),"") -> 5
A9: Стронський Генріх Йосипович | B9: =COUNTIFS('Відповіді форми (1)'!$AL$2:$AL$335,$A9,'Відповіді форми (1)'!$E$2:$E$335,$A$2) -> 1 | C9: =IFERROR(AVERAGEIFS('Відповіді форми (1)'!$AM$2:$AM$335,'Відповіді форми (1)'!$AL$2:$AL$335,$A9,'Відповіді форми (1)'!$E$2:$E$335,$A$2),"") -> 5

Sheet ІТ та методики інформатики
A1: Кафедра інформаційних технологій та методики навчання інформатики
A2: Кафедра інформаційних технологій та методики навчання інформатики | D2: ← назва кафедри для формул (не змінювати)
A4: Викладач | B4: Кількість анкет | C4: Середній бал
A5: Бабій Надія Василівна | B5: =COUNTIFS('Відповіді форми (1)'!$AL$2:$AL$335,$A5,'Відповіді форми (1)'!$E$2:$E$335,$A$2) -> 3 | C5: =IFERROR(AVERAGEIFS('Відповіді форми (1)'!$AM$2:$AM$335,'Відповіді форми (1)'!$AL$2:$AL$335,$A5,'Відповіді форми (1)'!$E$2:$E$335,$A$2),"") -> 4.8070175
A6: Галаган Ігор Миколайович | B6: =COUNTIFS('Відповіді форми (1)'!$AL$2:$AL$335,$A6,'Відповіді форми (1)'!$E$2:$E$335,$A$2) -> 4 | C6: =IFERROR(AVERAGEIFS('Відповіді форми (1)'!$AM$2:$AM$335,'Відповіді форми (1)'!$AL$2:$AL$335,$A6,'Відповіді форми (1)'!$E$2:$E$335,$A$2),"") -> 4.7236842
A7: Клак Дмитро Сергійович | B7: =COUNTIFS('Відповіді форми (1)'!$AL$2:$AL$335,$A7,'Відповіді форми (1)'!$E$2:$E$335,$A$2) -> 1 | C7: =IFERROR(AVERAGEIFS('Відповіді форми (1)'!$AM$2:$AM$335,'Відповіді форми (1)'!$AL$2:$AL$335,$A7,'Відповіді форми (1)'!$E$2:$E$335,$A$2),"") -> 4.8421053
A8: Фурман Олена Андріївна | B8: =COUNTIFS('Відповіді форми (1)'!$AL$2:$AL$335,$A8,'Відповіді форми (1)'!$E$2:$E$335,$A$2) -> 1 | C8: =IFERROR(AVERAGEIFS('Відповіді форми (1)'!$AM$2:$AM$335,'Відповіді форми (1)'!$AL$2:$AL$335,$A8,'Відповіді форми (1)'!$E$2:$E$335,$A$2),"") -> 5

Sheet Теор.-біол. основи фізвиховання
A1: Кафедра теоретико-біологічних основ фізичного виховання
A2: Кафедра теоретико-біологічних основ фізичного виховання | D2: ← назва кафедри для формул (не змінювати)
A4: Викладач | B4: Кількість анкет | C4: Середній бал
A5: Кучер Тетяна Василівна | B5: =COUNTIFS('Відповіді форми (1)'!$AL$2:$AL$335,$A5,'Відповіді форми (1)'!$E$2:$E$335,$A$2) -> 1 | C5: =IFERROR(AVERAGEIFS('Відповіді форми (1)'!$AM$2:$AM$335,'Відповіді форми (1)'!$AL$2:$AL$335,$A5,'Відповіді форми (1)'!$E$2:$E$335,$A$2),"") -> 5
A6: Левандовська Любов Юріївна | B6: =COUNTIFS('Відповіді форми (1)'!$AL$2:$AL$335,$A6,'Відповіді форми (1)'!$E$2:$E$335,$A$2) -> 2 | C6: =IFERROR(AVERAGEIFS('Відповіді форми (1)'!$AM$2:$AM$335,'Відповіді форми (1)'!$AL$2:$AL$335,$A6,'Відповіді форми (1)'!$E$2:$E$335,$A$2),"") -> 4.6052632

Sheet Теорія і методика фізвиховання
A1: Кафедра теорії та методики фізичного виховання
A2: Кафедра теорії та методики фізичного виховання | D2: ← назва кафедри для формул (не змінювати)
A4: Викладач | B4: Кількість анкет | C4: Середній бал
A5: Голуб Віктор Анатолійович | B5: =COUNTIFS('Відповіді форми (1)'!$AL$2:$AL$335,$A5,'Відповіді форми (1)'!$E$2:$E$335,$A$2) -> 2 | C5: =IFERROR(AVERAGEIFS('Відповіді форми (1)'!$AM$2:$AM$335,'Відповіді форми (1)'!$AL$2:$AL$335,$A5,'Відповіді форми (1)'!$E$2:$E$335,$A$2),"") -> 4.9736842

Sheet Відповіді форми (1)
A1: Позначка часу | B1: Оберіть рівень вищої освіти за яким навчаєтесь | C1: Оберіть із переліку освітньо-професійну програму (ОС Бакалавр) | D1: Оберіть із переліку освітньо-професійну програму | E1: Оберіть кафедру | F1: Оберіть з переліку ПІБ викладача | G1: Оберіть з переліку ПІБ викладача | H1: Оберіть з переліку ПІБ викладача | I1: Оберіть з переліку ПІБ викладача | J1: Оберіть з переліку ПІБ викладача | K1: Оберіть з переліку ПІБ викладача | L1: Оберіть з переліку ПІБ викладача | M1: Оберіть з переліку ПІБ викладача | N1: Оберіть з переліку ПІБ викладача | O1: Оберіть з переліку ПІБ викладача | P1: Оберіть з переліку ПІБ викладача | Q1: Вкажіть назву навчальної дисципліни | R1: На початку вивчення навчальної дисципліни чітко презентовано її зміст, структуру та критерії оцінювання | S1: Викладачем забезпечено доступ до робочої програми навчальної дисципліни, текстів лекцій, презентацій, планів семінарських, практичних занять та лабораторних робіт | T1: Змістовна значущість і доступність матеріалу, що викладається | U1: Навчальний матеріал викладається чітко, доступно і цікаво | V1: Методи, способи і форми викладання доцільні та ефективні | W1: Активне використання сучасних інтерактивних та інформаційних технологій | X1: Ерудиція й культура мовлення викладача | Y1: Уміння викликати інтерес до навчальної дисципліни | Z1: Формування у студентів компетентностей, необхідних для професійної діяльності | AA1: Система накопичення балів зрозуміла, доступна та прозора | AB1: Форми контролю різноманітні, зрозумілі, цікаві, нестандартні 1 | AC1: Оцінювання знань, умінь та навичок об’єктивне та адекватне | AD1: Здійснюється аргументація та коментування отриманих програмних результатів навчання | AE1: Механізми та процедури контрольних заходів дозволяють повторне проходження форм контролю | AF1: Викладач стимулює творчість студентів під час самостійної навчальної та науково- дослідної роботи | AG1: Доброзичливість і тактовність по відношенню до студентів | AH1: Організаційна культура викладача | AI1: Культура зовнішнього вигляду викладача | AJ1: Виникає бажання відвідувати навчальні заняття саме цього викладача | AK1: Побажання та пропозиції стосовно викладання навчальної дисципліни | AL1: Викладач (ПІБ) | AM1: Середній бал по анкеті
A2: 46154.679 | B2: Перший (бакалаврський) | C2: Середня освіта (Англійська мова та зарубіжна література) / Середня освіта (Англійська мова та література) | E2: Кафедра іноземних мов та методик їх навчання | F2: Янков Анатолій Вікторович | Q2: Латинська мова | R2: 1 | S2: 1 | T2: 1 | U2: 1 | V2: 1 | W2: 1 | X2: 2 | Y2: 1 | Z2: 1 | AA2: 1 | AB2: 1 | AC2: 1 | AD2: 1 | AE2: 1 | AF2: 1 | AG2: 1 | AH2: 1 | AI2: 1 | AJ2: 1 | AK2: . | AL2: =TRIM(F2&G2&H2&I2&J2&K2&L2&M2&N2&O2&P2) -> Янков Анатолій Вікторович | AM2: =IFERROR(AVERAGE(R2:AJ2),"") -> 1.0526316
A3: 46154.68 | B3: Перший (бакалаврський) | C3: Середня освіта (Англійська мова та зарубіжна література) / Середня освіта (Англійська мова та література) | E3: Кафедра іноземних мов та методик їх навчання | F3: Собчук Ольга Богданівна | Q3: Практичний курс англійської мови | R3: 5 | S3: 5 | T3: 5 | U3: 5 | V3: 5 | W3: 5 | X3: 5 | Y3: 5 | Z3: 5 | AA3: 5 | AB3: 5 | AC3: 5 | AD3: 5 | AE3: 5 | AF3: 5 | AG3: 5 | AH3: 5 | AI3: 5 | AJ3: 5 | AK3: . | AL3: =TRIM(F3&G3&H3&I3&J3&K3&L3&M3&N3&O3&P3) -> Собчук Ольга Богданівна | AM3: =IFERROR(AVERAGE(R3:AJ3),"") -> 5
A4: 46154.778 | B4: Перший (бакалаврський) | C4: Психологія. Інклюзивна освіта / Психологія | E4: Кафедра психології і соціальної роботи | L4: Ярощук Маріанна Володимирівна | Q4: Загальна психологія | R4: 5 | S4: 5 | T4: 5 | U4: 5 | V4: 5 | W4: 5 | X4: 5 | Y4: 5 | Z4: 5 | AA4: 5 | AB4: 5 | AC4: 5 | AD4: 5 | AE4: 5 | AF4: 5 | AG4: 5 | AH4: 5 | AI4: 5 | AJ4: 5 | AK4: Все влаштовує | AL4: =TRIM(F4&G4&H4&I4&J4&K4&L4&M4&N4&O4&P4) -> Ярощук Маріанна Володимирівна | AM4: =IFERROR(AVERAGE(R4:AJ4),"") -> 5
A5: 46154.779 | B5: Перший (бакалаврський) | C5: Психологія. Інклюзивна освіта / Психологія | E5: Кафедра психології і соціальної роботи | L5: Ярощук Маріанна Володимирівна | Q5: Психологія | R5: 5 | S5: 5 | T5: 5 | U5: 5 | V5: 5 | W5: 5 | X5: 5 | Y5: 5 | Z5: 5 | AA5: 5 | AB5: 5 | AC5: 5 | AD5: 5 | AE5: 5 | AF5: 5 | AG5: 5 | AH5: 5 | AI5: 5 | AJ5: 5 | AK5: Немає побажань та пропозицій | AL5: =TRIM(F5&G5&H5&I5&J5&K5&L5&M5&N5&O5&P5) -> Ярощук Маріанна Володимирівна | AM5: =IFERROR(AVERAGE(R5:AJ5),"") -> 5
A6: 46154.78 | B6: Перший (бакалаврський) | C6: Психологія. Інклюзивна освіта / Психологія | E6: Кафедра психології і соціальної роботи | L6: Ярощук Маріанна Володимирівна | Q6: Психологія | R6: 5 | S6: 5 | T6: 5 | U6: 5 | V6: 5 | W6: 5 | X6: 5 | Y6: 5 | Z6: 5 | AA6: 5 | AB6: 5 | AC6: 5 | AD6: 5 | AE6: 5 | AF6: 5 | AG6: 5 | AH6: 5 | AI6: 5 | AJ6: 5 | AK6: Все на вищому рівні | AL6: =TRIM(F6&G6&H6&I6&J6&K6&L6&M6&N6&O6&P6) -> Ярощук Маріанна Володимирівна | AM6: =IFERROR(AVERAGE(R6:AJ6),"") -> 5
A7: 46154.781 | B7: Перший (бакалаврський) | C7: Психологія. Інклюзивна освіта / Психологія | E7: Кафедра психології і соціальної роботи | L7: Ярощук Маріанна Володимирівна | Q7: Диференційна психологія | R7: 5 | S7: 5 | T7: 5 | U7: 5 | V7: 5 | W7: 5 | X7: 5 | Y7: 5 | Z7: 5 | AA7: 5 | AB7: 5 | AC7: 5 | AD7: 5 | AE7: 4 | AF7: 5 | AG7: 5 | AH7: 5 | AI7: 5 | AJ7: 5 | AK7: 👍🏻 | AL7: =TRIM(F7&G7&H7&I7&J7&K7&L7&M7&N7&O7&P7) -> Ярощук Маріанна Володимирівна | AM7: =IFERROR(AVERAGE(R7:AJ7),"") -> 4.9473684
A8: 46154.782 | B8: Перший (бакалаврський) | C8: Психологія. Інклюзивна освіта / Психологія | E8: Кафедра психології і соціальної роботи | L8: Ярощук Маріанна Володимирівна | Q8: Психологічна експертиза | R8: 5 | S8: 5 | T8: 5 | U8: 5 | V8: 5 | W8: 5 | X8: 5 | Y8: 5 | Z8: 5 | AA8: 5 | AB8: 4 | AC8: 5 | AD8: 5 | AE8: 5 | AF8: 5 | AG8: 5 | AH8: 5 | AI8: 5 | AJ8: 5 | AK8: Побажань немає, все чудово) | AL8: =TRIM(F8&G8&H8&I8&J8&K8&L8&M8&N8&O8&P8) -> Ярощук Маріанна Володимирівна | AM8: =IFERROR(AVERAGE(R8:AJ8),"") -> 4.9473684
A9: 46154.784 | B9: Перший (бакалаврський) | C9: Психологія. Інклюзивна освіта / Психологія | E9: Кафедра психології і соціальної роботи | L9: Ярощук Маріанна Володимирівна | Q9: . | R9: 5 | S9: 5 | T9: 5 | U9: 5 | V9: 5 | W9: 5 | X9: 5 | Y9: 5 | Z9: 5 | AA9: 5 | AB9: 5 | AC9: 5 | AD9: 5 | AE9: 5 | AF9: 5 | AG9: 5 | AH9: 5 | AI9: 5 | AJ9: 5 | AK9: . | AL9: =TRIM(F9&G9&H9&I9&J9&K9&L9&M9&N9&O9&P9) -> Ярощук Маріанна Володимирівна | AM9: =IFERROR(AVERAGE(R9:AJ9),"") -> 5
A10: 46154.785 | B10: Перший (бакалаврський) | C10: Соціальна робота. Практична психологія / Соціальна робота | E10: Кафедра психології і соціальної роботи | L10: Новак Тетяна Віталіївна | Q10: Основи психотерапії | R10: 5 | S10: 5 | T10: 5 | U10: 5 | V10: 5 | W10: 5 | X10: 5 | Y10: 5 | Z10: 5 | AA10: 5 | AB10: 5 | AC10: 5 | AD10: 5 | AE10: 5 | AF10: 5 | AG10: 5 | AH10: 5 | AI10: 5 | AJ10: 5 | AK10: Немає | AL10: =TRIM(F10&G10&H10&I10&J10&K10&L10&M10&N10&O10&P10) -> Новак Тетяна Віталіївна | AM10: =IFERROR(AVERAGE(R10:AJ10),"") -> 5
A11: 46154.785 | B11: Перший (бакалаврський) | C11: Середня освіта (Фізична культура). Туристична робота в закладах освіти / Середня освіта (Фізична культура) | E11: Кафедра теорії та методики фізичного виховання | N11: Голуб Віктор Анатолійович | Q11: Спортивні ігри з методикою викладання | R11: 5 | S11: 4 | T11: 5 | U11: 5 | V11: 5 | W11: 5 | X11: 5 | Y11: 5 | Z11: 5 | AA11: 5 | AB11: 5 | AC11: 5 | AD11: 5 | AE11: 5 | AF11: 5 | AG11: 5 | AH11: 5 | AI11: 5 | AJ11: 5 | AK11: Навчальний матеріал викладається доступно та цікаво, побажань щодо змін немає. | AL11: =TRIM(F11&G11&H11&I11&J11&K11&L11&M11&N11&O11&P11) -> Голуб Віктор Анатолійович | AM11: =IFERROR(AVERAGE(R11:AJ11),"") -> 4.9473684
A12: 46154.786 | B12: Перший (бакалаврський) | C12: Соціальна робота. Практична психологія / Соціальна робота | E12: Кафедра психології і соціальної роботи | L12: Заблоцький Андрій Русланович | Q12: Військова психологія | R12: 5 | S12: 5 | T12: 5 | U12: 5 | V12: 5 | W12: 5 | X12: 5 | Y12: 5 | Z12: 5 | AA12: 5 | AB12: 5 | AC12: 5 | AD12: 5 | AE12: 5 | AF12: 5 | AG12: 5 | AH12: 5 | AI12: 5 | AJ12: 5 | AK12: - | AL12: =TRIM(F12&G12&H12&I12&J12&K12&L12&M12&N12&O12&P12) -> Заблоцький Андрій Русланович | AM12: =IFERROR(AVERAGE(R12:AJ12),"") -> 5
A13: 46154.786 | B13: Перший (бакалаврський) | C13: Соціальна робота. Практична психологія / Соціальна робота | E13: Кафедра психології і соціальної роботи | L13: Боднар Марія Богданівна | Q13: Етнопсихологія | R13: 5 | S13: 5 | T13: 5 | U13: 5 | V13: 5 | W13: 5 | X13: 5 | Y13: 5 | Z13: 5 | AA13: 5 | AB13: 5 | AC13: 5 | AD13: 5 | AE13: 5 | AF13: 5 | AG13: 5 | AH13: 5 | AI13: 5 | AJ13: 5 | AK13: - | AL13: =TRIM(F13&G13&H13&I13&J13&K13&L13&M13&N13&O13&P13) -> Боднар Марія Богданівна | AM13: =IFERROR(AVERAGE(R13:AJ13),"") -> 5
A14: 46154.787 | B14: Перший (бакалаврський) | C14: Середня освіта (Образотворче мистецтво) / Середня освіта (Образотворче мистецтво). Дизайн освітнього середовища | E14: Кафедра мистецьких дисциплін та методик їх навчання | K14: Балбус Тетяна Анатоліївна | Q14: Рисунок | R14: 5 | S14: 4 | T14: 5 | U14: 5 | V14: 4 | W14: 1 | X14: 5 | Y14: 5 | Z14: 4 | AA14: 5 | AB14: 5 | AC14: 5 | AD14: 5 | AE14: 4 | AF14: 5 | AG14: 5 | AH14: 5 | AI14: 5 | AJ14: 5 | AK14: Немає | AL14: =TRIM(F14&G14&H14&I14&J14&K14&L14&M14&N14&O14&P14) -> Балбус Тетяна Анатоліївна | AM14: =IFERROR(AVERAGE(R14:AJ14),"") -> 4.5789474
A15: 46154.787 | B15: Перший (бакалаврський) | C15: Соціальна робота. Практична психологія / Соціальна робота | E15: Кафедра психології і соціальної роботи | L15: Тимош Юлія Володимирівна | Q15: Психологія надзвичайних ситуацій | R15: 5 | S15: 5 | T15: 5 | U15: 5 | V15: 5 | W15: 5 | X15: 5 | Y15: 5 | Z15: 5 | AA15: 5 | AB15: 5 | AC15: 5 | AD15: 5 | AE15: 5 | AF15: 5 | AG15: 5 | AH15: 5 | AI15: 5 | AJ15: 5 | AK15: - | AL15: =TRIM(F15&G15&H15&I15&J15&K15&L15&M15&N15&O15&P15) -> Тимош Юлія Володимирівна | AM15: =IFERROR(AVERAGE(R15:AJ15),"") -> 5
A16: 46154.788 | B16: Перший (бакалаврський) | C16: Середня освіта (Трудове навчання та технології. Інформатика) / Середня освіта (Трудове навчання та технології) | E16: Кафедра теорії і методики трудового навчання та технологій | H16: Олексюк Марія Петрівна | Q16: Теорія і методика трудового навчання і технології | R16: 5 | S16: 5 | T16: 5 | U16: 5 | V16: 5 | W16: 5 | X16: 5 | Y16: 5 | Z16: 5 | AA16: 5 | AB16: 5 | AC16: 5 | AD16: 5 | AE16: 5 | AF16: 5 | AG16: 5 | AH16: 5 | AI16: 5 | AJ16: 5 | AK16: Мені все подобається.Дякую | AL16: =TRIM(F16&G16&H16&I16&J16&K16&L16&M16&N16&O16&P16) -> Олексюк Марія Петрівна | AM16: =IFERROR(AVERAGE(R16:AJ16),"") -> 5
A17: 46154.788 | B17: Перший (бакалаврський) | C17: Соціальна робота. Практична психологія / Соціальна робота | E17: Кафедра психології і соціальної роботи | L17: Ярощук Маріанна Володимирівна | Q17: Психологічна експертиза | R17: 5 | S17: 5 | T17: 5 | U17: 5 | V17: 5 | W17: 5 | X17: 5 | Y17: 5 | Z17: 5 | AA17: 5 | AB17: 5 | AC17: 5 | AD17: 5 | AE17: 5 | AF17: 5 | AG17: 5 | AH17: 5 | AI17: 5 | AJ17: 5 | AK17: - | AL17: =TRIM(F17&G17&H17&I17&J17&K17&L17&M17&N17&O17&P17) -> Ярощук Маріанна Володимирівна | AM17: =IFERROR(AVERAGE(R17:AJ17),"") -> 5
A18: 46154.789 | B18: Перший (бакалаврський) | C18: Соціальна робота. Практична психологія / Соціальна робота | E18: Кафедра психології і соціальної роботи | L18: Долга Тетяна Олександрійвна | Q18: Психолінгвістика | R18: 5 | S18: 5 | T18: 5 | U18: 5 | V18: 5 | W18: 5 | X18: 5 | Y18: 5 | Z18: 5 | AA18: 5 | AB18: 5 | AC18: 5 | AD18: 5 | AE18: 5 | AF18: 5 | AG18: 5 | AH18: 5 | AI18: 5 | AJ18: 5 | AK18: - | AL18: =TRIM(F18&G18&H18&I18&J18&K18&L18&M18&N18&O18&P18) -> Долга Тетяна Олександрійвна | AM18: =IFERROR(AVERAGE(R18:AJ18),"") -> 5
A19: 46154.807 | B19: Перший (бакалаврський) | C19: Соціальна робота. Практична психологія / Соціальна робота | E19: Кафедра психології і соціальної роботи | L19: Терпелюк Володимир Володимирович | Q19: Соціальна робота | R19: 5 | S19: 5 | T19: 5 | U19: 5 | V19: 5 | W19: 5 | X19: 5 | Y19: 5 | Z19: 5 | AA19: 5 | AB19: 3 | AC19: 5 | AD19: 5 | AE19: 4 | AF19: 5 | AG19: 5 | AH19: 5 | AI19: 5 | AJ19: 5 | AK19: Пропозицій нема ніяких, викладач дуже чудовий, гарно викладає матеріал предметів | AL19: =TRIM(F19&G19&H19&I19&J19&K19&L19&M19&N19&O19&P19) -> Терпелюк Володимир Володимирович | AM19: =IFERROR(AVERAGE(R19:AJ19),"") -> 4.8421053
A20: 46154.817 | B20: Перший (бакалаврський) | C20: Середня освіта (Трудове навчання та технології. Інформатика) / Середня освіта (Трудове навчання та технології) | E20: Кафедра теорії і методики трудового навчання та технологій | H20: Цісарук Ірина Василівна | Q20: Трудове | R20: 5 | S20: 5 | T20: 5 | U20: 5 | V20: 5 | W20: 5 | X20: 5 | Y20: 5 | Z20: 5 | AA20: 5 | AB20: 5 | AC20: 5 | AD20: 5 | AE20: 5 | AF20: 5 | AG20: 5 | AH20: 5 | AI20: 5 | AJ20: 5 | AK20: Немає пропозицій | AL20: =TRIM(F20&G20&H20&I20&J20&K20&L20&M20&N20&O20&P20) -> Цісарук Ірина Василівна | AM20: =IFERROR(AVERAGE(R20:AJ20),"") -> 5
A21: 46154.822 | B21: Перший (бакалаврський) | C21: Середня освіта (Англійська мова та зарубіжна література) / Середня освіта (Англійська мова та література) | E21: Кафедра іноземних мов та методик їх навчання | F21: Яценюк Надія Іванівна | Q21: РКНМ (Рівень А1) | R21: 5 | S21: 5 | T21: 5 | U21: 5 | V21: 5 | W21: 5 | X21: 5 | Y21: 5 | Z21: 5 | AA21: 5 | AB21: 5 | AC21: 5 | AD21: 5 | AE21: 5 | AF21: 5 | AG21: 5 | AH21: 5 | AI21: 5 | AJ21: 5 | AK21: Все влаштовує | AL21: =TRIM(F21&G21&H21&I21&J21&K21&L21&M21&N21&O21&P21) -> Яценюк Надія Іванівна | AM21: =IFERROR(AVERAGE(R21:AJ21),"") -> 5
A22: 46154.839 | B22: Перший (бакалаврський) | C22: Психологія. Інклюзивна освіта / Психологія | E22: Кафедра психології і соціальної роботи | L22: Новак Тетяна Віталіївна | Q22: Основи психологічного тренінгу | R22: 5 | S22: 5 | T22: 5 | U22: 5 | V22: 5 | W22: 5 | X22: 5 | Y22: 5 | Z22: 5 | AA22: 5 | AB22: 5 | AC22: 5 | AD22: 5 | AE22: 5 | AF22: 5 | AG22: 5 | AH22: 5 | AI22: 5 | AJ22: 5 | AL22: =TRIM(F22&G22&H22&I22&J22&K22&L22&M22&N22&O22&P22) -> Новак Тетяна Віталіївна | AM22: =IFERROR(AVERAGE(R22:AJ22),"") -> 5
A23: 46154.84 | B23: Перший (бакалаврський) | C23: Психологія. Інклюзивна освіта / Психологія | E23: Кафедра психології і соціальної роботи | L23: Ярощук Маріанна Володимирівна | Q23: Психологія | R23: 5 | S23: 5 | T23: 5 | U23: 5 | V23: 5 | W23: 5 | X23: 5 | Y23: 5 | Z23: 5 | AA23: 5 | AB23: 5 | AC23: 5 | AD23: 5 | AE23: 5 | AF23: 5 | AG23: 5 | AH23: 5 | AI23: 5 | AJ23: 5 | AK23: Немає | AL23: =TRIM(F23&G23&H23&I23&J23&K23&L23&M23&N23&O23&P23) -> Ярощук Маріанна Володимирівна | AM23: =IFERROR(AVERAGE(R23:AJ23),"") -> 5
A24: 46154.842 | B24: Перший (бакалаврський) | C24: Психологія. Інклюзивна освіта / Психологія | E24: Кафедра психології і соціальної роботи | L24: Тимош Юлія Володимирівна | Q24: Психологія сім'ї з основами сімейної консультуції | R24: 5 | S24: 5 | T24: 5 | U24: 5 | V24: 5 | W24: 5 | X24: 5 | Y24: 5 | Z24: 5 | AA24: 5 | AB24: 5 | AC24: 5 | AD24: 5 | AE24: 5 | AF24: 5 | AG24: 5 | AH24: 5 | AI24: 5 | AJ24: 5 | AK24: Немає | AL24: =TRIM(F24&G24&H24&I24&J24&K24&L24&M24&N24&O24&P24) -> Тимош Юлія Володимирівна | AM24: =IFERROR(AVERAGE(R24:AJ24),"") -> 5
A25: 46154.843 | B25: Перший (бакалаврський) | C25: Психологія. Інклюзивна освіта / Психологія | E25: Кафедра психології і соціальної роботи | L25: Ярощук Маріанна Володимирівна | Q25: Психологічна діагностика та корекція | R25: 5 | S25: 5 | T25: 5 | U25: 5 | V25: 5 | W25: 5 | X25: 5 | Y25: 5 | Z25: 5 | AA25: 5 | AB25: 5 | AC25: 5 | AD25: 5 | AE25: 5 | AF25: 5 | AG25: 5 | AH25: 5 | AI25: 5 | AJ25: 5 | AK25: Бажано більше предметів з Я пошук . М .В. | AL25: =TRIM(F25&G25&H25&I25&J25&K25&L25&M25&N25&O25&P25) -> Ярощук Маріанна Володимирівна | AM25: =IFERROR(AVERAGE(R25:AJ25),"") -> 5
A26: 46154.845 | B26: Перший (бакалаврський) | C26: Психологія. Інклюзивна освіта / Психологія | E26: Кафедра психології і соціальної роботи | L26: Ярощук Маріанна Володимирівна | Q26: Психологія залежностей, психологія сексуальності, психологія релігії | R26: 5 | S26: 5 | T26: 5 | U26: 5 | V26: 5 | W26: 5 | X26: 5 | Y26: 5 | Z26: 5 | AA26: 5 | AB26: 5 | AC26: 5 | AD26: 5 | AE26: 5 | AF26: 5 | AG26: 5 | AH26: 5 | AI26: 5 | AJ26: 5 | AK26: Так тримати! толерантна, доброзичлива, чесна. дякую! | AL26: =TRIM(F26&G26&H26&I26&J26&K26&L26&M26&N26&O26&P26) -> Ярощук Маріанна Володимирівна | AM26: =IFERROR(AVERAGE(R26:AJ26),"") -> 5
A27: 46154.855 | B27: Перший (бакалаврський) | C27: Середня освіта (Трудове навчання та технології. Інформатика) / Середня освіта (Трудове навчання та технології) | E27: Кафедра теорії і методики трудового навчання та технологій | H27: Олексюк Марія Петрівна | Q27: Навчальна практика з удосконалення умінь і навичок з обробки матеріалів( кулінарія) | R27: 5 | S27: 5 | T27: 5 | U27: 4 | V27: 4 | W27: 4 | X27: 5 | Y27: 5 | Z27: 4 | AA27: 5 | AB27: 5 | AC27: 5 | AD27: 5 | AE27: 4 | AF27: 4 | AG27: 5 | AH27: 5 | AI27: 5 | AJ27: 5 | AK27: Більше практичних занять | AL27: =TRIM(F27&G27&H27&I27&J27&K27&L27&M27&N27&O27&P27) -> Олексюк Марія Петрівна | AM27: =IFERROR(AVERAGE(R27:AJ27),"") -> 4.6842105
A28: 46154.858 | B28: Перший (бакалаврський) | C28: Психологія. Інклюзивна освіта / Психологія | E28: Кафедра психології і соціальної роботи | L28: Ярощук Маріанна Володимирівна | Q28: Диференційна психологія | R28: 5 | S28: 5 | T28: 5 | U28: 5 | V28: 5 | W28: 5 | X28: 5 | Y28: 5 | Z28: 5 | AA28: 5 | AB28: 5 | AC28: 5 | AD28: 5 | AE28: 4 | AF28: 5 | AG28: 5 | AH28: 5 | AI28: 5 | AJ28: 5 | AK28: Немає, все чудово | AL28: =TRIM(F28&G28&H28&I28&J28&K28&L28&M28&N28&O28&P28) -> Ярощук Маріанна Володимирівна | AM28: =IFERROR(AVERAGE(R28:AJ28),"") -> 4.9473684
A29: 46154.875 | B29: Перший (бакалаврський) | C29: Середня освіта (Українська мова і література. Зарубіжна література) / Середня освіта (Українська мова і література) | E29: Кафедра української мови і літератури та методик їх навчання | G29: Назарець Віталій Миколайович | Q29: Теорія літератури | R29: 5 | S29: 5 | T29: 5 | U29: 5 | V29: 5 | W29: 5 | X29: 5 | Y29: 5 | Z29: 5 | AA29: 5 | AB29: 5 | AC29: 5 | AD29: 5 | AE29: 5 | AF29: 5 | AG29: 5 | AH29: 5 | AI29: 5 | AJ29: 5 | AK29: Нічого | AL29: =TRIM(F29&G29&H29&I29&J29&K29&L29&M29&N29&O29&P29) -> Назарець Віталій Миколайович | AM29: =IFERROR(AVERAGE(R29:AJ29),"") -> 5
A30: 46154.877 | B30: Перший (бакалаврський) | C30: Середня освіта (Українська мова і література. Зарубіжна література) / Середня освіта (Українська мова і література) | E30: Кафедра української мови і літератури та методик їх навчання | G30: Назарець Віталій Миколайович | Q30: теорія літератури | R30: 5 | S30: 5 | T30: 5 | U30: 5 | V30: 5 | W30: 5 | X30: 5 | Y30: 5 | Z30: 5 | AA30: 5 | AB30: 5 | AC30: 5 | AD30: 5 | AE30: 5 | AF30: 5 | AG30: 5 | AH30: 5 | AI30: 5 | AJ30: 5 | AK30: немає | AL30: =TRIM(F30&G30&H30&I30&J30&K30&L30&M30&N30&O30&P30) -> Назарець Віталій Миколайович | AM30: =IFERROR(AVERAGE(R30:AJ30),"") -> 5
A31: 46154.878 | B31: Перший (бакалаврський) | C31: Середня освіта (Українська мова і література. Зарубіжна література) / Середня освіта (Українська мова і література) | E31: Кафедра української мови і літератури та методик їх навчання | G31: Василишин Олег Васильович | Q31: культура української мови | R31: 5 | S31: 5 | T31: 5 | U31: 5 | V31: 5 | W31: 5 | X31: 5 | Y31: 5 | Z31: 5 | AA31: 5 | AB31: 5 | AC31: 5 | AD31: 5 | AE31: 5 | AF31: 5 | AG31: 5 | AH31: 5 | AI31: 5 | AJ31: 5 | AK31: немає | AL31: =TRIM(F31&G31&H31&I31&J31&K31&L31&M31&N31&O31&P31) -> Василишин Олег Васильович | AM31: =IFERROR(AVERAGE(R31:AJ31),"") -> 5
A32: 46154.879 | B32: Перший (бакалаврський) | C32: Початкова освіта. Англійська мова / Початкова освіта | E32: Кафедра педагогіки, дошкільної та початкової освіти | J32: Приймас Наталія Володимирівна | Q32: Професійна адаптація до роботи в початковій школі | R32: 5 | S32: 5 | T32: 5 | U32: 5 | V32: 5 | W32: 5 | X32: 5 | Y32: 5 | Z32: 5 | AA32: 5 | AB32: 5 | AC32: 5 | AD32: 5 | AE32: 5 | AF32: 5 | AG32: 5 | AH32: 5 | AI32: 5 | AJ32: 5 | AK32: Немає | AL32: =TRIM(F32&G32&H32&I32&J32&K32&L32&M32&N32&O32&P32) -> Приймас Наталія Володимирівна | AM32: =IFERROR(AVERAGE(R32:AJ32),"") -> 5
A33: 46154.879 | B33: Перший (бакалаврський) | C33: Середня освіта (Фізична культура). Туристична робота в закладах освіти / Середня освіта (Фізична культура) | E33: Кафедра теорії та методики фізичного виховання | N33: Голуб Віктор Анатолійович | Q33: Спортивні ігри з методикою викладання | R33: 5 | S33: 5 | T33: 5 | U33: 5 | V33: 5 | W33: 5 | X33: 5 | Y33: 5 | Z33: 5 | AA33: 5 | AB33: 5 | AC33: 5 | AD33: 5 | AE33: 5 | AF33: 5 | AG33: 5 | AH33: 5 | AI33: 5 | AJ33: 5 | AK33: Побажань і пропозицій немаю | AL33: =TRIM(F33&G33&H33&I33&J33&K33&L33&M33&N33&O33&P33) -> Голуб Віктор Анатолійович | AM33: =IFERROR(AVERAGE(R33:AJ33),"") -> 5
A34: 46154.879 | B34: Перший (бакалаврський) | C34: Середня освіта (Українська мова і література. Зарубіжна література) / Середня освіта (Українська мова і література) | E34: Кафедра української мови і літератури та методик їх навчання | G34: Волянюк Інна Оверківна | Q34: лінгвістичний аналіз тексту | R34: 5 | S34: 5 | T34: 5 | U34: 5 | V34: 5 | W34: 5 | X34: 5 | Y34: 5 | Z34: 5 | AA34: 5 | AB34: 5 | AC34: 5 | AD34: 5 | AE34: 5 | AF34: 5 | AG34: 5 | AH34: 5 | AI34: 5 | AJ34: 5 | AK34: немає | AL34: =TRIM(F34&G34&H34&I34&J34&K34&L34&M34&N34&O34&P34) -> Волянюк Інна Оверківна | AM34: =IFERROR(AVERAGE(R34:AJ34),"") -> 5
A35: 46154.879 | B35: Перший (бакалаврський) | C35: Дошкільна освіта. Спеціальна освіта (Логопедія) / Дошкільна освіта | E35: Кафедра педагогіки, дошкільної та початкової освіти | J35: Доманюк Оксана Михайлівна | Q35: Логопедія | R35: 5 | S35: 5 | T35: 5 | U35: 5 | V35: 5 | W35: 5 | X35: 5 | Y35: 5 | Z35: 5 | AA35: 5 | AB35: 5 | AC35: 5 | AD35: 5 | AE35: 5 | AF35: 5 | AG35: 5 | AH35: 5 | AI35: 5 | AJ35: 5 | AK35: )) | AL35: =TRIM(F35&G35&H35&I35&J35&K35&L35&M35&N35&O35&P35) -> Доманюк Оксана Михайлівна | AM35: =IFERROR(AVERAGE(R35:AJ35),"") -> 5
A36: 46154.88 | B36: Перший (бакалаврський) | C36: Дошкільна освіта. Спеціальна освіта (Логопедія) / Дошкільна освіта | E36: Кафедра педагогіки, дошкільної та початкової освіти | J36: Доманюк Оксана Михайлівна | Q36: Навчально-педагогічна практика в групах раннього та дошкільного віку | R36: 5 | S36: 5 | T36: 5 | U36: 5 | V36: 5 | W36: 5 | X36: 5 | Y36: 5 | Z36: 5 | AA36: 5 | AB36: 5 | AC36: 5 | AD36: 5 | AE36: 5 | AF36: 5 | AG36: 5 | AH36: 5 | AI36: 5 | AJ36: 5 | AK36: Все влаштовує, та все зрозуміло | AL36: =TRIM(F36&G36&H36&I36&J36&K36&L36&M36&N36&O36&P36) -> Доманюк Оксана Михайлівна | AM36: =IFERROR(AVERAGE(R36:AJ36),"") -> 5
A37: 46154.88 | B37: Перший (бакалаврський) | C37: Середня освіта (Музичне мистецтво). Хореографія / Середня освіта (Музичне мистецтво) | E37: Кафедра мистецьких дисциплін та методик їх навчання | K37: Ратинська Інна Василівна | Q37: Хоровий клас та практикум з хором | R37: 5 | S37: 5 | T37: 5 | U37: 5 | V37: 5 | W37: 5 | X37: 5 | Y37: 5 | Z37: 5 | AA37: 5 | AB37: 5 | AC37: 5 | AD37: 5 | AE37: 5 | AF37: 5 | AG37: 5 | AH37: 5 | AI37: 5 | AJ37: 5 | AK37: Дуже хороший викладач, знавець своєї справи | AL37: =TRIM(F37&G37&H37&I37&J37&K37&L37&M37&N37&O37&P37) -> Ратинська Інна Василівна | AM37: =IFERROR(AVERAGE(R37:AJ37),"") -> 5
A38: 46154.88 | B38: Перший (бакалаврський) | C38: Початкова освіта. Англійська мова / Початкова освіта | E38: Кафедра педагогіки, дошкільної та початкової освіти | J38: Онищук Ірина Анатоліївна | Q38: Мет н-ня мист.осв.гал(образот.мист. з мет. н-ня) | R38: 5 | S38: 5 | T38: 5 | U38: 5 | V38: 5 | W38: 5 | X38: 5 | Y38: 5 | Z38: 5 | AA38: 5 | AB38: 5 | AC38: 5 | AD38: 5 | AE38: 5 | AF38: 5 | AG38: 5 | AH38: 5 | AI38: 5 | AJ38: 5 | AK38: Немає | AL38: =TRIM(F38&G38&H38&I38&J38&K38&L38&M38&N38&O38&P38) -> Онищук Ірина Анатоліївна | AM38: =IFERROR(AVERAGE(R38:AJ38),"") -> 5
A39: 46154.882 | B39: Перший (бакалаврський) | C39: Початкова освіта. Англійська мова / Початкова освіта | E39: Кафедра мистецьких дисциплін та методик їх навчання | K39: Томашівська Мар'яна Мирославівна | Q39: Мет н-ня мист.осв.гал(муз.мист. з мет. н-ня) | R39: 5 | S39: 5 | T39: 5 | U39: 5 | V39: 5 | W39: 5 | X39: 5 | Y39: 5 | Z39: 5 | AA39: 5 | AB39: 5 | AC39: 5 | AD39: 5 | AE39: 5 | AF39: 5 | AG39: 5 | AH39: 5 | AI39: 5 | AJ39: 5 | AK39: Немає | AL39: =TRIM(F39&G39&H39&I39&J39&K39&L39&M39&N39&O39&P39) -> Томашівська Мар'яна Мирославівна | AM39: =IFERROR(AVERAGE(R39:AJ39),"") -> 5
A40: 46154.882 | B40: Перший (бакалаврський) | C40: Дошкільна освіта. Спеціальна освіта (Логопедія) / Дошкільна освіта | E40: Кафедра педагогіки, дошкільної та початкової освіти | J40: Швець Оксана Вікторівна | Q40: Практика на 2 курсі | R40: 5 | S40: 5 | T40: 5 | U40: 5 | V40: 5 | W40: 5 | X40: 5 | Y40: 5 | Z40: 5 | AA40: 5 | AB40: 5 | AC40: 5 | AD40: 5 | AE40: 5 | AF40: 5 | AG40: 5 | AH40: 5 | AI40: 5 | AJ40: 5 | AK40: Не має | AL40: =TRIM(F40&G40&H40&I40&J40&K40&L40&M40&N40&O40&P40) -> Швець Оксана Вікторівна | AM40: =IFERROR(AVERAGE(R40:AJ40),"") -> 5
...
